BEGIN:VCALENDAR
VERSION:2.0
PRODID:-//Events Calendar - ECPv6.8.1//NONSGML v1.0//EN
CALSCALE:GREGORIAN
METHOD:PUBLISH
X-WR-CALNAME:Events Calendar
X-ORIGINAL-URL:https://events.mcu.edu.tw
X-WR-CALDESC:Events for Events Calendar
REFRESH-INTERVAL;VALUE=DURATION:PT1H
X-Robots-Tag:noindex
X-PUBLISHED-TTL:PT1H
BEGIN:VTIMEZONE
TZID:Asia/Taipei
BEGIN:STANDARD
TZOFFSETFROM:+0800
TZOFFSETTO:+0800
TZNAME:CST
DTSTART:20240101T000000
END:STANDARD
END:VTIMEZONE
BEGIN:VEVENT
DTSTART;TZID=Asia/Taipei:20251110T183000
DTEND;TZID=Asia/Taipei:20251121T130000
DTSTAMP:20260422T094428
CREATED:20251106T032419Z
LAST-MODIFIED:20251106T032419Z
UID:10001504-1762799400-1763730000@events.mcu.edu.tw
SUMMARY:羽球社 Badminton Club｜114新生盃羽球賽 2025 Freshmen Badminton Cup
DESCRIPTION:114學年度新生盃羽球賽即將展開，桃園校區將於11/10（一）至11/12（三）18:30–21:20率先登場，目前報名已截止；台北校區賽事則於11/17（一）至11/21（五）12:10–13:00開打，羽球愛好者們千萬別錯過這場屬於新生的熱血舞台！ \n台北校區部份，賽事即日起開放報名至11/12（三）截止，請點選此報名連結，報名資格限定本學年度入學新生，每組報名費300元，於比賽當天現場繳交。比賽地點位於F棟室內羽球場，賽程將於11/15（六）公告於IG【mcbc114_tp】，參賽者需提前10分鐘報到並攜帶學生證驗證身分，逾時未到者將取消資格。比賽將錄取前4至8組頒發獎金與獎狀，以鼓勵優秀表現。 \n此外，桃園校區賽程表已公告在羽球社instagram粉專，今年共有資工與數媒、心理、電機、資管與應日，以及建築等五大系聯隊展開激戰，初賽場地設於體育一館一樓。參賽同學請提前確認賽程並準時到場報到，攜帶學生證以利查驗。如有疑問，可洽桃園校區羽球社IG【mcubc114】。 \n羽球不僅是一場比賽，更是一場青春與汗水的交流。透過運動，新生們能在場上揮灑熱情、增進默契，也能在團隊合作中建立友誼與自信，歡迎全校師生到場觀賽應援，為自己的系代表隊加油打氣，讓熱血與喝采聲成為新學期最難忘的回憶！ \n2025 Academic Year Freshmen Badminton Cup is about to begin! Taoyuan Campus will kick off the competition first\, taking place from November 10 (Mon) to November 12 (Wed)\, 18:30–21:20. Registration for this campus has already closed. Meanwhile\, Taipei Campus tournament will be held from November 17 (Mon) to November 21 (Fri)\, 12:10–13:00—a thrilling stage for all badminton-loving freshmen to shine! \nFor Taipei Campus\, registration is open until November 12 (Wed). Please register via the provided link. Eligibility is limited to first-year students of 2025 academic year\, and the registration fee is NT$300 per team\, payable on-site on the day of the competition. Matches will take place at F Building Indoor Badminton Court\, and the tournament schedule will be announced on November 15 (Sat) via the club’s Instagram @mcbc114_tp. Participants must check in 10 minutes before their match and present their student ID for verification. Late arrivals will be disqualified. The top 4–8 teams will receive cash prizes and certificates in recognition of their outstanding performances. \nFor Taoyuan Campus\, the tournament schedule has been announced on the club’s official Instagram @mcubc114. This year\, five departmental teams—Computer Science and Digital Media Design\, Psychology\, Electrical Engineering\, Information Management and Applied Japanese\, and Architecture—will compete in an exciting showdown. Preliminary matches will be held at 1/F of Sports Hall I. Contestants should confirm their match times in advance\, arrive punctually for check-in\, and bring their student ID for verification. \nBadminton is more than just a competition—it’s an exchange of youth\, energy and passion. Through sports\, freshmen can express their vitality on the court\, build teamwork\, and form lasting friendships and confidence. All faculty members and students are warmly invited to come cheer for their departmental teams—let’s fill the courts with applause\, energy\, and unforgettable memories for the new semester!
URL:https://events.mcu.edu.tw/event/%e7%be%bd%e7%90%83%e7%a4%be-badminton-club%ef%bd%9c114%e6%96%b0%e7%94%9f%e7%9b%83%e7%be%bd%e7%90%83%e8%b3%bd-2025-freshmen-badminton-cup/
LOCATION:台北校區Taipei Campus\, 中山北路五段250號\, 台北市\, Taiwan
CATEGORIES:羽球社
ATTACH;FMTTYPE=image/jpeg:https://events.mcu.edu.tw/wp-content/uploads/2025/11/1250mcubc114.jpg
END:VEVENT
BEGIN:VEVENT
DTSTART;TZID=Asia/Taipei:20241218T183000
DTEND;TZID=Asia/Taipei:20241218T203000
DTSTAMP:20260422T094428
CREATED:20241212T031346Z
LAST-MODIFIED:20241212T031346Z
UID:10000766-1734546600-1734553800@events.mcu.edu.tw
SUMMARY:資訊學院 School of Information & Technology｜資訊之夜 Information Night
DESCRIPTION:資訊學院年度盛事「資訊之夜」將於12/18（三）18:30在桃園校區羽球場盛大登場！本次活動由電子、資工、人智、資管及電通五大系聯合主辦，匯集絢麗的燈光秀、熱血的舞台表演以及多樣化的互動小遊戲，現場氣氛勢必火熱沸騰，更少不了讓大家最期待的豐富抽獎活動，保證讓所有參與的同學玩到瘋、笑到停不下來！ \n今年的資訊之夜別出心裁，特別推出五大系聯手設計的「限量精美門票」，每一款風格各限量100張，極具收藏價值。門票價格為NT$150，資訊學院已繳系費的同學購買第一張門票更享NT$50優惠！目前門票預售熱烈進行中，預購後可於12/11-17，每日12:00-12:50至S2平台領取。記得手刀搶購，門票數量有限，錯過可就遺憾了！ \n桃園校區的同學們，準備好迎接這場熱鬧非凡的年度盛宴吧！快揪上三五好友，一起來度過一個充滿歡樂與驚喜的資訊之夜！有任何疑問，可私訊活動官方IG【tzu_damn_nt】。門票預售連結：https://reurl.cc/aZa6EG。今年的資訊之夜，等大家一起狂歡到底！ \nThe annual event of the School of Information & Technology\, “Information Night”\, will be grandly launched at Taoyuan Campus Badminton Court at 18:30 on December 18 (Wednesday)! This event is jointly organized by the five major departments of Electronics Engineering\, Computer Science & Information Engineering\, AAI\, Information Management and ITE. It brings together gorgeous light shows\, passionate stage performances and diverse interactive mini-games. The atmosphere at the scene is bound to be heated\, and it is indispensable to make everyone The most anticipated rich lottery ensures that all participating students will go crazy and laugh until they can’t stop! \nThis year’s Information Night was unique and launched a “limited edition of exquisite tickets” jointly designed by five major series. Each style is limited to 100 tickets\, which is of great collection value. The ticket price is NT$150. Students who have paid department fees from School of Information & Technology will enjoy an NT$50 discount when purchasing their first ticket! Ticket pre-sale is currently in full swing. After pre-order\, you can pick it up from 12/11-17\, 12:00-12:50 to the S2 platform every day. Remember to rush to buy\, the number of tickets is limited\, but it’s a pity if you miss it! \nStudents on Taoyuan campus\, get ready for this lively annual feast! Grab three or five friends and spend a night of information full of joy and surprises together! If you have any questions\, you can send a DM to the official IG【tzu_damn_nt】. Ticket pre-sale link: https://reurl.cc/aZa6EG.
URL:https://events.mcu.edu.tw/event/%e8%b3%87%e8%a8%8a%e5%ad%b8%e9%99%a2-school-of-information-technology%ef%bd%9c%e8%b3%87%e8%a8%8a%e4%b9%8b%e5%a4%9c-information-night/
LOCATION:桃園校區Taoyuan Campus\, 龜山區德明路5號\, 桃園市\, Taiwan
CATEGORIES:電機資訊學院
ATTACH;FMTTYPE=image/jpeg:https://events.mcu.edu.tw/wp-content/uploads/2024/12/1218期資訊之夜電子報配圖.jpg
END:VEVENT
BEGIN:VEVENT
DTSTART;TZID=Asia/Taipei:20240524T130000
DTEND;TZID=Asia/Taipei:20240524T170000
DTSTAMP:20260422T094428
CREATED:20240322T055122Z
LAST-MODIFIED:20240322T055410Z
UID:10000103-1716555600-1716570000@events.mcu.edu.tw
SUMMARY:足球社 Futsal Club | 五人制足球比賽 Futsal Match
DESCRIPTION:藉由足球賽事，讓銘傳兩校區全校師生，不分男女、年紀、國籍，一同體驗足球的樂趣與規則，帶動足球在校園中的風氣，且使各系透過比賽的交流建立彼此的友誼和學習團體合作。 \nThrough football matches\, students and faculty from both campuses of Ming Chuan University\, regardless of gender\, age\, or nationality\, can experience the joy and rules of football together. This initiative aims to promote the popularity of football on campus and foster friendships among departments through sportsmanship and teamwork.
URL:https://events.mcu.edu.tw/event/%e8%b6%b3%e7%90%83%e7%a4%be-futsal-club-%e4%ba%94%e4%ba%ba%e5%88%b6%e8%b6%b3%e7%90%83%e6%af%94%e8%b3%bd-futsal-match/
LOCATION:室內羽球場
CATEGORIES:校內競賽
ATTACH;FMTTYPE=image/jpeg:https://events.mcu.edu.tw/wp-content/uploads/2024/03/Futsal.jpg
END:VEVENT
END:VCALENDAR