BEGIN:VCALENDAR
VERSION:2.0
PRODID:-//Events Calendar - ECPv6.8.1//NONSGML v1.0//EN
CALSCALE:GREGORIAN
METHOD:PUBLISH
X-ORIGINAL-URL:https://events.mcu.edu.tw
X-WR-CALDESC:Events for Events Calendar
REFRESH-INTERVAL;VALUE=DURATION:PT1H
X-Robots-Tag:noindex
X-PUBLISHED-TTL:PT1H
BEGIN:VTIMEZONE
TZID:Asia/Taipei
BEGIN:STANDARD
TZOFFSETFROM:+0800
TZOFFSETTO:+0800
TZNAME:CST
DTSTART:20240101T000000
END:STANDARD
END:VTIMEZONE
BEGIN:VEVENT
DTSTART;TZID=Asia/Taipei:20240924T080000
DTEND;TZID=Asia/Taipei:20240925T235900
DTSTAMP:20260425T061246
CREATED:20240924T004741Z
LAST-MODIFIED:20240924T004741Z
UID:10000519-1727164800-1727308740@events.mcu.edu.tw
SUMMARY:攝影美學社 Photo Club｜攝影實作暨外拍講座 Photography Workshop and Outdoor Shooting Lecture
DESCRIPTION:這學期的第一次社遊我們要帶大家去的就是<士林官邸> \n在這個充滿歷史與自然之美的地方，將帶著相機和滿滿的熱情 \n來一場攝影與自然的完美結合，一起享受野餐與外拍的樂趣！ \nFor our first club outing of the semester\, we’re heading to Shilin Residence! \nIn this beautiful place full of history and natural beauty\, we’ll be bringing our cameras and a ton of enthusiasm for a perfect combination of photography and nature. Join us for a fun day of picnicking and outdoor shooting! \n活動資訊 \n🗓 活動日期 Date：2024/09/28 \n🕘 集合時間 Time：14:00-14:30 \n📍 集合地點 Meeting Point：銘傳大學台北校區 MCU Taipei Campus \n💰收費 Fee：社員 Members NT$50，非社員 Non-members NT$100 \n14:00 銘傳大學台北校區狗洞集合 Meet at Taipei Campus\n14:00-14:30 集合社員、簽到 Member check-in and registration\n14:30-14:50 步行至士林官邸 Walk to Shilin Residence\n14:50-15:40 由講師講解教學 Lecture by our instructor\n15:40-17:30 社員自由拍攝 Free photography time for members\n17:30-18:00於士林官邸就地解散 Dismissal at Shilin Residence \n🔗報名表單網址 Registration Form：https://www.surveycake.com/s/mg0Xl \n⚠️報名截止時間 Registration Deadline：2024/09/25（三 Wednesday）23:59 \n有任何問題都可以私訊粉專 小編會熱情回覆大家的 If you have any questions\, feel free to message us on our fan page\, and our friendly admin will be happy to assist you!😉
URL:https://events.mcu.edu.tw/event/%e6%94%9d%e5%bd%b1%e7%be%8e%e5%ad%b8%e7%a4%be-photo-club%ef%bd%9c%e6%94%9d%e5%bd%b1%e5%af%a6%e4%bd%9c%e6%9a%a8%e5%a4%96%e6%8b%8d%e8%ac%9b%e5%ba%a7-photography-workshop-and-outdoor-shooting-lecture/
LOCATION:士林官邸\, 士林區福林路60號\, 台北市\, Taiwan
CATEGORIES:攝影美學社
ATTACH;FMTTYPE=image/jpeg:https://events.mcu.edu.tw/wp-content/uploads/2024/03/攝影美學社.jpg
END:VEVENT
END:VCALENDAR