BEGIN:VCALENDAR
VERSION:2.0
PRODID:-//Events Calendar - ECPv6.8.1//NONSGML v1.0//EN
CALSCALE:GREGORIAN
METHOD:PUBLISH
X-WR-CALNAME:Events Calendar
X-ORIGINAL-URL:https://events.mcu.edu.tw
X-WR-CALDESC:Events for Events Calendar
REFRESH-INTERVAL;VALUE=DURATION:PT1H
X-Robots-Tag:noindex
X-PUBLISHED-TTL:PT1H
BEGIN:VTIMEZONE
TZID:Asia/Taipei
BEGIN:STANDARD
TZOFFSETFROM:+0800
TZOFFSETTO:+0800
TZNAME:CST
DTSTART:20260101T000000
END:STANDARD
END:VTIMEZONE
BEGIN:VEVENT
DTSTART;TZID=Asia/Taipei:20260330T080000
DTEND;TZID=Asia/Taipei:20260420T170000
DTSTAMP:20260420T063715
CREATED:20260330T062542Z
LAST-MODIFIED:20260330T062542Z
UID:10001606-1774857600-1776704400@events.mcu.edu.tw
SUMMARY:2026 韓國姊妹校課程與暑期營隊 2026 Korea Sister School Programs & Summer Camps
DESCRIPTION:活動資訊：2026 韓國姊妹校課程與暑期營隊\n想在 2026 年夏天來場跨國學習之旅嗎？銘傳大學國際教育交流處與漢陽、中央、嘉泉大學合作，推出一系列線上與實體計畫。無論是想在家學韓語，還是飛往首爾體驗韓流文化，現在就開始規劃吧！ \n\n\n官方詳情： 詳洽國際教育交流處 (IEE) 官網 \n\n\n1. 線上課程：漢陽大學 HOPE 計畫\n\n\n特色： 完全免費。涵蓋韓語、文化、商業、科學等領域（每人限選 2 門）。 \n\n\n暑期報名截止： 2026/06/12 \n\n\n課程期間： 2026/06/29 – 07/24 \n\n\n方式： 須自行至官網報名並上傳英文在學證明。 \n\n\n2. 實體營隊：韓國暑期學校\n\n\n漢陽大學 (Hanyang)： \n\n\n期間：06/28 – 07/25 \n\n\n亮點：百門英語授課課程、首爾與濟州島文化體驗、5週「HYLION 跨國企劃」（含日本東京）。 \n\n\n報名截止：2026/04/20 \n\n\n\n\n中央/嘉泉大學 (CAU/Gachon)： \n\n\n期間：6月至8月（視不同梯次而定）。 \n\n\n內容：韓語學習、韓流文化體驗。 \n\n\n報名截止：2026/05/04 \n\n\n\n\n3. 報名要求與提醒\n\n\n語言能力： 建議具備 TOEIC 500 分以上。 \n\n\n應繳文件： 須於期限內繳交「學生切結書」。 \n\n\n費用說明： 機票、保險及生活費需自行負擔。 \n\n\nApply Now: 2026 Korea Sister School Programs & Summer Camps\nStep out of the classroom and go global! MCU’s International Education and Exchange (IEE) Office has partnered with Hanyang\, Chung-Ang (CAU)\, and Gachon University to offer diverse exchange programs. Whether through online courses or on-site summer camps\, it’s time to expand your cultural horizons! \n\n\nOfficial Website: Please visit the IEE Office website for more details. \n\n\n1. Online Learning: Hanyang University HOPE Program\n\n\nHighlights: Free of charge. Topics include Korean language\, culture\, business\, science\, etc. (Max 2 courses per student). \n\n\nSummer Application Deadline: June 12\, 2026 \n\n\nProgram Dates: June 29 – July 24\, 2026 \n\n\nHow to Apply: Register via the official website and upload an English Certificate of Enrollment. \n\n\n2. On-Site Programs: Korean Summer Schools\n\n\nHanyang University: \n\n\nDates: June 28 – July 25 \n\n\nHighlights: Over 100 English-taught courses\, culture trips to Seoul & Jeju Island\, and a 5-week “HYLION Cross-border Project” (including Tokyo). \n\n\nApplication Deadline: April 20\, 2026 \n\n\n\n\nChung-Ang (CAU) & Gachon University: \n\n\nDates: June to August (multiple sessions available). \n\n\nContent: Korean language courses and K-Culture experiences. \n\n\nApplication Deadline: May 4\, 2026 \n\n\n\n\n3. Requirements & Reminders\n\n\nEnglish Proficiency: TOEIC 500 or above is recommended. \n\n\nRequired Document: A signed “Student Affidavit/Waiver” must be submitted by the deadline. \n\n\nExpenses: Students are responsible for their own airfare\, insurance\, and personal living expenses.
URL:https://events.mcu.edu.tw/event/2026-%e9%9f%93%e5%9c%8b%e5%a7%8a%e5%a6%b9%e6%a0%a1%e8%aa%b2%e7%a8%8b%e8%88%87%e6%9a%91%e6%9c%9f%e7%87%9f%e9%9a%8a-2026-korea-sister-school-programs-summer-camps/
LOCATION:台北校區Taipei Campus\, 中山北路五段250號\, 台北市\, Taiwan
ATTACH;FMTTYPE=image/jpeg:https://events.mcu.edu.tw/wp-content/uploads/2026/03/活動3.jpg
END:VEVENT
BEGIN:VEVENT
DTSTART;TZID=Asia/Taipei:20260410T120000
DTEND;TZID=Asia/Taipei:20260508T120000
DTSTAMP:20260420T063715
CREATED:20260330T060853Z
LAST-MODIFIED:20260330T060853Z
UID:10001605-1775822400-1778241600@events.mcu.edu.tw
SUMMARY:銘傳大學台北校區服務學習工作坊 Service-Learning Workshops (MCU Taipei Campus)
DESCRIPTION:活動資訊：銘傳大學台北校區服務學習工作坊\n想從手作中探索服務的深層意義嗎？職涯發展中心特別規劃兩場工作坊，結合心理觀察與永續議題，參與者不僅能親手製作獨一無二的作品，現場還備有餐盒喔！ \n\n\n報名方式： 請至銘傳大學 eForm 平台填寫表單報名。 \n\n\n名額限制： 每場次上限 30 人（名額有限，額滿為止）。 \n\n\n活動福利： 每人均包含一份手作材料及一個餐盒。 \n\n\n第一場：服務的另一種打開方式\n\n\n時間： 2026/04/10 (五) 12:10 – 14:00 \n\n\n地點： 台北校區 B603 教室 \n\n\n講師： 王琪 心理諮商師 \n\n\n內容： 結合心理學與服務理念，透過實作彩沙蠟燭，學習觀察情緒並將服務理念轉化為具體行動。 \n\n\n第二場：服務不只是說說\n\n\n時間： 2026/05/08 (五) 12:10 – 14:00 \n\n\n地點： 台北校區 D105 教室 \n\n\n講師： 葉洋 紙藝師 \n\n\n內容： 探討永續與循環議題，手作薰香循環紙漂浮卡（結合回收紙與精油），思考服務與環境的連結。 \n\n\nService-Learning Workshops (MCU Taipei Campus)\nExplore the true meaning of “service” through hands-on art and psychology! The Career Development Center presents two workshops combining mental reflection\, sustainability\, and creative crafts. \n\n\nRegistration: Sign up via the MCU eForm platform. \n\n\nCapacity: Limited to 30 participants per session (First-come\, first-served). \n\n\nIncentives: Each participant will receive DIY materials and a lunch box. \n\n\nSession 1: Another Way to Open “Service”\n\n\nDate & Time: April 10\, 2026 (Fri) 12:10 – 14:00 \n\n\nLocation: Room B603\, Taipei Campus \n\n\nSpeaker: Wang Chi (Counseling Psychologist) \n\n\nActivity: Discover the link between psychology and service by creating Layered Sand Candles. Through this creative process\, you will learn to observe your emotions and transform your thoughts into concrete service actions. \n\n\nSession 2: Service is More Than Just Words\n\n\nDate & Time: May 8\, 2026 (Fri) 12:10 – 14:00 \n\n\nLocation: Room D105\, Taipei Campus \n\n\nSpeaker: Yeh Yang (Paper Artist) \n\n\nActivity: Reflect on the essence of service through the lens of sustainability. You will create an Aroma Recycled Paper Floating Card using essential oils and recycled paper\, exploring the relationship between environmental care and the spirit of service.
URL:https://events.mcu.edu.tw/event/%e9%8a%98%e5%82%b3%e5%a4%a7%e5%ad%b8%e5%8f%b0%e5%8c%97%e6%a0%a1%e5%8d%80%e6%9c%8d%e5%8b%99%e5%ad%b8%e7%bf%92%e5%b7%a5%e4%bd%9c%e5%9d%8a-service-learning-workshops-mcu-taipei-campus/
LOCATION:台北校區Taipei Campus\, 中山北路五段250號\, 台北市\, Taiwan
ATTACH;FMTTYPE=image/jpeg:https://events.mcu.edu.tw/wp-content/uploads/2026/03/活動2.jpg
ORGANIZER;CN="%E5%89%8D%E7%A8%8B%E8%A6%8F%E5%8A%83%E8%99%95%E8%81%B7%E6%B6%AF%E7%99%BC%E5%B1%95%E4%B8%AD%E5%BF%83":MAILTO:cya@mail.mcu.edu.tw
END:VEVENT
BEGIN:VEVENT
DTSTART;VALUE=DATE:20260413
DTEND;VALUE=DATE:20260425
DTSTAMP:20260420T063715
CREATED:20260415T074101Z
LAST-MODIFIED:20260415T074101Z
UID:10001612-1776038400-1777075199@events.mcu.edu.tw
SUMMARY:圖書館 423 世界書香日「字遊意志」MCU Library: April 23 World Book Day – "Will to Read"
DESCRIPTION:圖書館 423 世界書香日「字遊意志」\n在資訊爆炸的時代，閱讀是奪回思考主權的最佳方式。圖書館邀請全校師生參與「字遊意志」系列活動，透過實體書展、借閱挑戰與電子書賓果，重新發現閱讀的自由！ \n\n\n活動日期： 2026/04/13 (一) – 04/24 (五) \n\n\n活動地點： 台北校區圖書館、桃園校區圖書館、金門圖書室 \n\n\n三大活動亮點：\n1. 【主題書展】字遊意志 \n\n\n內容： 精選 OpenBook 得獎好書與 2025 年度暢銷書，帶你跨出閱讀舒適圈，發現新視角。 \n\n\n2. 【借閱活動】字選好書（實體書） \n\n\n任務： 在社群貼文留言推薦一本館藏好書並標記好友，同時至新書區借閱 3 本書。 \n\n\n獎勵： 至櫃台出示留言畫面，即可兌換**「台灣人徽章」**一個（數量有限）。 \n\n\n3. 【電子書任務】字得其樂（數位閱讀） \n\n\n任務： 根據「賓果地圖」主題借閱電子書，完成 2 條連線即可獲得抽獎資格。 \n\n\n加碼： 每人最高可連 8 條線，累積 4 次抽獎機會！ \n\n\nMCU Library: April 23 World Book Day – “Will to Read”\nIn an era of information overload\, reading is the best way to regain your independent thinking. The MCU Library invites all students and faculty to join the “Will to Read” series. Discover the freedom of literature through book exhibitions\, borrowing challenges\, and E-book Bingo! \n\n\nEvent Dates: April 13 (Mon) – April 24 (Fri)\, 2026 \n\n\nLocations: Taipei Campus Library\, Taoyuan Campus Library\, Kinmen Library \n\n\nThree Main Highlights:\n1. 【Book Exhibition】The Will to Read \n\n\nContent: Featuring OpenBook award winners and 2025 bestsellers. Step out of your reading comfort zone and discover new perspectives. \n\n\n2. 【Borrowing Challenge】Pick Your Page (Physical Books) \n\n\nTask: Comment on the library’s social media post to recommend a book from our collection and tag a friend. Then\, borrow 3 books from the “New Arrivals” section. \n\n\nReward: Show your comment at the counter to receive a “Taiwanese Culture Badge” (Limited quantity). \n\n\n3. 【E-book Mission】Bingo Fun (Digital Reading) \n\n\nTask: Borrow E-books based on the “Bingo Map” themes. Complete at least 2 lines (horizontal\, vertical\, or diagonal) to enter the lucky draw. \n\n\nBonus: You can complete up to 8 lines for a total of 4 lucky draw entries!
URL:https://events.mcu.edu.tw/event/%e5%9c%96%e6%9b%b8%e9%a4%a8-423-%e4%b8%96%e7%95%8c%e6%9b%b8%e9%a6%99%e6%97%a5%e3%80%8c%e5%ad%97%e9%81%8a%e6%84%8f%e5%bf%97%e3%80%8dmcu-library-april-23-world-book-day-will-to-read/
LOCATION:台北校區Taipei Campus\, 中山北路五段250號\, 台北市\, Taiwan
ATTACH;FMTTYPE=image/jpeg:https://events.mcu.edu.tw/wp-content/uploads/2026/04/世界書香日.jpg
END:VEVENT
END:VCALENDAR