BEGIN:VCALENDAR
VERSION:2.0
PRODID:-//Events Calendar - ECPv6.8.1//NONSGML v1.0//EN
CALSCALE:GREGORIAN
METHOD:PUBLISH
X-WR-CALNAME:Events Calendar
X-ORIGINAL-URL:https://events.mcu.edu.tw
X-WR-CALDESC:Events for Events Calendar
REFRESH-INTERVAL;VALUE=DURATION:PT1H
X-Robots-Tag:noindex
X-PUBLISHED-TTL:PT1H
BEGIN:VTIMEZONE
TZID:Asia/Taipei
BEGIN:STANDARD
TZOFFSETFROM:+0800
TZOFFSETTO:+0800
TZNAME:CST
DTSTART:20240101T000000
END:STANDARD
END:VTIMEZONE
BEGIN:VEVENT
DTSTART;TZID=Asia/Taipei:20240823T190000
DTEND;TZID=Asia/Taipei:20240831T153000
DTSTAMP:20260422T095954
CREATED:20240820T020406Z
LAST-MODIFIED:20240820T020406Z
UID:10000420-1724439600-1725118200@events.mcu.edu.tw
SUMMARY:釀聲音 O soni no pisakani' 擊樂 X 阿美族傳統釀造 Brewing Sound: O soni no pisakani' Percussion X Amis Traditional Brewing
DESCRIPTION:阿美族青年風曦提案帶領的作品。釀酒與音樂創作擁有許多共通點：都把眾多個別元素控制在手，並且產生甜美的結果。遵循傳統技術的釀酒，更蘊藏著原住民族對於在外打拚族人的回饋之意，搭配祭典歌舞的現場呈現，觀眾將隨著風曦「用聲音釀酒」，透過嗅覺、聽覺與視覺等感官體驗，探尋這段充滿感謝與期盼的旅程，節目總長約50分鐘。 \nThis performance is led by Amis youth風曦. Brewing and music composition share many similarities: both involve controlling various individual elements to produce a sweet result. Traditional brewing techniques embody the indigenous people’s spirit of giving back to those who work far from home. Accompanied by live ceremonial songs and dances\, the audience will join Feng Xi in “brewing with sound\,” experiencing a journey filled with gratitude and hope through their senses of smell\, hearing\, and sight. The total program duration is approximately 50 minutes. \n演出地點 Venue｜ \n【台北 Taipei】PLAYground南村劇場 PLAYground Theater \n【花蓮 Hualien】花蓮縣臺灣原住民族文化館 Local Cultural Hall\, Hualien \n演出時間 Date & Time｜ \n【台北 Taipei】2024/8/23（五 Friday）19:00、2024/8/24（六 Saturday）14:30、19:00 \n【花蓮 Hualien】2024/8/31（六 Saturday）14:00 \n票價與折扣 Fee & Discount｜ \n【一般票 General Admission】 \n台北場 Taipei：NT$500／花蓮場 Hualien：NT$400 \n\n\n\n（釀聲音之友憑優惠碼享8折 Friends of Brewing Sound can enjoy a 20% discount with a promo code） \n【藝文贊助票 Arts Patron Ticket】 \n台北場限定 Available only for Taipei：NT$700 \n（含沉浸座位區、純釀飲品與小禮，每場限量20張 Includes immersive seating\, a special brewed beverage\, and a small gift\, limited to 20 tickets per show） \n報名 To apply：https://www.accupass.com/eflow/ticket/2407040831521388542561?utm_campaign=accu_banner&utm_medium=home_north&utm_source=Web \n製作群 Production Team｜ \n創意發想與聲音設計 Creative Concept and Sound Design：風曦\n導演 Director：迦瑙．伊法蘭\n視覺設計 Visual Design：鄧敦方\n文化顧問 Cultural Consultant：舒米．如妮 \n注意事項 Notes｜ \n\n本節目中含有產生煙霧粉塵之橋段，易過敏者建議配戴口罩入場。\n購買藝文贊助票享有含酒精性飲品，請遵守「酒後不開車、開車不喝酒」之原則。\n本節目於開始前30分鐘進行驗票入場。\n本節目無中場休息。\n花蓮場辦理演後座談會 。\n主視覺海報上8/24下午演出時間14:00為編輯有誤，實際演出時間為14:30，以售票平台時間為主。\n\n\nThis program includes scenes with smoke and dust; those prone to allergies are advised to wear a mask.\nArts Patron Ticket holders will receive an alcoholic beverage. Please adhere to the “Don’t drink and drive” principle.\nTicket verification and entry begin 30 minutes before the program starts.\nThere will be no intermission during the program.\nA post-performance discussion will be held at the Hualien venue.\nPlease note that the time on the main visual poster for the 8/24 afternoon performance is incorrectly listed as 14:00. The correct time is 14:30\, as indicated on the ticketing platform.
URL:https://events.mcu.edu.tw/event/%e9%87%80%e8%81%b2%e9%9f%b3-o-soni-no-pisakani-%e6%93%8a%e6%a8%82-x-%e9%98%bf%e7%be%8e%e6%97%8f%e5%82%b3%e7%b5%b1%e9%87%80%e9%80%a0-brewing-sound-o-soni-no-pisakani-percussion-x-amis-traditional/
LOCATION:PLAYground南村劇場\, 信義區松勤街56號\, 台北市\, Taiwan
CATEGORIES:ACCUPASS,釀聲音
ATTACH;FMTTYPE=image/png:https://events.mcu.edu.tw/wp-content/uploads/2024/08/26-1.png
END:VEVENT
END:VCALENDAR