BEGIN:VCALENDAR
VERSION:2.0
PRODID:-//Events Calendar - ECPv6.8.1//NONSGML v1.0//EN
CALSCALE:GREGORIAN
METHOD:PUBLISH
X-WR-CALNAME:Events Calendar
X-ORIGINAL-URL:https://events.mcu.edu.tw
X-WR-CALDESC:Events for Events Calendar
REFRESH-INTERVAL;VALUE=DURATION:PT1H
X-Robots-Tag:noindex
X-PUBLISHED-TTL:PT1H
BEGIN:VTIMEZONE
TZID:Asia/Taipei
BEGIN:STANDARD
TZOFFSETFROM:+0800
TZOFFSETTO:+0800
TZNAME:CST
DTSTART:20250101T000000
END:STANDARD
END:VTIMEZONE
BEGIN:VEVENT
DTSTART;TZID=Asia/Taipei:20250421T090000
DTEND;TZID=Asia/Taipei:20250425T120000
DTSTAMP:20260426T100913
CREATED:20250421T082157Z
LAST-MODIFIED:20250421T082157Z
UID:10001032-1745226000-1745582400@events.mcu.edu.tw
SUMMARY:學生會 Student Association｜名人講座 Guest Lecture─陳侯勳老師 Mr. Ho-Hsun Chen
DESCRIPTION:桃園校區學生會將於4/29（二）14:00至16:00在P101會議室舉辦「名人講座」，特別邀請業界講師陳侯勳老師主講【溝通與談判祕笈】，透過職場實戰經驗與深入淺出的解析，帶領同學掌握有效溝通與談判的核心技巧，強化職場應對能力。講座現場提供茶點，建議提前入場食用，演講開始後禁止飲食。 \n此次活動限額180人，即日起開放線上報名，至4/25（五）中午12:00截止，完成表單填寫並收到報名成功通知信者即為報名成功。歡迎對職涯發展有興趣的同學踴躍報名參加，提前卡位搶先學習實用祕笈。 \n桃園校區學生會表示，希望透過本次講座，鼓勵同學勇敢邁出職涯第一步，從中啟發思考、提升自我價值，為未來奠定更堅實的基礎。如有任何疑問，歡迎私訊Instagram專頁【mcusa_ty】洽詢。 \nThe Student Association of Taoyuan Campus will be hosting a guest lecture on Tuesday\, April 29\, from 14:00 to 16:00 in Room P101. We are honored to invite industry professional Mr. Ho-Hsun Chen to deliver a talk titled “Secrets of Communication and Negotiation”. Drawing from his real-world workplace experience and insightful analysis\, Mr. Chen will guide students in mastering key communication and negotiation techniques essential for success in the professional world. \nLight refreshments will be provided at the venue; attendees are encouraged to arrive early to enjoy them\, as food and beverages will not be allowed once the lecture begins. \nThe event is limited to 180 participants. Online registration is open now and will close at 12:00 on Friday\, April 25. Students who complete the registration form and receive a confirmation email will be considered successfully registered. We warmly welcome all students interested in career development to sign up and secure their spot early for this valuable learning opportunity. \nThe Taoyuan Campus Student Association hopes this lecture will inspire students to take their first bold steps into the workforce\, encouraging self-reflection and personal growth while laying a solid foundation for the future. \nFor questions or further information\, feel free to message the Instagram page @mcusa_ty. \n報名表單 Registration form：https://forms.gle/2v8uEB5bcHbv5KGC9
URL:https://events.mcu.edu.tw/event/%e5%ad%b8%e7%94%9f%e6%9c%83-student-association%ef%bd%9c%e5%90%8d%e4%ba%ba%e8%ac%9b%e5%ba%a7-guest-lecture%e2%94%80%e9%99%b3%e4%be%af%e5%8b%b3%e8%80%81%e5%b8%ab-mr-ho-hsun-chen/
LOCATION:桃園校區Taoyuan Campus\, 龜山區德明路5號\, 桃園市\, Taiwan
CATEGORIES:學生會
ATTACH;FMTTYPE=image/jpeg:https://events.mcu.edu.tw/wp-content/uploads/2025/04/1232期桃園學生會電子報配圖.jpg
END:VEVENT
END:VCALENDAR