BEGIN:VCALENDAR
VERSION:2.0
PRODID:-//Events Calendar - ECPv6.8.1//NONSGML v1.0//EN
CALSCALE:GREGORIAN
METHOD:PUBLISH
X-WR-CALNAME:Events Calendar
X-ORIGINAL-URL:https://events.mcu.edu.tw
X-WR-CALDESC:Events for Events Calendar
REFRESH-INTERVAL;VALUE=DURATION:PT1H
X-Robots-Tag:noindex
X-PUBLISHED-TTL:PT1H
BEGIN:VTIMEZONE
TZID:Asia/Taipei
BEGIN:STANDARD
TZOFFSETFROM:+0800
TZOFFSETTO:+0800
TZNAME:CST
DTSTART:20250101T000000
END:STANDARD
END:VTIMEZONE
BEGIN:VEVENT
DTSTART;TZID=Asia/Taipei:20251108T190000
DTEND;TZID=Asia/Taipei:20251108T220000
DTSTAMP:20260424T012137
CREATED:20251030T063259Z
LAST-MODIFIED:20251030T063259Z
UID:10001493-1762628400-1762639200@events.mcu.edu.tw
SUMMARY:微醺畫派觸覺版 Tipsy Impressionist: Tactile Art Workshop—從觸覺探索創作 Creating Through Touch
DESCRIPTION:在酒精微醺裡恣意創作，為生活著上屬於你的色彩 \n在放鬆裡擁抱感覺，讓觸感決定方向。\n再藉一杯杯調酒豐盈心靈。\n用色彩和微醺，把冒險畫進生活裡！ \nUnleash your creativity under a pleasant buzz and add your own colors to life.\nRelax\, embrace sensations\, and let your sense of touch guide your art —\nsip by sip\, let cocktails enrich your soul\,\nand paint adventure into your everyday life with hues and a hint of tipsiness! \n \n🎨 創意繪畫｜從「觸感」出發，以顏料及恆隆行廢棄電器零件為媒材創作，用你的冒險精神，突破傳統「美」的定義！\n🍹 調酒助興｜「邊創作邊喝酒」，多款精緻調酒，讓微醺感放大你的創作思緒。 \n※活動亦有提供軟性飲品選擇，請於報名問卷時註記。 \n🎨 Creative Painting｜From Touch to Creation\nStarting from “touch”\, this workshop combines acrylic paints with upcycled electrical parts from Hengstyle to challenge traditional ideas of “beauty” through tactile exploration and artistic adventure. \n🍹 Cocktails & Creativity｜Sip While You Paint\nEnjoy a selection of exquisite cocktails designed to enhance your creativity as you paint. \n(Non-alcoholic drinks are also available—please indicate your choice when registering.) \n \n創作媒材：壓克力顏料、廢棄電器零件 \n塗、抹、擦、磨、描、黏\n帶你用不同的觸感、顛覆傳統的手法，完成色彩斑斕的作品！ \n當顏料碰上金屬，框架也變得模糊。\n多重感官的「冒險」讓廢棄重生，也讓「美」被重新定義！ \nMaterials: Acrylic paints\, recycled electrical components \nSmear\, rub\, press\, scrape\, draw\, and glue —\nexperience art through different tactile sensations and unconventional techniques to create your own vivid masterpiece!\nWhen paint meets metal\, boundaries blur — giving rebirth to discarded objects and redefining what “beauty” means through a multi-sensory adventure. \n \n｜活動流程 Event Schedule｜ \n\n報到\n領取迎賓特調\n65週年系列活動簡介：「冒險」是什麼？\n繪畫引導及選擇永續媒材：介紹零件、協助大家組合搭配\n彩繪開始：一邊微醺品酒，一邊展開從觸覺開始的創作旅程\n參與者作品分享\n\n\nCheck-in & Welcome Cocktail\nIntroduction to the 65th Anniversary theme: “What is Adventure?”\nPainting Guidance & Sustainable Materials Introduction\nPainting Session: Create through touch while enjoying your drink\nSharing of participants’ artworks\n\n｜活動資訊 Event Information｜ \n✔️ 時間｜2025年11月8日（六）19:00 – 22:00 \n✔️ 地點｜hengstyle恆隆行概念店 zonezone（台北市內湖區洲子街82號1樓） \n✔️ 報名｜NT$850 \n✔️ 內容｜◆ 冒險繪畫工作坊創作體驗活動、畫具、畫材 ◆ 《hence\,》雜誌 ◆ 精緻調酒或軟性飲料乙杯 \n✔️ 入場方式｜核對身分入場（需攜帶身分證），採「線上報名、現場核對」制 \n※須登入或註冊恆隆行會員，方可開始登記報名。 \n如有任何疑問，請洽恆隆行概念店zonezone \n服務電話：02-87512983 \n服務時間：平日 10:00-18:00；週六 11:00-18:00 \n\nDate & Time: Saturday\, November 8\, 2025｜19:00 – 22:00\nVenue: Hengstyle Concept Store zonezone（1/F\, No. 82\, Zhouzi St.\, Neihu Dist.\, Taipei City）\nFee: NT$850\nIncludes: Workshop\, painting materials\, hence\, magazine\, and one drink\nAdmission: Identity verification required (please bring your ID). Online registration and on-site check-in are mandatory.\nMust log in or register as a Hengstyle member to complete registration.\n\nInquiries: Hengstyle zonezone\nTel: 02-8751-2983｜Hours: Mon–Fri 10:00–18:00｜Sat 11:00–18:00 \n報名 To apply｜https://www.accupass.com/eflow/ticket/2510091047292100117942?utm_campaign=accu_theme&utm_medium=home_north&utm_source=Web \n｜活動注意事項 Event Guidelines｜ \n\n請於本頁完成報名後，現場報到，即可入場。\n報名完成後，報名名額不得轉讓。\n活動地點禁止外食、大聲喧嘩，拍照時請勿使用閃光燈。\n飲品調製依照現場為主，不另客製。\n活動亦有提供軟性飲品選擇，請於報名問卷時註記。\n酒精飲品僅提供年滿18歲以上達法定飲酒年齡之成人。\n未滿十八歲者禁止飲酒，故本活動不提供酒予未滿十八歲者，提醒您「飲酒勿開車」。\n現場提供畫材、畫紙及相關用具，歡迎輕鬆前來。\n活動有可能會弄髒衣服，建議穿著深色衣物，活動期間亦會提供圍裙。\n如因天災等不可抗力之因素取消活動，我們將主動聯繫延期或退款。\n為保障活動體驗品質，有報名觀眾以外之人員，請勿陪同逗留。\n本活動由恆隆行貿易股份有限公司委託ACCUPASS代為開立發票，相關發票開立與寄送事宜請洽ACCUPASS客服。\n\n\nEntry allowed after completing registration on this page.\nRegistration is non-transferable.\nNo outside food or loud behavior allowed; no flash photography.\nDrinks available on-site only; customization not provided.\nSoft drinks available upon request (please note in registration).\nAlcoholic beverages are served only to participants aged 18 and above.\nMinors are prohibited from drinking. Please don’t drink and drive.\nAll materials and tools are provided; casual attire is recommended.\nPaint may stain clothing — dark colors suggested; aprons will be provided.\nIn case of force majeure (e.g.\, typhoons)\, the organizer will arrange rescheduling or refunds.\nTo ensure quality\, only registered participants may attend.\nInvoices will be issued by ACCUPASS on behalf of Hengstyle Trading Co.\, Ltd. For invoice inquiries\, please contact ACCUPASS customer service.\n\n｜肖像使用及其他注意事項 Portrait Rights & Other Notices｜ \n\n您同意授權主辦單位得為記錄本活動而拍照、錄音/影、修飾、使用、公開播送、公開傳輸、公開上映及公開展示您的肖像之權利，前開肖像僅用於相關活動及主辦單位集團行銷之宣傳與播放活動之用途，前述影音記錄之著作權（包含著作財產權與人格權）歸屬主辦單位所有。\n報名完成代表您已同意本頁面所有規定、注意事項及主辦單位使用者條款與隱私權聲明，一旦您報名本活動，即代表您同時同意本活動期間所拍攝到的相片肖像，做為後續本活動花絮報導，集團行銷或社群露出宣傳使用。\n主辦單位對於活動的活動規則有最終解釋權，並有權得隨時變更、終止或取消活動的全部或一部（例如調整講師、場地或課程內容）。\n您已同意以上相關規定，主辦單位事後不再另行通知。\n本活動規定若與常見問答內容有不一致或衝突者，以本活動規定為準。\n\n\nBy registering\, you consent to being photographed\, filmed\, and recorded during the event.\nThese materials may be edited and used by the organizer for event documentation\, marketing\, and promotional purposes.\nAll copyright and related rights of the recorded materials belong to the organizer.\nRegistration indicates your agreement to all event terms\, notices\, and privacy policy.\nYour portrait may appear in post-event coverage or promotional materials.\nThe organizer reserves the right to interpret\, modify\, or cancel the event and its details at any time.\nIn case of conflict\, these event terms take precedence.
URL:https://events.mcu.edu.tw/event/%e5%be%ae%e9%86%ba%e7%95%ab%e6%b4%be%e8%a7%b8%e8%a6%ba%e7%89%88-tipsy-impressionist-tactile-art-workshop-%e5%be%9e%e8%a7%b8%e8%a6%ba%e6%8e%a2%e7%b4%a2%e5%89%b5%e4%bd%9c-creating-through-touch/
LOCATION:hengstyle恆隆行\, 內湖區洲子街82號1樓\, 台北市\, Taiwan
CATEGORIES:ACCUPASS,hengstyle恆隆行
ATTACH;FMTTYPE=image/png:https://events.mcu.edu.tw/wp-content/uploads/2025/10/4-2.png
END:VEVENT
END:VCALENDAR