BEGIN:VCALENDAR
VERSION:2.0
PRODID:-//Events Calendar - ECPv6.8.1//NONSGML v1.0//EN
CALSCALE:GREGORIAN
METHOD:PUBLISH
X-WR-CALNAME:Events Calendar
X-ORIGINAL-URL:https://events.mcu.edu.tw
X-WR-CALDESC:Events for Events Calendar
REFRESH-INTERVAL;VALUE=DURATION:PT1H
X-Robots-Tag:noindex
X-PUBLISHED-TTL:PT1H
BEGIN:VTIMEZONE
TZID:Asia/Taipei
BEGIN:STANDARD
TZOFFSETFROM:+0800
TZOFFSETTO:+0800
TZNAME:CST
DTSTART:20240101T000000
END:STANDARD
END:VTIMEZONE
BEGIN:VEVENT
DTSTART;TZID=Asia/Taipei:20240513T120000
DTEND;TZID=Asia/Taipei:20240517T130000
DTSTAMP:20260420T210620
CREATED:20240510T033158Z
LAST-MODIFIED:20240510T033158Z
UID:10000231-1715601600-1715950800@events.mcu.edu.tw
SUMMARY:銘傳之聲 MCBS｜電台週 Encore Melody Open Studio
DESCRIPTION:一年一度的銘傳之聲電台週，即將在5/13週一正式登場，為期一週的Open Studio自中午12:00開始在台北校區自由廣場前，帶給大家最精彩的節目。 \n此次電台週邀訪的藝人陣容星光熠熠，包含創作歌手Ginger、擅長R&B曲風的台大高材生阿橘、唱跳實力堅強的Sabrina胡恂舞、馬來西亞的彈唱才女陳佩賢，入圍金曲獎最佳新人的饒舌歌手潮州土狗，歡迎全校師生一同前往自由廣場，享受歌手們精湛的演出和對談。 \n由銘傳之聲大一至大四電台助理，齊心協辦的電台週活動，從前期的活動企劃、贊助籌措、藝人邀約、廣宣設計、軟硬體建置、歌舞演出、主持串場，全部都不假他人之手，由同學們一手包辦，將最豐富多元的橋段和訪談內容，由錄音室帶至自由廣場陪伴大家度過一整個星期活力滿滿的午間時光。無法前往現場的朋友們，也可以在活動當天準時收看銘傳之聲Facebook和Instagram官方粉絲頁，同步收看線上直播。 \nMCBS Encore Melody is just around the corner\, starting on Monday\, May 13. This week-long Open Studio event will kick off at 12:00 in front of the Liberty Square on Taipei campus\, bringing you the most exciting programs. \nWe have a stellar lineup of artists joining us for this Encore Melody\, including singer-songwriter Ginger; talented R&B artist from National Taiwan University\, Ahh G; Sabrina\, known for her powerful vocals and dance performances\, as well as Malaysian singer-songwriter Jesslyn Tan. We also have rap artist CZ Dogg\, nominated for Best New Artist at the Golden Melody Awards. We welcome all students and faculty to come to the Liberty Square and enjoy the splendid performances and interviews with these artists. \nOrganized entirely by the assistants of MCBS from freshmen to seniors\, this radio week event involves everything from initial planning\, sponsorship\, artist invitations\, promotional design\, hardware and software setup\, performances\, hosting\, and more. It’s all done by the students themselves\, bringing a rich and diverse range of segments and interviews from the studio to the Liberty Square\, creating a vibrant atmosphere throughout the week. For those unable to attend in person\, you can tune in to the live broadcast on MCBS’s official Facebook and Instagram pages. \nInstagram : mcbs88.3 / Facebook : 銘傳之聲fm88.3 \n活動時間 Date & Time : 5/13 (一) – 5/17 (五) 12:00-13:00 / 活動地點 Venue : 7-11前自由廣場 Liberty Square in front of 7-11
URL:https://events.mcu.edu.tw/event/%e9%8a%98%e5%82%b3%e4%b9%8b%e8%81%b2-mcbs%ef%bd%9c%e9%9b%bb%e5%8f%b0%e9%80%b1-encore-melody-open-studio/
CATEGORIES:銘傳之聲
ATTACH;FMTTYPE=image/jpeg:https://events.mcu.edu.tw/wp-content/uploads/2024/05/Radio-Week.jpg
END:VEVENT
END:VCALENDAR