BEGIN:VCALENDAR
VERSION:2.0
PRODID:-//Events Calendar - ECPv6.8.1//NONSGML v1.0//EN
CALSCALE:GREGORIAN
METHOD:PUBLISH
X-WR-CALNAME:Events Calendar
X-ORIGINAL-URL:https://events.mcu.edu.tw
X-WR-CALDESC:Events for Events Calendar
REFRESH-INTERVAL;VALUE=DURATION:PT1H
X-Robots-Tag:noindex
X-PUBLISHED-TTL:PT1H
BEGIN:VTIMEZONE
TZID:Asia/Taipei
BEGIN:STANDARD
TZOFFSETFROM:+0800
TZOFFSETTO:+0800
TZNAME:CST
DTSTART:20240101T000000
END:STANDARD
END:VTIMEZONE
BEGIN:VEVENT
DTSTART;TZID=Asia/Taipei:20241128T100000
DTEND;TZID=Asia/Taipei:20241128T140000
DTSTAMP:20260424T154444
CREATED:20241120T004759Z
LAST-MODIFIED:20241120T004830Z
UID:10000682-1732788000-1732802400@events.mcu.edu.tw
SUMMARY:衛生保健組 Campus Health Services Section｜開辦「四小時急救訓練研習」 “4-Hour Emergency First Aid Training Workshop”
DESCRIPTION:由台北校區學務處衛保組主辦、雙和醫院協辦的「四小時急救訓練研習」將於11/28（四）10:00至14:00在逸仙堂舉行，透過專業課程訓練學生處理突發事件的能力。此次活動針對113學年度第一學期醫學與健康修課學生、系學會及社團幹部開放報名，同時歡迎對急救有興趣的同學一同參與。 \n研習分為兩大單元，包括3小時的心肺復甦術（CPR）與哈姆立克急救法課程，內容涵蓋成人心肺復甦的重要性、步驟與方法，以及呼吸道異物哽塞處理技巧；最後1小時是進行筆試及術科測評，檢驗學員對急救知識的掌握程度。活動特別提醒參與者穿著褲裝，並避免使用口紅，以利練習進行。 \n即日起受理報名，請將基本資料寄至akimi@mail.mcu.edu.tw，內文須包含姓名、班級、學號、手機號碼、身分證字號、生日、信箱，以及餐點選擇（葷／素）。歡迎符合資格的學生踴躍報名參加，為校園安全貢獻專業力量！ \nOrganized by Taipei Campus Student Affairs Division’s Campus Health Services Section\, in collaboration with Shuang Ho Hospital\, the 4-Hour Emergency First Aid Training Workshop will be held on Thursday\, November 28\, from 10:00 to 14:00 at Sun Yat Sen Auditorium. This professional training session is designed to equip students with the skills needed to handle emergencies effectively. \nThe workshop is open for registration to students enrolled in medical and health courses during the 2024 academic year\, semester one\, as well as department and club officers. Students with an interest in first aid are also welcome to join. \nThe program is divided into two segments: \n\n3 hours of CPR (Cardiopulmonary Resuscitation) and Heimlich Maneuver training\, covering the significance\, steps and methods of CPR for adults\, along with techniques to address airway obstruction.\n1-hour written test and practical evaluation to assess participants’ mastery of emergency first aid knowledge.\n\nParticipants are advised to wear pants and refrain from using lipstick to ensure effective practice during the training. \nRegistration is now open. Please email your basic information to akimi@mail.mcu.edu.tw including: \n\nFull Name\nClass\nStudent ID\nPhone Number\nID Number\nDate of Birth\nEmail Address\nMeal Preference (Meat/Veg)\n\nWe encourage all eligible students to sign up and contribute to campus safety by gaining professional first aid skills!
URL:https://events.mcu.edu.tw/event/%e8%a1%9b%e7%94%9f%e4%bf%9d%e5%81%a5%e7%b5%84-campus-health-services-section%ef%bd%9c%e9%96%8b%e8%be%a6%e3%80%8c%e5%9b%9b%e5%b0%8f%e6%99%82%e6%80%a5%e6%95%91%e8%a8%93%e7%b7%b4%e7%a0%94%e7%bf%92/
LOCATION:台北校區Taipei Campus\, 中山北路五段250號\, 台北市\, Taiwan
CATEGORIES:衛保組
ATTACH;FMTTYPE=image/jpeg:https://events.mcu.edu.tw/wp-content/uploads/2024/11/1214期衛保組電子報配圖.jpg
ORGANIZER;CN="%E8%A1%9B%E4%BF%9D%E7%B5%84":MAILTO:kimi@mail.mcu.edu.tw
END:VEVENT
BEGIN:VEVENT
DTSTART;TZID=Asia/Taipei:20241021T100000
DTEND;TZID=Asia/Taipei:20241025T170000
DTSTAMP:20260424T154444
CREATED:20241018T032859Z
LAST-MODIFIED:20241018T032859Z
UID:10000594-1729504800-1729875600@events.mcu.edu.tw
SUMMARY:捐血週 熱情啟動 Blood Donation Week – Passion Ignited
DESCRIPTION:學務處衛保組於10／21（一）至10／25（五）每天10:00至17:00，在桃園校區CC棟旁停車場舉辦「捐血一袋、救人一命」校園愛心捐血活動。歡迎全校符合健康捐血資格的教職員工生踴躍參加，為社會注入更多愛心與溫暖。 \n本次活動與校園熱血獅合作，凡完成捐血者可獲贈一大袋衛生紙（共8小包），並將獲得由桃園校區學生餐廳廠商贊助的餐飲折價券。此外，學生捐血250cc者可記嘉獎一次，捐血500cc者則可記嘉獎二次。活動更特別與新竹捐血中心及麥當勞合作，首捐者將獲贈麥當勞抖陣熱血環保袋，完成捐血者則可得到麥當勞大麥克貴賓券乙份，讓愛心捐血更添豐富回饋。 \n學務處衛保組誠摯地邀請全校師生一起參與這場捐血公益活動，用行動共同響應「捐血一袋、救人一命」的善行，讓社會因為每一位參與者的愛心而更顯溫暖。 \nThe Student Affairs Division’s Campus Health Services Section is hosting a “Donate One Bag of Blood\, Save a Life” campus blood donation event from Monday\, October 21 to Friday\, October 25\, every day from 10:00 to 17:00\, at the parking lot next to Building CC on Taoyuan Campus. All faculty\, staff\, and students who meet the health criteria for blood donation are warmly encouraged to participate and spread love and warmth throughout society. \nThis event is held in collaboration with the campus blood donation organization “Hot-blooded Lions”. All successful donors will receive a large pack of tissue paper (8 small packs) and meal vouchers sponsored by vendors from Taoyuan Campus student cafeteria. Additionally\, students who donate 250cc of blood will be awarded one merit point\, while those who donate 500cc will be awarded two merit points. The event also features a special collaboration with the Hsinchu Blood Donation Center and McDonald’s. First-time donors will receive a McDonald’s eco-friendly tote bag\, and all donors will receive a McDonald’s Big Mac voucher as a token of appreciation\, making this blood drive even more rewarding. \nThe Campus Health Services Section sincerely invites all students and staff to take part in this charitable blood donation event. Through your actions\, you can support the “Donate One Bag of Blood\, Save a Life” initiative and help make the world a warmer place with every drop of kindness.
URL:https://events.mcu.edu.tw/event/%e6%8d%90%e8%a1%80%e9%80%b1-%e7%86%b1%e6%83%85%e5%95%9f%e5%8b%95-blood-donation-week-passion-ignited/
LOCATION:桃園校區Taoyuan Campus\, 龜山區德明路5號\, 桃園市\, Taiwan
CATEGORIES:衛保組
ATTACH;FMTTYPE=image/jpeg:https://events.mcu.edu.tw/wp-content/uploads/2024/10/1210期桃園捐血週電子報配圖.jpg
ORGANIZER;CN="%E8%A1%9B%E4%BF%9D%E7%B5%84":MAILTO:kimi@mail.mcu.edu.tw
END:VEVENT
BEGIN:VEVENT
DTSTART;TZID=Asia/Taipei:20241001T100000
DTEND;TZID=Asia/Taipei:20241003T170000
DTSTAMP:20260424T154444
CREATED:20240927T024644Z
LAST-MODIFIED:20240927T024644Z
UID:10000534-1727776800-1727974800@events.mcu.edu.tw
SUMMARY:捐血週 一起熱血挽袖子 Blood Donation Week – Join Us and Roll Up Your Sleeves!
DESCRIPTION:銘傳大學台北校區衛保組聯合台灣血液基金會、麥當勞與弘仁社，攜手響應校園捐血活動，本週（10／1-3）正式展開「捐血週」！誠邀全體師生參與這場有愛心的活動，挽起袖子捐血救人，展現銘傳的熱血精神。 \n此次參與捐血的同學除了能感受到「捐血一袋，救人一命」的公益力量外，還可以獲得麥當勞提供的大麥克餐券以及各式精美小禮物，前50名首度捐血的同學更有機會獲得麥當勞限量版熱血環保袋作為回饋。 \n若無法捐血但仍想貢獻愛心的同學，亦可透過掃描活動海報上的QR code或點此連結表單報名成為捐血週的服務志工，協助現場活動事務。活動志工將獲得志工服務時數及嘉獎，這也是一次寶貴的服務學習機會。 \n更多活動詳情，請關注弘仁社Instagram【hr_mcu】，期待全校師生熱心參與，共同為公益盡一份心力！ \nMCU Taipei Campus Health Services Section\, in collaboration with Taiwan Blood Services Foundation\, McDonald’s and Hung Ran Philanthropy Club\, is launching the “Blood Donation Week” campaign this week (October 1-3)! We sincerely invite all faculty and students to participate in this meaningful event\, roll up your sleeves\, and donate blood to save lives\, embodying Ming Chuan’s passionate spirit. \nStudents who donate blood will not only experience the power of giving— “one bag of blood saves a life”— but will also receive a Big Mac voucher from McDonald’s and various special gifts. The first 50 students donating for the first time will have a chance to receive a limited-edition McDonald’s eco-friendly blood donation bag as a token of appreciation. \nFor those unable to donate but still wishing to contribute\, you can sign up as a volunteer for the Blood Donation Week by scanning the QR code on the event poster or clicking this link to fill out the form. Volunteers will assist with the on-site activities and will be awarded volunteer service hours and recognition— a valuable service-learning opportunity. \nFor more event details\, follow Hung Ran Philanthropy Club on Instagram [hr_mcu]. We look forward to seeing the entire university community come together to support this cause and make a difference! \n 
URL:https://events.mcu.edu.tw/event/%e6%8d%90%e8%a1%80%e9%80%b1-%e4%b8%80%e8%b5%b7%e7%86%b1%e8%a1%80%e6%8c%bd%e8%a2%96%e5%ad%90-blood-donation-week-join-us-and-roll-up-your-sleeves/
LOCATION:台北校區Taipei Campus\, 中山北路五段250號\, 台北市\, Taiwan
CATEGORIES:弘仁社,衛保組
ATTACH;FMTTYPE=image/jpeg:https://events.mcu.edu.tw/wp-content/uploads/2024/09/1207期捐血週電子報配圖.jpg
END:VEVENT
BEGIN:VEVENT
DTSTART;TZID=Asia/Taipei:20240513T100000
DTEND;TZID=Asia/Taipei:20240517T170000
DTSTAMP:20260424T154444
CREATED:20240513T074303Z
LAST-MODIFIED:20240513T074303Z
UID:10000239-1715594400-1715965200@events.mcu.edu.tw
SUMMARY:愛心捐血等你捲袖子 Blood Donation\, Let's Roll Up Your Sleeves
DESCRIPTION:桃園校區學務處衛保組響應「捐血一袋、救人一命」，校園愛心捐血活動將於5/13-17每天10:00-17:00在CC棟旁停車場舉行，邀請全校符合健康捐血資格之教職員工生，共同響應並參與捐血救人的義行！ \n本次活動與校園熱血獅合作，愛心捐血者可獲得精美的回饋禮，有一大袋衛生紙、泡麵碗等實用物品，還可獲得桃園校區學生餐廳廠商贊助之餐飲折價劵。除此之外，學生捐血250cc者，可記嘉獎一次，捐血500cc者，可記嘉獎二次，歡迎熱心的同學們踴躍參與。捲起袖子共同響應「捐血一袋、救人一命」，為社會注入更多愛心和溫暖，一同參與這個具有意義的校園愛心捐血活動。 \n\n\n\n\n\n\n\n\n\n\n\n\nThe Student Affairs Division-Campus Health Services Section at Taoyuan Campus responds to the call for “One Bag of Blood Donation\, One Life Saved”. The campus blood donation event will be held from May 13 to 17\, from 10:00 to 17:00 each day\, at the parking lot next to Building CC. All faculty\, staff\, and students who meet the criteria for healthy blood donation are invited to participate in this meaningful act of saving lives! \nIn collaboration with the campus spirit lion\, participants of the blood donation drive will receive exquisite rewards\, including a large bag of tissue paper\, instant noodle bowls\, and other practical items. Additionally\, donors will receive dining discount coupons sponsored by the vendors of  Taoyuan Campus student cafeteria. Furthermore\, students who donate 250cc of blood will receive one commendation\, while those who donate 500cc will receive two commendations. Enthusiastic students are encouraged to actively participate. Let’s roll up our sleeves and respond together to the call for “One Bag of Blood Donation\, One Life Saved”\, injecting more love and warmth into society. Join us in this meaningful campus blood donation event.
URL:https://events.mcu.edu.tw/event/%e6%84%9b%e5%bf%83%e6%8d%90%e8%a1%80%e7%ad%89%e4%bd%a0%e6%8d%b2%e8%a2%96%e5%ad%90-blood-donation-lets-roll-up-your-sleeves/
LOCATION:桃園校區Taoyuan Campus\, 龜山區德明路5號\, 桃園市\, Taiwan
CATEGORIES:衛保組
ATTACH;FMTTYPE=image/jpeg:https://events.mcu.edu.tw/wp-content/uploads/2024/05/1196愛心捐血週電子報配圖-.jpg
ORGANIZER;CN="%E8%A1%9B%E4%BF%9D%E7%B5%84":MAILTO:kimi@mail.mcu.edu.tw
END:VEVENT
BEGIN:VEVENT
DTSTART;TZID=Asia/Taipei:20240329T120000
DTEND;TZID=Asia/Taipei:20240329T140000
DTSTAMP:20260424T154444
CREATED:20240315T061145Z
LAST-MODIFIED:20240315T061145Z
UID:10000079-1711713600-1711720800@events.mcu.edu.tw
SUMMARY:衛保組｜歡迎報名挑戰 健康體位2.0 Campus Health Services Section | Welcome to Sign Up for the Healthy Posture 2.0 Challenge
DESCRIPTION:大學生活是人生中充滿活力和挑戰的重要階段，在追求學業成就、社交活動和個人成長的同時，保持身心健康更是大學生必須重視的核心議題之一；學務處衛保組將在台北校區辦理【健康體位2.0課程】，邀請大家一起重視健康永續的議題，凡本校教職員工及學生 BMI>25者，都可報名參加，全勤及集滿6堂規律運動課程之簽到，即可兌換精美禮品，報名自即日起至3/28(四)止，請直接至行政大樓一樓衛保組找明璇護理師（分機：2224）報名，活動期間將邀請有氧體能高手張詩宏教帶領大家一同迎向健康美味的生活。 \n活動將於3/29(五) 12:00-13:30在B901首開第一堂「營養課程」，教大家認識健康餐盤以及外食族該如何健康的選擇食物；除了飲食控制外，定期運動也是維持健康體重的不可或缺的部分，因此，動感十足的「健康體位2.0」課程則於4/9(二)至5/2(四)為止，每週二及週四的中午時段於F棟6樓佈告欄前進行有氧體能運動，想做出改變讓自己更健康卻又不知道從何下手的話，快快報名本次課程吧！額滿為止，一起養成運動好習慣吧！ \nCollege life is a vibrant and challenging stage in one’s life. While pursuing academic achievements\, engaging in social activities\, and personal growth\, maintaining physical and mental health is essential. The Campus Health Services Section of the Student Affairs Division will be organizing the “Healthy Posture 2.0 Program” at the Taipei Campus\, inviting everyone to prioritize the issue of health sustainability. All faculty\, staff\, and students with a BMI>25 are eligible to participate. Those who attend all sessions and complete 6 regular exercise classes will receive exquisite gifts. Registration is open from now until March 28th (Thursday). Please visit Nurse Practitioner Min-Hsuan at the Campus Health Services Section on the first floor of the Administration Building (extension: 2224) to register. During the event\, aerobic fitness expert Danny will lead everyone towards a healthy and delicious lifestyle. \nThe first session\, “Nutrition Course\,” will be held on March 29th (Friday) from 12:00 to 13:30 in Room B901. Participants will learn about healthy eating habits and how to make healthy food choices for dining out. In addition to dietary control\, regular exercise is an indispensable part of maintaining a healthy weight. Therefore\, the dynamic “Healthy Posture 2.0” program will take place from April 9th (Tuesday) to May 2nd (Thursday)\, with aerobic fitness exercises held every Tuesday and Thursday at noon in front of the bulletin board on the 6th floor of Building F. If you want to make changes to become healthier but don’t know where to start\, be sure to sign up for this course! Spaces are limited\, so let’s develop good exercise habits together! \n \n 
URL:https://events.mcu.edu.tw/event/%e8%a1%9b%e4%bf%9d%e7%b5%84%ef%bd%9c%e6%ad%a1%e8%bf%8e%e5%a0%b1%e5%90%8d%e6%8c%91%e6%88%b0-%e5%81%a5%e5%ba%b7%e9%ab%94%e4%bd%8d2-0-campus-health-services-section-welcome-to-sign-up-for-the-healthy-p/
LOCATION:台北校區Taipei Campus\, 中山北路五段250號\, 台北市\, Taiwan
CATEGORIES:衛保組
ATTACH;FMTTYPE=image/jpeg:https://events.mcu.edu.tw/wp-content/uploads/2024/03/1188期衛保組電子報配圖-800x445-1.jpg
ORGANIZER;CN="%E8%A1%9B%E4%BF%9D%E7%B5%84":MAILTO:kimi@mail.mcu.edu.tw
END:VEVENT
END:VCALENDAR