BEGIN:VCALENDAR
VERSION:2.0
PRODID:-//Events Calendar - ECPv6.8.1//NONSGML v1.0//EN
CALSCALE:GREGORIAN
METHOD:PUBLISH
X-WR-CALNAME:Events Calendar
X-ORIGINAL-URL:https://events.mcu.edu.tw
X-WR-CALDESC:Events for Events Calendar
REFRESH-INTERVAL;VALUE=DURATION:PT1H
X-Robots-Tag:noindex
X-PUBLISHED-TTL:PT1H
BEGIN:VTIMEZONE
TZID:Asia/Taipei
BEGIN:STANDARD
TZOFFSETFROM:+0800
TZOFFSETTO:+0800
TZNAME:CST
DTSTART:20240101T000000
END:STANDARD
END:VTIMEZONE
BEGIN:VEVENT
DTSTART;TZID=Asia/Taipei:20241218T190000
DTEND;TZID=Asia/Taipei:20241218T210000
DTSTAMP:20260426T043716
CREATED:20241120T022512Z
LAST-MODIFIED:20241120T022910Z
UID:10000691-1734548400-1734555600@events.mcu.edu.tw
SUMMARY:台北無界派對實驗所 Woolab. Fun｜流動藝術生活美學 Fluid Art Lifestyle & Aesthetics
DESCRIPTION:活動特色 Event Highlights \n色彩療癒卡 Color Therapy Cards： \n透過選牌，藉由牌卡帶你看見近期的狀態，給你支持及引導你探索自己，配搭出你本次創作的命定色。 \nUse card selection to explore your current state\, receive guidance\, and discover the colors destined for your creation. \n流體藝術創作 Fluid Art Creation： \n學習運用色彩的深淺混色變化，在白色的素坯中，創造出獨特線條紋路的流體藝術，在專業指導下，將內心世界的感受具象化，創作出專屬你的藝術品。 \nLearn to blend colors and create unique fluid art patterns under professional guidance. Express your inner feelings and craft a personalized piece of art. \n報名 To apply：https://www.accupass.com/eflow/ticket/2409260527036612264510 \n活動流程 Event Schedule \n\n色彩占卜\n手作創作\n作品靜置晾乾，約4天\n等待通知作品領取\n\n\nColor Reading\nHandcrafted Art Creation\nArtwork Drying (approximately 4 days)\nNotification for Pickup\n\n收費方式 Pricing Details \n\nNT$680／人 ( 已含 療癒卡解牌 費用 )\n須開三聯發票須提前告知，並於報名前提供公司抬頭&統編。\n成品可自取或宅配，宅配須另外付運費。\n\n\nNT$680/person (includes color therapy card reading fee).\nReceipts for businesses: Please provide company name and tax ID at the time of registration if a three-copy receipt is required.\nFinished artworks can be picked up on-site or delivered (additional shipping fee applies).\n\n收費包含 Fee Includes \n\n教學：專業藝術師資引導及協助\n材料：17cm熊熊一款、多款顏料、時尚感包裝\n服務：色彩占卜解析\n\n\nInstruction: Professional art teacher guidance and assistance.\nMaterials: Includes one 17cm bear sculpture\, multiple paint options and stylish packaging.\nService: Color reading and interpretation.\n\n注意事項 Notes \n\n本課程僅供單人操作，不可共同作畫。\n因顏料染上衣服不易清洗，請穿著耐髒衣物。\n只提供『定量』流體顏料。\n體驗期間，會進行活動側拍，並將照片／影片公開分享於品牌社群平台上，也歡迎向我們索取照片，若不希望被攝影，請提前告知。\n課程中會有色彩占卜的環節，請尊重每個人的隱私，下課後請勿私下討論。\n預約後，因故無法參與，請於開課前2天『主動』致電主辦單位 02-23310939，可更改上課日期。\n現場有『店貓』，若怕貓者，須提前告知。\n若帶寵物，請提前告知，並記得關籠。\n\n\nThis class is designed for individual participation only; shared creations are not permitted.\nWear clothing suitable for messy activities\, as paint may stain fabrics.\nPaint quantity is limited to the provided materials.\nThe event will be documented through photos/videos and shared on social media. Participants can request copies. Please inform in advance if you prefer not to be photographed.\nRespect privacy during the color therapy session; avoid discussing personal details after the session.\nIf unable to attend\, please contact the organizer at least 2 days in advance (Tel: 02-23310939) to reschedule.\nA resident cat is on-site; notify the organizer in advance if you’re uncomfortable with cats.\nIf bringing pets\, inform the organizer in advance and ensure they are properly secured in a carrier.
URL:https://events.mcu.edu.tw/event/%e5%8f%b0%e5%8c%97%e7%84%a1%e7%95%8c%e6%b4%be%e5%b0%8d%e5%af%a6%e9%a9%97%e6%89%80-woolab-fun%ef%bd%9c%e6%b5%81%e5%8b%95%e8%97%9d%e8%a1%93%e7%94%9f%e6%b4%bb%e7%be%8e%e5%ad%b8-fluid-art-lifestyle-aes/
LOCATION:無界派對實驗所\, 中正區懷寧街12號2樓\, 台北市\, Taiwan
CATEGORIES:ACCUPASS,無界派對實驗所
ATTACH;FMTTYPE=image/png:https://events.mcu.edu.tw/wp-content/uploads/2024/11/18.png
END:VEVENT
BEGIN:VEVENT
DTSTART;TZID=Asia/Taipei:20240928T130000
DTEND;TZID=Asia/Taipei:20240928T150000
DTSTAMP:20260426T043716
CREATED:20240912T072025Z
LAST-MODIFIED:20240912T072025Z
UID:10000489-1727528400-1727535600@events.mcu.edu.tw
SUMMARY:流體藝術的奇幻療癒 The Magical Healing of Fluid Art
DESCRIPTION:活動特色 Event Features \n色彩療癒卡 Color Healing Cards \n透過選牌，藉由牌卡帶你看見近期的狀態，給你支持及引導你探索自己，配搭出你本次創作的命定色。 \nThrough card selection\, the cards will reflect your current state\, offering support and guidance for self-exploration. The chosen card will also help you find the destined color palette for your creation. \n流體藝術創作 Fluid Art Creation \n學習運用色彩的深淺混色變化，在白色的素坯中，創造出獨特線條紋路的流體藝術，在專業指導下，將內心世界的感受具象化，創作出專屬你的藝術品。 \nLearn how to use the depth and blending of colors to create unique fluid art patterns on a white base. With professional guidance\, you can externalize your inner feelings and create your own personalized artwork. \n活動流程 Event Schedule \n\n色彩占卜時間\n手作創作時間\n作品靜置晾乾，約4天\n等待通知作品領取\n\n\nColor Divination Session\nHands-on Creation Time\nArtwork Drying (Approximately 4 days)\nNotification for Pickup\n\n內容 Event Details \n\n活動：教學｜材料｜時尚感包裝｜色彩占卜解析\n藝術創作體驗\n『托盤系列』任選一款\n專業幼教師及藝術顧問引導及協助\n\n\nIncludes: Teaching｜Materials｜Stylish Packaging｜Color Divination Analysis\nArt Creation Experience: Choose one from the “Tray Series”\nGuidance: Professional kindergarten teachers and art consultants will assist and guide you\n\n收費方式 Fee \n\nNT$1\,580／人 ( 已含療癒卡解牌費用 )\n須開三聯發票須提前告知，並於報名前提供公司抬頭&統編。\n成品可自取或宅配，宅配須另外付運費。\n\n\nNT$1\,580 per person (includes color divination card reading).\nIf an official three-part invoice is required\, please notify in advance and provide your company’s name and tax ID before registering.\nYou may pick up your completed artwork or have it delivered (delivery fees apply).\n\n報名 To apply：https://www.accupass.com/eflow/ticket/2409020705271835722310 \n注意事項 Notes \n\n本課程僅供單人操作，不可共同作畫。\n因顏料染上衣服不易清洗，請穿著耐髒衣物。\n只提供『定量』流體顏料，若有現場加購鑰匙圈，則使用原作品本身留下的顏料製作。\n體驗期間，會進行活動側拍，並將照片/影片公開分享於品牌社群平台上，也歡迎向我們索取照片，若不希望被攝影，請提前告知。\n課程中會有色彩占卜的環節，請尊重每個人的隱私，下課後請勿私下討論。\n預約後，因故無法參與，請於開課前2天『主動』致電主辦單位 02-23310939，可更改上課日期。\n現場有『店貓』，若怕貓者，須提前告知。\n若帶寵物，請提前告知，並記得關籠。\n\n\nThis course is for individual participation only; no joint artwork is allowed.\nSince the paint may stain clothing and is hard to clean\, please wear durable clothes.\nOnly a limited amount of fluid paint will be provided. If you purchase a keychain on-site\, the paint leftover from your original artwork will be used to create it.\nPhotos and videos may be taken during the event for sharing on social media platforms. You can request copies of the photos. If you prefer not to be photographed\, please inform us in advance.\nRespect each participant’s privacy during the color divination session. Please refrain from discussing it afterward.\nIf you are unable to attend after booking\, please proactively call the organizer at 02-23310939 two days before the class to reschedule.\nThere is a shop cat on the premises. If you are afraid of cats\, please notify us in advance.\nIf you plan to bring a pet\, please inform us beforehand and remember to keep it in a cage.
URL:https://events.mcu.edu.tw/event/%e6%b5%81%e9%ab%94%e8%97%9d%e8%a1%93%e7%9a%84%e5%a5%87%e5%b9%bb%e7%99%82%e7%99%92-the-magical-healing-of-fluid-art/
LOCATION:無界派對實驗所\, 中正區懷寧街12號2樓\, 台北市\, Taiwan
CATEGORIES:ACCUPASS,無界派對實驗所
ATTACH;FMTTYPE=image/png:https://events.mcu.edu.tw/wp-content/uploads/2024/09/7.png
END:VEVENT
END:VCALENDAR