BEGIN:VCALENDAR
VERSION:2.0
PRODID:-//Events Calendar - ECPv6.8.1//NONSGML v1.0//EN
CALSCALE:GREGORIAN
METHOD:PUBLISH
X-WR-CALNAME:Events Calendar
X-ORIGINAL-URL:https://events.mcu.edu.tw
X-WR-CALDESC:Events for Events Calendar
REFRESH-INTERVAL;VALUE=DURATION:PT1H
X-Robots-Tag:noindex
X-PUBLISHED-TTL:PT1H
BEGIN:VTIMEZONE
TZID:Asia/Taipei
BEGIN:STANDARD
TZOFFSETFROM:+0800
TZOFFSETTO:+0800
TZNAME:CST
DTSTART:20240101T000000
END:STANDARD
END:VTIMEZONE
BEGIN:VEVENT
DTSTART;TZID=Asia/Taipei:20241211T183000
DTEND;TZID=Asia/Taipei:20241211T210000
DTSTAMP:20260425T102614
CREATED:20241210T075342Z
LAST-MODIFIED:20241210T075342Z
UID:10000758-1733941800-1733950800@events.mcu.edu.tw
SUMMARY:炎風熱音社 Firewind Club｜期末奧德賽 End-of-Semester Odyssey
DESCRIPTION:隨著期末的腳步逐漸逼近，炎風熱音社的年度壓軸盛事「期末奧德賽」，即將於12/11（三）18:30-21:00在明園震撼登場！這場活動不僅是音樂人的舞台，更是所有人盡情釋放熱血與情感的狂歡之夜。若遇雨天，活動將移至體育一館正門廊舉行，讓熱情不因天氣而中斷！ \n在倒數之際，每一天都會在炎風熱音社IG粉專，陸續向大家介紹當天的表演團隊，讓大家提前感受這場音樂盛宴的熱情！不論是對音樂抱有熱忱，還是想為忙碌的學期畫上一個難忘句點，都不能錯過這場盛大的音樂嘉年華！一起來享受迎接屬於音樂的燦爛時刻！ \nAs the semester draws to a close\, Firewind Club’s annual grand event\, “End-of-Semester Odyssey” is set to rock the stage on December 11 (Wednesday)\, from 18:30 to 21:00 at Ming Garden! This exciting event isn’t just a platform for musicians but a night for everyone to unleash their passion and emotions in a spectacular celebration. \nIf it rains\, the event will move to the main hallway of the first gymnasium\, ensuring that the fiery enthusiasm will not be dampened by the weather! \nCountdown to the Event \nLeading up to the big day\, Firewind Club’s official Instagram page will introduce the performing bands daily\, offering a sneak peek into the musical feast. \nWhether you’re a music enthusiast or simply looking to end the semester with an unforgettable memory\, this grand music carnival is not to be missed! Come join us in celebrating a brilliant moment dedicated to music!
URL:https://events.mcu.edu.tw/event/%e7%82%8e%e9%a2%a8%e7%86%b1%e9%9f%b3%e7%a4%be-firewind-club%ef%bd%9c%e6%9c%9f%e6%9c%ab%e5%a5%a7%e5%be%b7%e8%b3%bd-end-of-semester-odyssey/
LOCATION:桃園校區Taoyuan Campus\, 龜山區德明路5號\, 桃園市\, Taiwan
CATEGORIES:炎風熱音社
ATTACH;FMTTYPE=image/jpeg:https://events.mcu.edu.tw/wp-content/uploads/2024/12/1217期炎風熱音社電子報配圖.jpg
END:VEVENT
END:VCALENDAR