BEGIN:VCALENDAR
VERSION:2.0
PRODID:-//Events Calendar - ECPv6.8.1//NONSGML v1.0//EN
CALSCALE:GREGORIAN
METHOD:PUBLISH
X-ORIGINAL-URL:https://events.mcu.edu.tw
X-WR-CALDESC:Events for Events Calendar
REFRESH-INTERVAL;VALUE=DURATION:PT1H
X-Robots-Tag:noindex
X-PUBLISHED-TTL:PT1H
BEGIN:VTIMEZONE
TZID:Asia/Taipei
BEGIN:STANDARD
TZOFFSETFROM:+0800
TZOFFSETTO:+0800
TZNAME:CST
DTSTART:20240101T000000
END:STANDARD
END:VTIMEZONE
BEGIN:VEVENT
DTSTART;TZID=Asia/Taipei:20251014T100000
DTEND;TZID=Asia/Taipei:20251016T170000
DTSTAMP:20260421T214456
CREATED:20251015T060033Z
LAST-MODIFIED:20251015T060033Z
UID:10001468-1760436000-1760634000@events.mcu.edu.tw
SUMMARY:拾肆學藝性聯展 14th Joint Art & Cultural Exhibition—萬藝遇見鬼 When Art Meets Ghosts
DESCRIPTION:Trick or Treat！萬藝遇見鬼登場啦！這個秋天，銘傳校園即將被一場神秘的魔法包圍！睽違十年再度舉辦的「拾肆學藝性聯展」將於10/14（二）至10/16（四）10:00-17:00在明園熱鬧登場。今年活動以「萬藝遇見鬼」為主題，融合RPG冒險與萬聖節元素，邀請同學們化身冒險者，在校園裡展開一場結合藝術、創意與想像的探索之旅。 \n本次聯展共有七大學藝性社團聯手打造，包括咖啡社、茶藝社、JAPAN親和社、日語配音社、動漫同好社、媒體研究社與調酒社。各社團將以萬聖節角色登場，扮演故事中的神秘場景，並透過特色攤位展現不同文化與創作魅力。活動現場更設有集章闖關挑戰，只要參觀各社攤位並集滿指定印章數，即可至服務台兌換驚喜好禮。 \n主辦單位表示，希望透過此次聯展，讓同學在輕鬆互動中體驗學藝社團的創意能量，並在參與中找到志同道合的朋友。從香氣四溢的咖啡到繽紛奇幻的動漫，每一攤位都是一次冒險。勇敢的冒險者們，準備好踏入明園廣場，揭開「萬藝遇見鬼」的神秘序章了嗎？ \nTrick or Treat! Get ready — When Art Meets Ghosts is coming! This autumn\, MCU will be surrounded by a mysterious magical atmosphere. After a ten-year hiatus\, the 14th Joint Art & Cultural Exhibition will take place from October 14 (Tue) to October 16 (Thu)\, 10:00–17:00\, at Ming Garden. \nThis year’s theme\, “When Art Meets Ghosts”\, blends RPG adventure with Halloween elements\, inviting students to become brave adventurers embarking on a creative and imaginative journey across campus filled with art\, culture\, and storytelling. \nThe event brings together seven student art and cultural clubs\, including Coffee Club\, Tea Club\, Shinwa Club\, Japanese Dubbing Club\, ACG Club\, Media Research Club\, and Cocktail Club. Each club will embody a unique Halloween character and transform their booths into immersive themed scenes\, showcasing diverse cultures and creative talents. Visitors can also participate in a stamp collection challenge—complete the adventure by collecting stamps at various booths to exchange for surprise gifts at the service counter! \nThe organizers hope that through this lively and interactive exhibition\, students can experience the creativity and passion of the university’s art and cultural clubs while finding new friends who share similar interests. From the aromatic scent of coffee to the colorful world of anime\, every booth is a new adventure waiting to be discovered. \nSo\, brave adventurers—are you ready to step into Ming Garden and unveil the mysterious beginning of When Art Meets Ghosts? 🎃
URL:https://events.mcu.edu.tw/event/%e6%8b%be%e8%82%86%e5%ad%b8%e8%97%9d%e6%80%a7%e8%81%af%e5%b1%95-14th-joint-art-cultural-exhibition-%e8%90%ac%e8%97%9d%e9%81%87%e8%a6%8b%e9%ac%bc-when-art-meets-ghosts/
LOCATION:桃園校區Taoyuan Campus\, 龜山區德明路5號\, 桃園市\, Taiwan
CATEGORIES:JAPAN親和社,動漫同好社,媒體研究社,日語配音社,桃園咖啡社,茶藝社,調酒社
ATTACH;FMTTYPE=image/jpeg:https://events.mcu.edu.tw/wp-content/uploads/2025/10/1247mrc.jpg
END:VEVENT
BEGIN:VEVENT
DTSTART;TZID=Asia/Taipei:20241219T180000
DTEND;TZID=Asia/Taipei:20241219T210000
DTSTAMP:20260421T214456
CREATED:20241216T063044Z
LAST-MODIFIED:20241216T063044Z
UID:10000780-1734631200-1734642000@events.mcu.edu.tw
SUMMARY:日語配音社 Japanese Dubbing Club｜期末大會 End-of-Semester Event
DESCRIPTION:日語配音社將於12/19（四）18:00-21:00在M106舉行「期末大會」，除了由社幹帶來的表演外，社員們也準備了精彩演出，為這學期畫下完美句點！ \n活動17:40開放入場，提早抵達的參加者請於場外排隊等候。 \n為確保表演品質，活動開始後僅於換場時間開放入場，敬請包涵。 \n無論是否為社員，都歡迎大家前來欣賞，共同參與這場熱鬧的期末盛會！ \nThe Japanese Dubbing Club will hold its End-of-Semester Event on December 19 (Thursday) from 18:00 to 21:00 in M106. In addition to performances by the club’s officers\, members have also prepared captivating shows to wrap up the semester with flair! \n\nEntry Time: 17:40 (queue outside the venue if arriving early)\nLate Entry Policy: To maintain performance quality\, late entries will only be allowed during intermission periods. Thank you for your understanding.\n\nWhether you’re a member or just a fan of Japanese dubbing\, everyone is welcome to enjoy this lively semester-end celebration! \n日語配音社IG Instagram：https://www.instagram.com/mcujdc113/
URL:https://events.mcu.edu.tw/event/%e6%97%a5%e8%aa%9e%e9%85%8d%e9%9f%b3%e7%a4%be-japanese-dubbing-club%ef%bd%9c%e6%9c%9f%e6%9c%ab%e5%a4%a7%e6%9c%83-end-of-semester-event/
LOCATION:桃園校區Taoyuan Campus\, 龜山區德明路5號\, 桃園市\, Taiwan
CATEGORIES:日語配音社
ATTACH;FMTTYPE=image/png:https://events.mcu.edu.tw/wp-content/uploads/2024/12/4-1.png
END:VEVENT
BEGIN:VEVENT
DTSTART;TZID=Asia/Taipei:20240924T183000
DTEND;TZID=Asia/Taipei:20240926T210000
DTSTAMP:20260421T214456
CREATED:20240924T031720Z
LAST-MODIFIED:20250318T014748Z
UID:10000522-1727202600-1727384400@events.mcu.edu.tw
SUMMARY:9/23-29期初大會串 Week 3 Club Welcome Events
DESCRIPTION:時光飛逝，本學期來到了第三週，對學校的生活還滿意嗎？想讓大學生活變得更豐富嗎？本週每天皆有不同的社團「期初大會」迎接社員們或著有興趣的同學們的加入。 \n9/23（一）桃銘羽球社18:00開始會有團康活動接著進行正式社課內容；北銘點心烘焙社18:00-21:00於F513將準備凍檸茶以及各式小點心迎接大家！以上二項活動僅社員才可參與。 \n9/24（二）桃銘天文社18:30-20:00可帶晚餐來S210享用外，當天也會有抽獎的活動；同一時間在S105朝陽社會工作社等你「相揪來七逃」；北銘咖啡品茗社18:30-20:30在H104舉行，歡迎邀請親朋好友共同參與；北銘慈青社18:00-20:30在B406，活動全程免費外，當天也有提供愛心晚餐，記得帶環保餐具來享用，同時，爵士鋼琴社在F604等你來參與，一起來玩吧！ \n9/25（三）的活動皆在18:00開始。桃銘撒母耳服務社當天會收取社費，活動地點待公告；布利歐管樂團於S210舉辦期初迎新演奏會，一同來見證這場華麗的視聽盛宴；晨星音創社(原嘻研)舉行迎新派對，有豐富的小甜點可享用外，抽獎活動也是不可少的，這麼精彩的活動，不容錯過！最後，A&R熱音社在台北校區H201舉辦新生說明會，18:00入場，18:30開始，想要更了解熱音社的人，誠摯邀請同學們的參加。 \n9/26（四）桃銘射箭社18:00-20:00在射箭練習場，幻想過拉弓射箭，百發百中直中靶心嗎，現在加入社團便有機會實現；對配音表演感到好奇，日語配音社於M106將展現多場表演，17:40開放入場，18:00開始；北銘電影創作社12:00-13:00在H104舉行，參與活動時新生別忘記帶社費 ! \n最後9/28（六）攝影美學社迎來第一次社課外拍，本次將前去士林官邸探探歷史的痕跡，透過不一樣的鏡頭角度來看世界吧！ \n本週有多場活動，同學們是不是心動啦 ! 對社團想要更加了解也歡迎來到期初大會並參與社課活動，會有開朗熱情的學長姐為同學們解惑，更多活動詳情請洽各社Instagram粉專。 \nTime flies\, and we’re already in the third week of the semester! How’s your life on campus so far? Looking to enrich your university experience? Every day this week\, different clubs are hosting their “Beginning-of-Semester Welcome Events”\, inviting both current members and interested students to join. \n\n\n\n\n9/23 (Mon) \n\nBadminton Club at 18:00 will start with team-building activities\, followed by the official club session.\nBaking Club from 18:00-21:00 at F513 will be serving iced lemon tea and various snacks to welcome everyone! Both events are exclusive to club members.\n\n9/24 (Tue) \n\nTaoyuan Astronomy Club from 18:30-20:00 at S210—bring your dinner\, and there will also be a raffle!\nChao Yang Social Work Club at the same time in S105 invites you to join their “Seven Escape” game.\nSpecialty Coffee Club from 18:30-20:30 at H104 welcomes you and your friends to join.\nTzu Ching Club from 18:00-20:30 at B406 is offering free meals (remember to bring your own utensils!).\nJazz Piano Club will also be welcoming members at F604. Come and play!\n\n9/25 (Wed) – All events start at 6:00 PM. \n\nSamuel Service Club will collect membership fees\, with the event location to be announced.\nBrio Wind Band will host a welcome concert at S210\, offering a spectacular audiovisual experience.\nVenus Music Creation is having a welcome party with sweet treats and a raffle—don’t miss out on the fun!\nA&R Pop Music Club in Taipei at H201 will hold a new member orientation. Doors open at 18:00 and the session begins at 18:30. If you want to learn more about the club\, you’re warmly invited!\n\n9/26 (Thu) \n\nArchery Club from 18:00-20:00 at the archery practice field—ever dreamed of hitting the bullseye? Join now and make it happen!\nJapanese Dubbing Club will be showcasing various performances in M106. Doors open at 17:40 with the show starting at 18:00.\nMovie Creative Club will meet from 12:00-13:00 in H104—don’t forget to bring your membership fee if you’re a new member!\n\nFinally\, on 9/28 (Sat)\, the Photo Club will hold its first club outing at Shilin Residence\, exploring history through the lens. See the world from a different angle! \nWith so many exciting activities this week\, have any caught your eye? If you’re curious about any clubs\, feel free to attend their welcome events and activities. Friendly and enthusiastic seniors will be there to guide you. For more details\, check out each club’s Instagram page!
URL:https://events.mcu.edu.tw/event/9-23-29%e6%9c%9f%e5%88%9d%e5%a4%a7%e6%9c%83%e4%b8%b2-week-3-club-welcome-events/
LOCATION:台北校區Taipei Campus\, 中山北路五段250號\, 台北市\, Taiwan
CATEGORIES:A&R熱音社,咖啡品茗社,天文社,射箭社,布利歐管樂團,慈青社,撒母耳服務社,攝影美學社,日配社,晨星音創社,朝陽社會工作團,爵士鋼琴社,社團多元化,羽球社,電影創作社,點心烘培社
ATTACH;FMTTYPE=image/jpeg:https://events.mcu.edu.tw/wp-content/uploads/2024/09/1206期新聞集錦電子報配圖.jpg
END:VEVENT
BEGIN:VEVENT
DTSTART;TZID=Asia/Taipei:20240501T090000
DTEND;TZID=Asia/Taipei:20240507T170000
DTSTAMP:20260421T214456
CREATED:20240430T012657Z
LAST-MODIFIED:20240430T025045Z
UID:10000194-1714554000-1715101200@events.mcu.edu.tw
SUMMARY:日語配音社 Japanese Dubbing Club｜中文配音講座 Chinese Dubbing Forum－楊詩穎老師 Ms Yang Shi-ying
DESCRIPTION:日語配音社特別邀請曾為《工作細胞》、《咒術迴戰》、《鏈鋸人》等知名動漫配音的楊詩穎老師，5/9（四）18:00-20:00在M106與大家面對面分享，全校師生皆可報名參加，人數有限，依填單先後順序入選，趕緊手速報名參加！報名辦法：上日語配音社IG [mcujdc112] 填寫報名表單，即日起至5/7（二）截止，一次填表僅接收一人報名，複數參加者需各自填寫表單，正選名單會於5/8（三）公布，請自行注意社群發文；難得的機會，歡迎有興趣的同學踴躍報名參加！ \nJapanese Dubbing Club featuring Ms Yang Shi-ying\, who has provided voice dubbing for popular anime such as《工作細胞》\,《咒術迴戰》and《鏈鋸人》\, will be held on May 9 (Thursday) from 18:00 to 20:00 at Room M106. All faculty and students are welcome to sign up\, but please note that spots are limited and will be allocated on a first-come\, first-served basis according to the submission of the form. To register\, please fill out the registration form on the Japanese Dubbing Club’s Instagram [mcujdc112]. Registration is open from now until May 7 (Tuesday). Each person should fill out the form separately\, and the list of selected participants will be announced on May 8 (Wednesday) via social media. Don’t miss out on this rare opportunity! We welcome all interested students to sign up enthusiastically!
URL:https://events.mcu.edu.tw/event/%e6%97%a5%e8%aa%9e%e9%85%8d%e9%9f%b3%e7%a4%be-japanese-dubbing-club%ef%bd%9c%e4%b8%ad%e6%96%87%e9%85%8d%e9%9f%b3%e8%ac%9b%e5%ba%a7-chinese-dubbing-forum%ef%bc%8d%e6%a5%8a%e8%a9%a9%e7%a9%8e%e8%80%81/
LOCATION:桃園校區Taoyuan Campus\, 龜山區德明路5號\, 桃園市\, Taiwan
CATEGORIES:日配社
ATTACH;FMTTYPE=image/png:https://events.mcu.edu.tw/wp-content/uploads/2024/04/pic19.png
END:VEVENT
END:VCALENDAR