BEGIN:VCALENDAR
VERSION:2.0
PRODID:-//Events Calendar - ECPv6.8.1//NONSGML v1.0//EN
CALSCALE:GREGORIAN
METHOD:PUBLISH
X-WR-CALNAME:Events Calendar
X-ORIGINAL-URL:https://events.mcu.edu.tw
X-WR-CALDESC:Events for Events Calendar
REFRESH-INTERVAL;VALUE=DURATION:PT1H
X-Robots-Tag:noindex
X-PUBLISHED-TTL:PT1H
BEGIN:VTIMEZONE
TZID:Asia/Taipei
BEGIN:STANDARD
TZOFFSETFROM:+0800
TZOFFSETTO:+0800
TZNAME:CST
DTSTART:20240101T000000
END:STANDARD
END:VTIMEZONE
BEGIN:VEVENT
DTSTART;TZID=Asia/Taipei:20241225T090000
DTEND;TZID=Asia/Taipei:20250114T170000
DTSTAMP:20260420T154447
CREATED:20241203T081041Z
LAST-MODIFIED:20241203T081041Z
UID:10000738-1735117200-1736874000@events.mcu.edu.tw
SUMMARY:「白線新貌」2024蕭明輝創作展 "The New Look of White Lines" - 2024 Solo Exhibition by Hsiao Ming-Hui
DESCRIPTION:★展覽日期 Date：113年12月25日至114年1月14日 2024/12/25-2025/1/14（1/1、1/6休館 Closed on 1/1 and 1/6） \n★展覽地點 Venue：新北市藝文中心第一展覽室 First Exhibition Room\, New Taipei City Arts Center \n★展覽簡介 Overview： \n藝術家蕭明輝曾為彰化縣美術家接力展最年輕彩墨獎得主，在國內各文化中心及畫廊個展30回，作品廣受歡迎及收藏。此次「白線新貌」個展，皆是近年研究創新的作品。藉由細如絲線的水墨線條變化，諸如密集重疊、橫豎長短、直曲弧線等方式來創造出具有空間感、旋律感及不同的氣氛與想像。 \n歡迎有興趣的朋友，把握展期前來感受新水墨耳目一新、不同氛圍的藝術饗宴。 \nRenowned artist Hsiao Ming-Hui\, the youngest winner of the Colored Ink Award in the Changhua County Artist Relay Exhibition\, has held over 30 solo exhibitions across cultural centers and galleries in Taiwan. His works are highly acclaimed and widely collected. \n“The New Look of White Lines” features innovative pieces from recent years. Hsiao utilizes fine\, silk-like ink lines in diverse formations—overlapping patterns\, varying lengths and directions\, straight and curved arcs—to craft compositions rich in spatial dynamics\, rhythm\, and atmosphere\, sparking unique imaginations. \nArt enthusiasts are invited to experience this refreshing take on contemporary ink art\, offering a captivating blend of novelty and ambiance.
URL:https://events.mcu.edu.tw/event/%e3%80%8c%e7%99%bd%e7%b7%9a%e6%96%b0%e8%b2%8c%e3%80%8d2024%e8%95%ad%e6%98%8e%e8%bc%9d%e5%89%b5%e4%bd%9c%e5%b1%95-the-new-look-of-white-lines-2024-solo-exhibition-by-hsiao-ming-hui/
LOCATION:新北市藝文中心\, 板橋區莊敬路62號\, 新北市\, Taiwan
CATEGORIES:新北市藝文中心
ATTACH;FMTTYPE=image/jpeg:https://events.mcu.edu.tw/wp-content/uploads/2024/12/蕭明輝：1變70x90cm-scaled.jpg
END:VEVENT
BEGIN:VEVENT
DTSTART;TZID=Asia/Taipei:20241220T090000
DTEND;TZID=Asia/Taipei:20250114T170000
DTSTAMP:20260420T154447
CREATED:20241203T074515Z
LAST-MODIFIED:20241203T074515Z
UID:10000737-1734685200-1736874000@events.mcu.edu.tw
SUMMARY:《在不透明的軀殼裡思考透明》綦宗涵繪畫創作個展 "Contemplating Transparency Within an Opaque Shell" - Qi Zong-Han Solo Painting Exhibition
DESCRIPTION:★展覽日期 Date：113年12月20日至114年1月14日 2024/12/20-2025/1/14（1/1、1/6休館 Closed on 1/1 and 1/6） \n★展覽地點 Venue：新北市藝文中心第二展覽室 Second Exhibition Room\, New Taipei City Arts Center \n★展覽簡介 Overview： \n作者綦宗涵使用水性媒材表達對物質的意識，從純粹的繪畫童心所出發，積累生活的多樣性空間，透過主觀的想法所呈現平面裝飾效果，色塊與色彩組成差異空間美感，建構重組符號的虛幻地帶，組織台灣城市與風景的樣貌。 \nArtist Qi Zong-Han uses water-based media to explore material consciousness\, starting from the pure\, childlike essence of painting. His works accumulate the diverse spatialities of everyday life and present subjective interpretations through decorative planar effects. The interplay of color blocks and hues creates spatial aesthetics of contrast\, constructing a fantastical realm of reassembled symbols. These compositions portray impressions of Taiwan’s urban landscapes and natural scenery.
URL:https://events.mcu.edu.tw/event/%e3%80%8a%e5%9c%a8%e4%b8%8d%e9%80%8f%e6%98%8e%e7%9a%84%e8%bb%80%e6%ae%bc%e8%a3%a1%e6%80%9d%e8%80%83%e9%80%8f%e6%98%8e%e3%80%8b%e7%b6%a6%e5%ae%97%e6%b6%b5%e7%b9%aa%e7%95%ab%e5%89%b5%e4%bd%9c%e5%80%8b/
LOCATION:新北市藝文中心\, 板橋區莊敬路62號\, 新北市\, Taiwan
CATEGORIES:新北市藝文中心
ATTACH;FMTTYPE=image/jpeg:https://events.mcu.edu.tw/wp-content/uploads/2024/12/05-綦宗涵圖片-scaled.jpg
END:VEVENT
BEGIN:VEVENT
DTSTART;TZID=Asia/Taipei:20241204T090000
DTEND;TZID=Asia/Taipei:20241222T170000
DTSTAMP:20260420T154447
CREATED:20241203T081537Z
LAST-MODIFIED:20241203T081537Z
UID:10000739-1733302800-1734886800@events.mcu.edu.tw
SUMMARY:寓情蘭嶼 Expressing Our Feelings To Pongso Tao
DESCRIPTION:★展覽日期 Date：113年12月4日至12月22日 2024/12/4-12/22 \n★展覽地點 Venue：新北市藝文中心第一展覽室 First Exhibition Room\, New Taipei City Arts Center \n★展覽簡介 Overview： \n中華亞太水彩藝術協會致力於推廣水彩藝術，兼顧創作與學術研究，是一個備受矚目且最有活力的全國性專業團體。2023年4月，隨著執行長江翊民的腳步，踏上台灣的離島—蘭嶼，深入探索當地生活、文化、風景和居民故事。經過一年的思考與創作，最終甄選出41幅作品，展現了藝術家的心血與情感，誠邀您一同見證這段精彩的藝術旅程。 \nThe Chinese Asia-Pacific Watercolor Association\, a highly regarded and dynamic national professional organization\, is dedicated to promoting watercolor art while balancing creative and academic pursuits. \nIn April 2023\, under the leadership of Executive Director Chiang Yi-Min\, the association ventured to Pongso Tao (Orchid Island)\, exploring its unique lifestyle\, culture\, landscapes\, and the stories of its inhabitants. After a year of reflection and artistic creation\, 41 outstanding pieces were selected\, showcasing the artists’ heartfelt interpretations and dedication. \nThis exhibition invites you to witness and celebrate this remarkable artistic journey.
URL:https://events.mcu.edu.tw/event/%e5%af%93%e6%83%85%e8%98%ad%e5%b6%bc-expressing-our-feelings-to-pongso-tao/
LOCATION:新北市藝文中心\, 板橋區莊敬路62號\, 新北市\, Taiwan
CATEGORIES:新北市藝文中心
ATTACH;FMTTYPE=image/jpeg:https://events.mcu.edu.tw/wp-content/uploads/2024/12/寓情蘭嶼-12X18CM-IVY-01.jpg
END:VEVENT
BEGIN:VEVENT
DTSTART;TZID=Asia/Taipei:20241204T090000
DTEND;TZID=Asia/Taipei:20241217T170000
DTSTAMP:20260420T154447
CREATED:20241203T071108Z
LAST-MODIFIED:20241203T071108Z
UID:10000736-1733302800-1734454800@events.mcu.edu.tw
SUMMARY:《浮生演繹》林麗玲繪畫藝術創作個展 "Life Interpretations" - Lin Li-Ling Solo Painting Exhibition
DESCRIPTION:★展覽日期 Date：113年12月4日至12月17日 2024/12/4-12/17 \n★展覽地點 Venue：新北市藝文中心第三展覽室 Third Exhibition Room\, New Taipei City Arts Center \n★展覽簡介 Overview： \n【浮生演繹】乃筆者對生命感悟與體認，進而觀察在生命中心情跌宕中，如何找到與內心對話的繪畫語彙，創作藉由擬人法、生活語彙、花語代表意義、色彩之具體、抽象聯想與其色相象徵意涵，太極概念等，展開串聯對生活可能的對話，為本次創作呈現之主題內容，以繪畫演繹翹望之心象與新象。 \n“Life Interpretations” reflects the artist’s insights and experiences of life\, exploring how to find a visual language for painting that dialogues with the inner self amidst the emotional fluctuations of existence. The works employ techniques such as personification\, everyday vernacular\, symbolic meanings of floral language\, abstract and concrete color associations\, and concepts from Taiji philosophy. These elements come together to create a thematic narrative that explores life’s possibilities\, embodying aspirations and novel perspectives through the medium of painting.
URL:https://events.mcu.edu.tw/event/%e3%80%8a%e6%b5%ae%e7%94%9f%e6%bc%94%e7%b9%b9%e3%80%8b%e6%9e%97%e9%ba%97%e7%8e%b2%e7%b9%aa%e7%95%ab%e8%97%9d%e8%a1%93%e5%89%b5%e4%bd%9c%e5%80%8b%e5%b1%95-life-interpretations-lin-li-ling-solo-pa/
LOCATION:新北市藝文中心\, 板橋區莊敬路62號\, 新北市\, Taiwan
CATEGORIES:新北市藝文中心
ATTACH;FMTTYPE=image/jpeg:https://events.mcu.edu.tw/wp-content/uploads/2024/12/浮生演繹林麗玲繪畫藝術創作個展.jpg
END:VEVENT
END:VCALENDAR