BEGIN:VCALENDAR
VERSION:2.0
PRODID:-//Events Calendar - ECPv6.8.1//NONSGML v1.0//EN
CALSCALE:GREGORIAN
METHOD:PUBLISH
X-ORIGINAL-URL:https://events.mcu.edu.tw
X-WR-CALDESC:Events for Events Calendar
REFRESH-INTERVAL;VALUE=DURATION:PT1H
X-Robots-Tag:noindex
X-PUBLISHED-TTL:PT1H
BEGIN:VTIMEZONE
TZID:Asia/Taipei
BEGIN:STANDARD
TZOFFSETFROM:+0800
TZOFFSETTO:+0800
TZNAME:CST
DTSTART:20240101T000000
END:STANDARD
END:VTIMEZONE
BEGIN:VEVENT
DTSTART;TZID=Asia/Taipei:20240511T133000
DTEND;TZID=Asia/Taipei:20240511T163000
DTSTAMP:20260420T124120
CREATED:20240418T090331Z
LAST-MODIFIED:20240418T090331Z
UID:10000164-1715434200-1715445000@events.mcu.edu.tw
SUMMARY:社交x推理x遊戲｜華麗謝幕─「精準失誤的魔術」
DESCRIPTION:本遊戲使用玩家資料製作相關遊戲道具，故本場地遊戲報名時間至5/9（四）中午12點為止。 \n遊戲介紹 \n \n你收到一封邀請函，邀請方是魔術界有名的俱樂部，傳聞那個俱樂部只會邀請熟識的人觀賞表演… \n你鑽研魔術多年，卻在幾年前遇上瓶頸一度無法進步，因緣際會下你拜一個神祕魔術師為師，雖然從未看過師傅面容，但其精妙的魔術技術，讓你為之傾倒。 \n今天，你收到一封神秘俱樂部的表演邀請函，傳聞中這個俱樂部表演精妙，但只邀請魔術圈內來觀賞，你思考過後，想到自己那神秘的師傅，或是他就是俱樂部一員，因此你決定應約前往當天的表演。 \n \n表演華麗無比，各種魔術一一在舞台上展現，但你沒發現，在表演之外，一個陰謀悄悄上演，\n而你，正慢慢陷入的漩渦之中… \n遊戲性： ★ ★ ★ ★ ☆，4/5。\n社交性： ★ ★ ✬ ☆ ☆，2.5/5。\n燒腦性： ★ ★ ★ ★ ☆，4/5。\n本活動適合：喜歡推理故事或是劇本殺遊戲的朋友。 \nPS：本活動非聯誼，無配對橋段，若有需求請斟酌報名。 \n\n遊戲玩法 \n \n本遊戲為社交推理遊戲，在遊戲中你將扮演神秘魔術師的徒弟，透過遊戲中於各地點調查一步一步獲得關於真相的線索，並在與他人的交流中與調查俱樂部成員的日記，找到自己師傅的真實身分。 \n最終，你為了保護自己與師傅的名聲，必須指認其他的俱樂部成員作為兇手。 \n\n注意事項 \n\n遊戲中會有許多推理的過程，若擔心對推理不擅長的朋友也不需要擔心，因為遊戲中鼓勵人與人互相交流，所以若不擅長，可以利用交換情報的方式獲得更多的推理細節。\n本活動社交推理遊戲，過程中並不會遊玩桌遊。\n為加強交朋友的面向，遊戲中會使用部分個人真實資訊（星座、職業和興趣）當作遊戲內容。\n本遊戲非聯誼活動，因此不會有配對環節，但遊戲中仍會有需與他人交流部分，因此也請評估之後再做報名哦！\n遊戲中主辦單位可能會進行側拍或錄影等紀錄，並使用在未來包含但不限於使用在本單位之官網、社群媒體、廣告行銷等用途。\n\n以上須知於報名後等同同意，若有介意或無法接受的部分，請再斟酌報名。 \n\n活動流程 \n \n\n適合參加對象 \n1. 對推理遊戲有興趣或想認識新朋友的人。 \n2. 喜歡嘗試新事物的早期採用者（early adopter）。 \n3. 太忙常常沒參加到派對的朋友(?)。 \n4. 單身、非單身者皆可以參加。 \n5. 一個人單獨報名、一群朋友揪團來也都可以參加。 \n6. 男、女皆可，費用也完全相同。 \n7. 想多認識新朋友，但對於遊戲沒有到非常有興趣、不過也不排斥的人，也可以參加，因為遊戲中是可以透過交流討論的方式來進行的，因此可以團體合作。 \n8. 只對遊戲有興趣的人，也可以自己單獨來參加這個活動，只是遊戲本身也會有需要與他人交換情報的部分，透過交流可以獲得更多的答案細節。 \n\n活動場地 \n \n「齊文藝室 」：一個充斥各種類型活動的多功能場域，其中最受顧客歡迎的非三樓挑高閣樓莫屬。歐式的居家風格設計，有著如同家一般的溫暖氛圍。在這裡，它可以是一個精美的棚拍佈景，也可以是一個親朋好友舉辦派對的豪華包廂，更可以是留下難忘求婚儀式的好地方。 \n館內三層樓各有不同的歐式主題風格，彷彿回到了歐洲咖啡廳的氛圍，除了豐富的自助區提供飲品小點能為所有訪客補充能量，還有更多便利的工作設備與服務，是一個許多人聚會與工作的場域首選。 \n本館的前身是創辦人Nana從小念書甚至長大工作的設計補教機構，Nana認為臺北市方便工作的咖啡廳少之又少，於是決定轉型親手打造一個集氛圍、網路、插座、飲點無限供應於一身的終極工作咖啡廳，也因為Nana是設計與活動企劃背景出生，這裡也同樣召募了許多數位遊牧、活動企劃與設計藝術的夥伴們一同籌辦多元活動，可說是間充滿設計感與活力的多元咖啡廳。 \n\n其他 QA \nQ：活動是會定期舉辦的嗎？\n本場次為首發早鳥場，預期目標為每月舉辦1-2次。 \nQ：之前有參加過還可以再參加一次嗎？\n因推理劇情不會改動，因此重複遊完將影響遊戲體驗，建議可參與其他遊戲。 \nQ：現場座位是如何安排？\n因遊戲過程中，玩家會是走動的狀態，故現場無特定指定座位，但還請隨身保管重要物品。 \nQ：本活動有提供餐飲嘛？\n活動報名費包含簡單茶飲，或是可自行攜帶餐飲食用，但因活動間不適合飲食，建議在正式開始前食用完畢。 \nQ：有辦法先知道遊戲規則或輸贏條件嗎？\n因為考量到遊戲公平性，事先不會透漏遊戲規則和獲勝條件，詳細的規則內容會在活動當天再跟參加者統一做解說，因此若參加請準時抵達。 \nQ：推理會很難嗎？\n這部分可能因人而異，但若覺得推理很難，此遊戲鼓勵與其他玩家合作，或許可以找到單獨推理之外的樂趣唷！ \nQ：想認識新朋友，但也想找自己的朋友一起報名可以嗎？\n報名沒有限制一定只能單獨報名，因此無論單獨或和朋友一起參加都很歡迎，但因遊戲可能會有需保密部分，還請參加的夥伴們，務必遵守保密規則。 \n\n活動花絮 \n \n\n主辦單位 \n拉拉社交遊戲IG\n拉拉工作室致力設計「社交遊戲」。\n「社交遊戲」是一種透過專業的實境遊戲設計，讓參加者在遊玩的過程中，與他人建立有效的社交關係的活動。活動中以遊戲機制帶領玩家合作、競爭快速建立熟悉及信任感，又能避免類似聯誼太過強力目的性氛圍，在遊戲帶給人的輕鬆氛圍中結交新朋友。 \n拉拉實境遊戲設計師IG \n拉拉作為實境遊戲設計師的IG，專門分享作品或是設計遊戲的相關心得，歡迎追蹤。 \n視覺設計 Angela IG專頁：\n本次合作之插畫設計，有相關需求的朋友歡迎透過IG聯繫。 \n遊戲編劇 ：Zoe Huang \n\n其他補充 \n本次活動除票價，包含簡單飲品，並且現場不會再收取任何額外或附加的費用！ \n由於活動場地有人數限制，因此需要先在活動通上完成報名，不開放現場報名！本活動最低舉辦人數為20人，名額最多是40人，目前的報名人數可以在售票頁面直接查看。若報名未達到最低活動人數將會取消或延期舉辦，最晚會在活動開始前兩天以 email 通知，報名費用可以選擇全額退還，或保留至其他場次使用。 \n報名：https://www.accupass.com/eflow/ticket/2404141744564322475430?utm_campaign=accu_banner&utm_medium=home_north&utm_source=Web \n 
URL:https://events.mcu.edu.tw/event/%e7%a4%be%e4%ba%a4x%e6%8e%a8%e7%90%86x%e9%81%8a%e6%88%b2%ef%bd%9c%e8%8f%af%e9%ba%97%e8%ac%9d%e5%b9%95%e2%94%80%e3%80%8c%e7%b2%be%e6%ba%96%e5%a4%b1%e8%aa%a4%e7%9a%84%e9%ad%94%e8%a1%93%e3%80%8d/
LOCATION:齊文藝室共享空間咖啡廳\, 中正區南陽街32號3樓\, 台北市\, Taiwan
CATEGORIES:ACCUPASS,拉拉實境遊戲工作室
ATTACH;FMTTYPE=image/png:https://events.mcu.edu.tw/wp-content/uploads/2024/04/pic12.png
END:VEVENT
BEGIN:VEVENT
DTSTART;TZID=Asia/Taipei:20240204T140000
DTEND;TZID=Asia/Taipei:20240204T170000
DTSTAMP:20260420T124120
CREATED:20240119T074923Z
LAST-MODIFIED:20240119T074923Z
UID:10000033-1707055200-1707066000@events.mcu.edu.tw
SUMMARY:社交x思辨x遊戲｜創世設計所─「為了你想創造的世界，你願意付出多少代價？」
DESCRIPTION:活動資訊 \n \n前導故事 \n「設計師，你好，我是創世設計所的設計長。希望能邀請你參加『創世競標會』，一起為新誕生的世界貢獻一份心力」。 \n「創世設計所」是自宇宙誕生以來，便不斷為宇宙創造世界的地方。\n設計所即將打造的No.102號世界，由於設計長很是對地球以及人類文明感興趣，希望No.102號世界能以此為靈感來設計。 \n然而設計所內的「創世設計師」誰都對地球、人類文明不甚瞭解，彼此爭論不休、久久無法推動No.102號世界的設計進度…… \n因此設計長靈機一動，決定廣邀地球上的人類來擔任No.102號世界的創世設計師，並以「創世競標會」的方式，由最受其它設計師認同的價值觀或理念，來作為新世界的規則。而最受推崇的設計師將會成為No.102號世界的設計主宰。 \n「人類設計師們，歡迎參加創世競標會，在這裡我們僅討論新世界該有什麼樣的規則，沒有對錯是非、沒有正義邪惡，有的只是各位想創造怎麼樣的世界，你們準備好了嗎？」 \n遊戲性： ★ ★ ★ ★ ☆，4/5。\n社交性： ★ ★ ✬ ☆ ☆，2.5/5。\n燒腦性： ★ ★ ★ ★ ☆，4/5。\n本活動適合：有許多對於世界上許多問題都有自己獨特的見解，以及想聽到不同價值觀的朋友。 \nPS: 本活動非聯誼，無配對橋段，若有需求請斟酌報名。 \n \n遊戲玩法 \n為了創造一個全新的世界。你受邀擔任創世設計師，並參加創世競標會，為新世界貢獻你的想法。 \n當一個規則被提出後，設計師必須透過消耗因果值來支持自己的觀點，同時也需要依靠語言說服其他設計師消耗因果值支持自己。 \n每次規則成立或被反對後，較多因果值的那方，將獲得世界的影響力。 \n在四次規則討論結束後，「設計長」將依據對是記的影響力宣佈本次新世界的設計主宰，並呈現新世界的樣貌。 \n注意事項 \n\n遊戲中會有許多思辨的過程，玩家間將對各類價值觀提出自己想法，但不需要擔心產生火花，隨時會有主持人保持遊戲穩定進行。\n本活動社交思辨遊戲，過程中並不會遊玩桌遊。\n為加強交朋友的面向，遊戲中會使用部分個人真實資訊（星座、職業和興趣）當作遊戲內容。\n本遊戲非聯誼活動，因此不會有配對環節，但遊戲中仍會有需與他人交流部分，因此也請評估之後再做報名哦！\n遊戲中主辦單位可能會進行側拍或錄影等紀錄，並使用在未來包含但不限於使用在本單位之官網、社群媒體、廣告行銷等用途。\n\n以上須知於報名後等同同意，若有介意或無法接受的部分，請再斟酌報名。 \n流程時間 \n \n適合參加對象 \n\n希望能藉由價值觀討論，認識新朋友的人。\n喜歡嘗試新事物的早期採用者（early adopter）。\n一個人單獨報名、一群朋友揪團來也都可以參加。\n單身、非單身者皆可以參加。\n常常有莫名其妙的想法，但找不到人分享或討論。\n覺得生活圈狹窄、平凡，想對自己的價值觀做一些毆打的人。\n跟別人討論不會因為意見不合而動怒的人。（重要）\n會乖乖聽設計長說話，包含請你出場的人。（更重要）\n\n其他QA \nQ：這是哪種類型的遊戲？桌遊？團康？ \n本次活動為社交遊戲，網路上目前較無類似可以參考的資訊，若以設計師主觀分類，應該為社交型的實境遊戲。（也可參考Netflix影集：魔鬼的計謀）若有想更了解的地方，都歡迎來信或來訊詢問~ \nQ：活動是會定期舉辦的嗎？ \n目前本活動預計每月舉辦一次，實際舉辦依人數實行。 \nQ：現場座位是如何安排？ \n活動開始前依報名順序設定好位置，報到後依編號入座即可。 \nQ：有辦法先知道遊戲規則或輸贏條件嗎？ \n因為考量遊戲性，暫時不會事先透漏遊戲規則和獲勝條件，詳細的規則內容會在活動當天再跟參加者統一做解說。 \nQ：想認識新朋友，但也想找自己的朋友一起報名可以嗎？ \n報名沒有限制一定只能單獨報名，因此無論單獨或和朋友一起參加都很歡迎。 \n活動花絮 \n\n競標首席的設計師 \n\n公開發表意見的設計師 \n場地介紹 \n\n▲ 樂埔薈所Lepu Lounge（原臺北刑務所官舍、副典獄長宿舍）介紹影片 \n\n「愛國東路3號」原是日治時期興建的刑務所官舍，光復後則為副典獄長的宿舍。此棟亦是該區官舍群中保留的最後一棟建築，與金華街區遺構共同見證臺北刑務所歷史。這棟80年的建物現已恢復成原始的風貌，文化活動及餐飲概念的注入\,讓民眾亦得以和歷史對話。 \n\n臺北刑務所為日本政府在1895年展開的第一項大型公共建築計畫，是台北獄政的重要歷史場域。台灣新文學之父賴和、台灣文化協會創辦人蔣渭水皆曾被關押在此。愛國東路3號是刑務所建築群中僅存的獨棟高階官舍，本棟保留了原屋架、牆壁、欄間等歷史構造，可欣賞獨特的日式特色建築工法。 \n其他補充 \n\n本次遊戲受「他群」的桌遊作品「眾聲議會」啟發設計而成，並經「他群」同意後改編。有興趣的朋友歡迎搜尋「他群 眾聲議會」獲得更詳細內容。\n本次活動為體驗場，每人費用為NT$650（之後價格會視回饋反應來調整），活動報名費用已包含茶飲，現場不會再收取任何額外或附加的費用！\n\n由於活動場地有人數限制，因此需要先在活動通上完成報名，不開放現場報名！本活動最低舉辦人數為8人，名額最多是12人，目前的報名人數可以在售票頁面直接查看。若報名未達到最低活動人數將會取消或延期舉辦，最晚會在活動開始前兩天以email通知，報名費用可以選擇全額退還，或保留至其他場次使用。
URL:https://events.mcu.edu.tw/event/%e7%a4%be%e4%ba%a4x%e6%80%9d%e8%be%a8x%e9%81%8a%e6%88%b2%ef%bd%9c%e5%89%b5%e4%b8%96%e8%a8%ad%e8%a8%88%e6%89%80%e2%94%80%e3%80%8c%e7%82%ba%e4%ba%86%e4%bd%a0%e6%83%b3%e5%89%b5%e9%80%a0%e7%9a%84%e4%b8%96/
LOCATION:拉拉實境遊戲設計師\, 愛國東路3號\, 台北市\, Taiwan
CATEGORIES:ACCUPASS,拉拉實境遊戲工作室
ATTACH;FMTTYPE=image/png:https://events.mcu.edu.tw/wp-content/uploads/2024/01/pic20.png
END:VEVENT
BEGIN:VEVENT
DTSTART;TZID=Asia/Taipei:20240202T190000
DTEND;TZID=Asia/Taipei:20240202T220000
DTSTAMP:20260420T124120
CREATED:20240119T062850Z
LAST-MODIFIED:20240119T062850Z
UID:10000032-1706900400-1706911200@events.mcu.edu.tw
SUMMARY:【假面舞會】社交x解謎x遊戲－一同多人解謎社交遊戲
DESCRIPTION:活動資訊 \n故事背景 \n在某個神祕的異世界大陸中，分別被「紅之國」與「藍之國」所割據。而東、西兩國長期因領土爭議有所摩擦，心念世人的預言家們為了創造雙方和平的機會，於是對兩國領袖提出會談邀約。 \n在基於會談的安全考量，所有的參加者在進入會場後都將自動被魔法易容來避免衝突。但雙方人員都心懷鬼胎，打算在這場舞會中，一勞永逸的解決對方的關鍵人物…… \n遊戲性： ★ ★ ★ ★ ☆，4/5。\n社交性： ★ ★ ★ ☆ ☆，3/5。\n燒腦性： ★ ★ ★ ✬ ☆，3.5/5。 \n本活動適合：喜歡跟別人一起玩解謎、密室逃脫、陣營類遊戲的朋友。 \nPS: 本活動非聯誼，無配對橋段，若有需求請斟酌報名。 \n注意事項 \n\n遊戲中會有許多解謎的部分，若擔心自己對解謎不擅長的朋友也不需要擔心，因為遊戲中鼓勵人與人互相交流，所以若對解謎不擅長，可以利用交換情報的方式獲得更多的謎題答案。\n本活動實境解謎遊戲，過程中並不會遊玩桌遊，因此若是想單純玩桌遊的朋友，可以參考主辦方【桌遊收容所】所舉辦的活動。\n為加強交朋友的面向，遊戲中會使用部分個人真實資訊（星座、職業和興趣）當作遊戲謎題。\n本遊戲非聯誼活動，因此不會有配對環節，但遊戲中仍會有需與他人交流部分，因此也請評估之後再做報名哦！\n遊戲中主辦單位可能會進行側拍或錄影等紀錄，並使用在未來包含但不限於使用在本單位之官網、社群媒體、廣告行銷等用途。\n\n以上須知於報名後等同同意，若有介意或無法接受的部分，請再斟酌報名。 \n活動流程 \n \n適合參加對象 \n\n對解謎遊戲或想認識新朋友的人。\n喜歡嘗試新事物的早期採用者（early adopter）。\n太忙常常沒參加到派對的朋友(?)。\n單身、非單身者皆可以參加。\n一個人單獨報名、一群朋友揪團來也都可以參加。\n男、女皆可，費用也完全相同。\n想多認識新朋友，但對於解謎遊戲沒有到非常有興趣、不過也不排斥的人，也可以參加，因為遊戲中是可以透過交流討論的方式來進行的，因此可以團體解謎。\n只對解謎遊戲有興趣的人，也可以自己單獨來參加這個活動，只是活動的遊戲本身也會有交換情報的模式，透過交流可以獲得更多的謎題答案。\n\n其他QA \nQ：之前有參加過還可以再參加一次嗎？\n因遊戲的解謎題目相同，因此重覆參加將影響遊戲體驗，建議可參加拉拉工作室其他活動。 \nQ：活動是會定期舉辦的嗎？\n目前本活動已逐步穩定，現在是固定每個月會舉辦1-2次。 \nQ：現場座位是如何安排？\n因遊戲過程中，玩家會是走動的狀態，故現場無特定指定座位，但還請隨身保管重要物品。 \nQ：活動上需要跳舞嗎？\n活動上不會跳舞，「假面舞會」是本次解謎活動的主題而已。 \nQ：有辦法先知道遊戲規則或輸贏條件嗎？\n因為考量到遊戲公平性，事先不會透漏遊戲規則和獲勝條件，詳細的規則內容會在活動當天再跟參加者統一做解說，因此若參加請準時抵達。 \nQ：解謎題目會很難嗎？\n有的難、有的簡單，不過遇到難的題目可以跟旁邊的人一起討論，所以其實沒想像中難。 \nQ：想認識新朋友，但也想找自己的朋友一起報名可以嗎？\n報名沒有限制一定只能單獨報名，因此無論單獨或和朋友一起參加都很歡迎。 \n活動花絮 \n \n相關紀錄影片： \n \n其他補充 \n本次活動每人費用為NT$650（之後價格會視回饋反應來調整），最早五位報名享有早鳥優惠價NT$599，活動報名費用已包含一杯飲品的低消，現場不會再收取任何額外或附加的費用！ \n由於活動場地有人數限制，因此需要先在活動通上完成報名，不開放現場報名！本活動最低舉辦人數為20人，名額最多是40人，目前的報名人數可以在售票頁面直接查看。若報名未達到最低活動人數將會取消或延期舉辦，最晚會在活動開始前兩天以email通知，報名費用可以選擇全額退還，或保留至其他場次使用。
URL:https://events.mcu.edu.tw/event/%e3%80%90%e5%81%87%e9%9d%a2%e8%88%9e%e6%9c%83%e3%80%91%e7%a4%be%e4%ba%a4x%e8%a7%a3%e8%ac%8ex%e9%81%8a%e6%88%b2%ef%bc%8d%e4%b8%80%e5%90%8c%e5%a4%9a%e4%ba%ba%e8%a7%a3%e8%ac%8e%e7%a4%be%e4%ba%a4%e9%81%8a/
LOCATION:拉拉實境遊戲工作室\, 大同區長安西路39號1樓\, 台北市\, Taiwan
CATEGORIES:ACCUPASS,拉拉實境遊戲工作室
ATTACH;FMTTYPE=image/png:https://events.mcu.edu.tw/wp-content/uploads/2024/01/pic19.png
END:VEVENT
BEGIN:VEVENT
DTSTART;TZID=Asia/Taipei:20240127T133000
DTEND;TZID=Asia/Taipei:20240127T163000
DTSTAMP:20260420T124120
CREATED:20240122T040047Z
LAST-MODIFIED:20240122T040047Z
UID:10000034-1706362200-1706373000@events.mcu.edu.tw
SUMMARY:社交x推理x遊戲－【華麗謝幕－精準失誤的魔術】一同多人推理，認識朋友
DESCRIPTION:活動資訊 \n遊戲介紹 \n \n你收到一封邀請函，邀請方是魔術界有名的俱樂部，傳聞那個俱樂部只會邀請熟識的人觀賞表演… \n你鑽研魔術多年，卻在幾年前遇上瓶頸一度無法進步，因緣際會下你拜一個神祕魔術師為師，雖然從未看過師傅面容，但其精妙的魔術技術，讓你為之傾倒。 \n今天，你收到一封神秘俱樂部的表演邀請函，傳聞中這個俱樂部表演精妙，但只邀請魔術圈內來觀賞，你思考過後，想到自己那神秘的師傅，或是他就是俱樂部一員，因此你決定應約前往當天的表演。 \n \n表演華麗無比，各種魔術一一在舞台上展現，但你沒發現，在表演之外，一個陰謀悄悄上演，\n而你，正慢慢陷入的漩渦之中… \n遊戲性： ★ ★ ★ ★ ☆，4/5。\n社交性： ★ ★ ✬ ☆ ☆，2.5/5。\n燒腦性： ★ ★ ★ ★ ☆，4/5。\n本活動適合：喜歡推理故事或是劇本殺遊戲的朋友。 \nPS: 本活動非聯誼，無配對橋段，若有需求請斟酌報名。 \n遊戲玩法 \n \n本遊戲為社交推理遊戲，在遊戲中你將扮演神秘魔術師的徒弟，透過遊戲中於各地點調查一步一步獲得關於真相的線索，並在與他人的交流中與調查俱樂部成員的日記，找到自己師傅的真實身分。 \n最終，你為了保護自己與師傅的名聲，必須指認其他的俱樂部成員作為兇手。 \n注意事項 \n\n遊戲中會有許多推理的過程，若擔心對推理不擅長的朋友也不需要擔心，因為遊戲中鼓勵人與人互相交流，所以若不擅長，可以利用交換情報的方式獲得更多的推理細節。\n本活動社交推理遊戲，過程中並不會遊玩桌遊。\n為加強交朋友的面向，遊戲中會使用部分個人真實資訊（星座、職業和興趣）當作遊戲內容。\n本遊戲非聯誼活動，因此不會有配對環節，但遊戲中仍會有需與他人交流部分，因此也請評估之後再做報名哦！\n遊戲中主辦單位可能會進行側拍或錄影等紀錄，並使用在未來包含但不限於使用在本單位之官網、社群媒體、廣告行銷等用途。\n\n以上須知於報名後等同同意，若有介意或無法接受的部分，請再斟酌報名。 \n活動流程 \n \n適合參加對象 \n\n對推理遊戲有興趣或想認識新朋友的人。\n喜歡嘗試新事物的早期採用者（early adopter）。\n太忙常常沒參加到派對的朋友(?)。\n單身、非單身者皆可以參加。\n一個人單獨報名、一群朋友揪團來也都可以參加。\n男、女皆可，費用也完全相同。\n想多認識新朋友，但對於遊戲沒有到非常有興趣、不過也不排斥的人，也可以參加，因為遊戲中是可以透過交流討論的方式來進行的，因此可以團體合作。\n只對遊戲有興趣的人，也可以自己單獨來參加這個活動，只是遊戲本身也會有需要與他人交換情報的部分，透過交流可以獲得更多的答案細節。\n\n活動場地 \n \n「齊文藝室 」：一個充斥各種類型活動的多功能場域，其中最受顧客歡迎的非三樓挑高閣樓莫屬。歐式的居家風格設計，有著如同家一般的溫暖氛圍。在這裡，它可以是一個精美的棚拍佈景，也可以是一個親朋好友舉辦派對的豪華包廂，更可以是留下難忘求婚儀式的好地方。 \n館內三層樓各有不同的歐式主題風格，彷彿回到了歐洲咖啡廳的氛圍，除了豐富的自助區提供飲品小點能為所有訪客補充能量，還有更多便利的工作設備與服務，是一個許多人聚會與工作的場域首選。 \n本館的前身是創辦人Nana從小念書甚至長大工作的設計補教機構，Nana認為臺北市方便工作的咖啡廳少之又少，於是決定轉型親手打造一個集氛圍、網路、插座、飲點無限供應於一身的終極工作咖啡廳，也因為Nana是設計與活動企劃背景出生，這裡也同樣召募了許多數位遊牧、活動企劃與設計藝術的夥伴們一同籌辦多元活動，可說是間充滿設計感與活力的多元咖啡廳。 \n在這裡，所有樓層都歡迎預約包場，有任何問題都可以聯絡我們，也可以參考預約網址。 \n其他QA \nQ：活動是會定期舉辦的嗎？\n本場次為首發早鳥場，預期目標為每月舉辦1-2次。 \nQ：之前有參加過還可以再參加一次嗎？\n因推理劇情不會改動，因此重複遊完將影響遊戲體驗，建議可參與其他遊戲。 \nQ：現場座位是如何安排？\n因遊戲過程中，玩家會是走動的狀態，故現場無特定指定座位，但還請隨身保管重要物品。 \nQ：本活動有提供餐飲嘛？\n活動報名費包含簡單茶飲，或是可自行攜帶餐飲食用，但因活動間不適合飲食，建議在正式開始前食用完畢。 \nQ：有辦法先知道遊戲規則或輸贏條件嗎？\n因為考量到遊戲公平性，事先不會透漏遊戲規則和獲勝條件，詳細的規則內容會在活動當天再跟參加者統一做解說，因此若參加請準時抵達。 \nQ：推理會很難嗎？\n這部分可能因人而異，但若覺得推理很難，此遊戲鼓勵與其他玩家合作，或許可以找到單獨推理之外的樂趣唷！ \nQ：想認識新朋友，但也想找自己的朋友一起報名可以嗎？\n報名沒有限制一定只能單獨報名，因此無論單獨或和朋友一起參加都很歡迎，但因遊戲可能會有需保密部分，還請參加的夥伴們，務必遵守保密規則。 \n活動花絮 \n \n其他補充 \n本次活動票價為NT$750（價格會視回饋反應來調整），現場不會再收取任何額外或附加的費用！ \n由於活動場地有人數限制，因此需要先在活動通上完成報名，不開放現場報名！本活動最低舉辦人數為20人，名額最多是40人，目前的報名人數可以在售票頁面直接查看。若報名未達到最低活動人數將會取消或延期舉辦，最晚會在活動開始前兩天以email通知，報名費用可以選擇全額退還，或保留至其他場次使用。
URL:https://events.mcu.edu.tw/event/%e7%a4%be%e4%ba%a4x%e6%8e%a8%e7%90%86x%e9%81%8a%e6%88%b2%ef%bc%8d%e3%80%90%e8%8f%af%e9%ba%97%e8%ac%9d%e5%b9%95%ef%bc%8d%e7%b2%be%e6%ba%96%e5%a4%b1%e8%aa%a4%e7%9a%84%e9%ad%94%e8%a1%93%e3%80%91%e4%b8%80/
LOCATION:齊文藝室共享空間咖啡廳\, 中正區南陽街32號3樓\, 台北市\, Taiwan
CATEGORIES:ACCUPASS,拉拉實境遊戲工作室
ATTACH;FMTTYPE=image/png:https://events.mcu.edu.tw/wp-content/uploads/2024/01/pic21.png
END:VEVENT
END:VCALENDAR