BEGIN:VCALENDAR
VERSION:2.0
PRODID:-//Events Calendar - ECPv6.8.1//NONSGML v1.0//EN
CALSCALE:GREGORIAN
METHOD:PUBLISH
X-WR-CALNAME:Events Calendar
X-ORIGINAL-URL:https://events.mcu.edu.tw
X-WR-CALDESC:Events for Events Calendar
REFRESH-INTERVAL;VALUE=DURATION:PT1H
X-Robots-Tag:noindex
X-PUBLISHED-TTL:PT1H
BEGIN:VTIMEZONE
TZID:Asia/Taipei
BEGIN:STANDARD
TZOFFSETFROM:+0800
TZOFFSETTO:+0800
TZNAME:CST
DTSTART:20240101T000000
END:STANDARD
END:VTIMEZONE
BEGIN:VEVENT
DTSTART;TZID=Asia/Taipei:20241128T090000
DTEND;TZID=Asia/Taipei:20241129T170000
DTSTAMP:20260426T100608
CREATED:20241118T032554Z
LAST-MODIFIED:20241128T034021Z
UID:10000672-1732784400-1732899600@events.mcu.edu.tw
SUMMARY:境外生輔導組 International Student Service Section｜文化體驗活動 Cultural Experience：仿真食物造型香氛擴香工作坊 Simulated Food Shaped Scented Diffuser DIY Workshop
DESCRIPTION:🎨 仿真食物造型香氛擴香工作坊來了！ Simulated Food Shaped Scented Diffuser DIY Workshop 🎨 \n想要體驗台灣在地的獨特美食文化？快來參加我們的仿真台灣食物造型工作坊！這場活動將帶領你親手製作出栩栩如生的台灣經典小吃模型－滷肉飯擴香，是一場結合創意和文化的雙重饗宴。 \nAre you ready to explore the unique culture of Taiwan? Join us for the Handmade Taiwanese Food Art Workshop and create lifelike models of classic Taiwanese dishes – Braised Pork Rice diffuser! This fun and creative session is the perfect opportunity to dive into Taiwan’s rich cultural heritage. \n📅 日期 Date & Time：12/6 12:00 – 14:00 \n 地點 Location：台北校區 Taipei Campus D205 \n 報名方法 How to Register：11/29前請前往境外生輔導組申請以及繳付NT$500按金 Please approach International Student Service Section to apply and pay for deposit NT$500 before 11/29 \n這次活動的重點不僅在於學習手作工藝，更是希望藉此增進學校內外國同學和本地生的互動交流，建立跨文化的友誼橋樑。本地生同學也將參與其中，讓大家彼此熟悉，一同享受這段創意時光！無論你是想認識新朋友、探索台灣文化，或是挑戰手作工藝，這都是一個不容錯過的機會。 \nThis event is more than just a workshop—it’s a chance for international students and local students to connect\, share experiences and build meaningful friendships. Local students will also be joining the session\, creating a wonderful environment for cultural exchange and fun. Whether you want to meet new friends\, learn about Taiwan\, or simply try your hand at crafting\, this event is perfect for you!
URL:https://events.mcu.edu.tw/event/%e5%a2%83%e5%a4%96%e7%94%9f%e8%bc%94%e5%b0%8e%e7%b5%84-international-student-service-section%ef%bd%9c%e6%96%87%e5%8c%96%e9%ab%94%e9%a9%97%e6%b4%bb%e5%8b%95-cultural-experience%ef%bc%9a%e6%89%8b/
LOCATION:台北校區Taipei Campus\, 中山北路五段250號\, 台北市\, Taiwan
CATEGORIES:境外生輔導組
ATTACH;FMTTYPE=image/png:https://events.mcu.edu.tw/wp-content/uploads/2024/11/17-1.png
ORGANIZER;CN="%E5%A2%83%E5%A4%96%E7%94%9F%E8%BC%94%E5%B0%8E%E7%B5%84":MAILTO:nora@mail.mcu.edu.tw
END:VEVENT
END:VCALENDAR