BEGIN:VCALENDAR
VERSION:2.0
PRODID:-//Events Calendar - ECPv6.8.1//NONSGML v1.0//EN
CALSCALE:GREGORIAN
METHOD:PUBLISH
X-WR-CALNAME:Events Calendar
X-ORIGINAL-URL:https://events.mcu.edu.tw
X-WR-CALDESC:Events for Events Calendar
REFRESH-INTERVAL;VALUE=DURATION:PT1H
X-Robots-Tag:noindex
X-PUBLISHED-TTL:PT1H
BEGIN:VTIMEZONE
TZID:Asia/Taipei
BEGIN:STANDARD
TZOFFSETFROM:+0800
TZOFFSETTO:+0800
TZNAME:CST
DTSTART:20250101T000000
END:STANDARD
END:VTIMEZONE
BEGIN:VEVENT
DTSTART;TZID=Asia/Taipei:20250914T150000
DTEND;TZID=Asia/Taipei:20250914T163000
DTSTAMP:20260421T224313
CREATED:20250903T055820Z
LAST-MODIFIED:20250903T055820Z
UID:10001392-1757862000-1757867400@events.mcu.edu.tw
SUMMARY:山寧季 Mountain Serenity Season｜寧氣 茶飲調製 午茶品味 Herbal Tea Blending & Afternoon Tea Experience
DESCRIPTION:夏末秋初，季節正轉場，身心浮動 \n專注在調茶、香氛與手作，寧神補氣 \nAs summer transitions into autumn\, the season is shifting\, and our minds and bodies fluctuate. \nFocus on tea blending\, aromatherapy\, and handcrafting—calming the mind and replenishing energy. \n「山寧季」主題企劃推出系列體驗活動，首堂活動—《 寧氣  茶飲調製 午茶品味 ​​​​​》\n由0km山物所、ALEGIS 精品東方香草茶品牌、與小小樹食米其林綠星蔬食餐廳 三方品牌共同策劃。 \n以一杯茶、一方點心、一刻慢時光，為自己找回心緒的平衡\n透過嗅覺、味覺與手作的靜心過程，調製一份屬於自己的療癒茶飲，搭配米其林等級甜品\n在繁忙的城市中心，緩緩沉澱、補氣寧神。 \nThe “Mountain Serenity Season” thematic series launches with its first experience:“Herbal Tea Blending & Afternoon Tea Tasting”Co-curated by 0km\, ALEGIS HEALING TEA\, and Little Tree Food\, a Michelin Green Star plant-based restaurant. \nWith a cup of tea\, a delicate pastry\, and a moment of slow living\, rediscover inner balance.Through a mindful process of scent\, taste\, and handcrafting\, create your own healing tea blend paired with Michelin-quality desserts.In the heart of a bustling city\, take a pause—recharge and find serenity. \n【 課 程 三 大 亮 點 Three Highlights of Workshop 】 \n\n① 花草療癒×草本茶調製\n由專業講師引導，認識草本與香氣的組合哲學。以杭菊、玫瑰、枸杞、果乾與療癒種籽為基底，親手調製四款個人茶包。可當日帶回，延續療癒體驗。 \n① Herbal Healing × Tea BlendingGuided by a professional instructor\, learn the art of herbal combinations and aromas. Using chrysanthemum\, rose\, goji berries\, dried fruits\, and healing seeds as the base\, you’ll create four personalized tea blends to take home and continue your wellness ritual. \n\n② 品茶入門×日暖神氣茶體驗\n用 ALEGIS 經典茶款「日暖神氣茶」，展開一場五感探索。由講師引導，從呼吸、氣味、口感進行感官探索，打開五感，品味茶的色、香、味、口感與餘韻。 \n② Tea Appreciation × Sunlit Vitality Tea ExperienceSavor ALEGIS’ signature “Sunlit Vitality Tea” through a guided sensory journey. Experience tea through breath\, aroma\, flavor\, and texture\, awakening your senses to appreciate its color\, fragrance\, taste\, and lingering finish. \n\n③ 舒心甜點×米其林茶餐\n由小小樹食提供的米其林級甜點，搭配日暖神氣茶獨特風味，打造片刻寧靜，喚醒味覺中的平衡與溫柔。 \n③ Comforting Desserts × Michelin Tea PairingEnjoy Michelin-level desserts from Little Tree Food\, paired with the unique profile of Sunlit Vitality Tea—a moment of calm\, balance\, and gentle indulgence. \n【 活 動 日 期 Event Date & Time 】\n9/14（日 Sun）15:00–16:30 \n【 活 動 資 訊 Event Details 】\n人數 Capacity｜限額10位，深度體驗小班制 Limited to 10 participants for an intimate\, in-depth experience\n費用 Fee｜NT$900/人 person \n報名 To apply｜https://www.accupass.com/eflow/ticket/2507220911164831614390?utm_campaign=accu_banner&utm_medium=home_north&utm_source=Web \n課程費用包括\n🔸 香草茶調製教學（專業導師引導）\n🔸 4款個人專屬茶包（可帶回）\n🔸 ALEGIS經典茶飲 品茶體驗\n🔸 小小樹食米其林甜點 \nIncludes🔸 Professional tea blending guidance🔸 Four personalized herbal tea blends (to take home)🔸 ALEGIS signature tea tasting🔸 Michelin-grade dessert pairing from Little Tree Food \n【 推 薦 對 象 Recommended For 】\n對草本茶、複方茶調製有興趣者\n想從品飲中探索感官與靜心的人\n喜愛手作與體驗療癒美學者\n需要放鬆、補氣與追求養生者\n對米其林甜點、精緻午茶有美學追求者\n以及為自己建立一段午後療癒儀式的你 \n\n\nHerbal tea enthusiasts and those curious about blending techniques \n\n\nIndividuals seeking sensory exploration and mindfulness through tea \n\n\nLovers of handcrafting and healing aesthetics \n\n\nAnyone needing relaxation\, vitality\, and holistic well-being \n\n\nDessert and fine tea connoisseurs \n\n\nAnyone wishing to create a personal afternoon ritual of calm and indulgence \n\n\n【 活 動 地 點 Venue 】\n小小樹食 0km山物所\n台北市大安區金山南路二段203巷34號 \nLittle Tree Food\nNo. 34\, Ln. 203\, Sec. 2\, Jinshan S. Rd.\, Da’an Dist.\, Taipei City \n \n【 主 辦 單 位 Organizer 】 \n \n為城市中的山林入口，從生活出發探索自然美好，以「再發現」的品牌精神，透過永續選物、環境教育、主題策展等方式，帶領大家探索多元觀點與想像，形塑屬於臺灣的永續山林生活倡議。 \nA gateway to nature within the city\, re-discovering beauty through sustainable living. With a spirit of “Rediscovery”\, the brand curates diverse perspectives through sustainable selections\, environmental education\, and thematic exhibitions—advocating for a Taiwanese lifestyle rooted in ecological awareness. \nFacebook | Instagram \n【 合 作 單 位 Partners 】 \n\nALEGIS HEALING TEA \nALEGIS HEALING TEA 日暖療癒茶飲 – 日常的療癒與品味，從一杯茶飲開始\n專注研製兼具療癒力與微養生功效的東方香草茶飲，為在家庭與事業間奔波的現代人，打造一種簡單、即輕鬆沖泡、也能展現精品風味的茶飲。ALEGIS期待透過凝結「台灣山野林間的療癒力」，為忙碌的現代人，找回身體的能量與內心的平衡。 \nALEGIS Healing Tea—daily wellness and taste begin with a cup.Specializing in premium oriental herbal tea blends that balance healing properties with mild health benefits\, ALEGIS creates convenient yet sophisticated tea experiences for modern individuals juggling family and career. Infused with the essence of Taiwan’s mountain flora\, ALEGIS aims to restore vitality and inner harmony. \nFacebook | Instagram \n\n小小樹食 Little Tree Food \n成立於2017年，致力於擴大植物性飲食的接受度和可及性。核心使命是提供美味的地球健康飲食（理應成為日常飲食）：吃得更聰明、更美味，用好食物善待自己。 \nFounded in 2017\, Little Tree Food champions plant-based dining as the norm\, offering delicious\, sustainable meals for a healthier planet. Their mission: eat smarter\, eat better\, and treat yourself kindly through good food. \nFacebook | Instagram \n——————————————————– \n【注意事項 Notes】 \n⟢ 本課程為草本茶調製體驗，若您為孕婦、體質敏感或有任何不適合體驗之健康狀況，請務必自行評估參與風險。報名即視同同意自負責任，本單位恕不負責。\n⟢ 課程將進行側拍紀錄，並於活動後公開於主辦方Facebook粉絲專頁與Instagram等社群平台。活動照片僅作為紀錄與推廣用途，您可自由下載。如對個人肖像公開有疑慮，請於現場主動告知工作人員。\n⟢ 報到時間為課程開始前10分鐘，請準時入席，遲到逾30分鐘將無法入場，亦無法辦理退費，敬請理解。\n⟢ 為維護課程品質與空間限制，本活動不開放攜伴參與，敬請見諒。\n⟢ 購票成功後，將寄送 電子票券，不另提供紙本票。當日請出示電子票於報到處入場。\n⟢ 主辦單位保有活動內容之最終 修改、變更、解釋與取消權利。\n⟢ 票券使用規範與退換說明：\n－請依指定場次準時出席，逾時視同放棄體驗內容，無法申請退費。\n－本活動不提供退票服務，但可接受名額轉讓。若需轉讓，請於課程前提供欲參與者之姓名，以利現場核對報到資訊。\n－若遇天災或主辦單位因素導致停課，將主動聯繫延期或全額退款。 \n⟢ This workshop involves herbal tea blending. If you are pregnant\, have a sensitive constitution\, or any health conditions that may pose risks\, please assess your participation carefully. Registration implies personal responsibility; the organizer is not liable for related health issues.⟢ Photos and videos will be taken during the event and shared on the organizer’s social media platforms for documentation and promotional purposes. If you have concerns about your image being shared\, please inform staff on-site.⟢ Please check in 10 minutes before the session begins. Late arrivals beyond 30 minutes will not be admitted and are not eligible for a refund.⟢ Due to quality and space considerations\, no additional guests are allowed.⟢ After ticket purchase\, an electronic ticket will be sent; no paper tickets provided. Show your e-ticket at check-in.⟢ The organizer reserves the right to modify\, interpret\, or cancel the event.⟢ Ticketing & Refund Policy:－Please attend the specified session; late arrivals will forfeit participation with no refunds.－Tickets are non-refundable but transferable. For transfers\, provide the new attendee’s name prior to the workshop.－In case of cancellation due to natural disasters or organizer-related reasons\, participants will be contacted for rescheduling or full refunds.
URL:https://events.mcu.edu.tw/event/%e5%b1%b1%e5%af%a7%e5%ad%a3-mountain-serenity-season%ef%bd%9c%e5%af%a7%e6%b0%a3-%e8%8c%b6%e9%a3%b2%e8%aa%bf%e8%a3%bd-%e5%8d%88%e8%8c%b6%e5%93%81%e5%91%b3-herbal-tea-blending-afternoon-tea-experience/
LOCATION:小小樹食\, 大安區金山南路二段203巷34號\, 台北市\, Taiwan
CATEGORIES:ACCUPASS,勤美0km山物所
ATTACH;FMTTYPE=image/png:https://events.mcu.edu.tw/wp-content/uploads/2025/09/1-1.png
END:VEVENT
BEGIN:VEVENT
DTSTART;TZID=Asia/Taipei:20250517T083000
DTEND;TZID=Asia/Taipei:20250517T163000
DTSTAMP:20260421T224313
CREATED:20250429T055654Z
LAST-MODIFIED:20250429T055654Z
UID:10001047-1747470600-1747499400@events.mcu.edu.tw
SUMMARY:國產材推廣展示館 《木的N次方》系列活動 Domestic Timber Promotion Pavilion – “The N Powers of Wood” Series Event
DESCRIPTION:↟↟  斯創教育工作群 國產林場一日學旅 EnvEd Centre for Innovative Learning | A One-Day Learning Journey into Taiwan’s Domestic Forests  ↟↟ \n林業保育署 – 國產材推廣展示館重磅回歸！ \n全新展覽《木的N次方》精彩登場，以「研討、製作、體驗、成品」的四重維度，精心規劃木的博物學、職人工作室、研討體驗區、品牌展示區四大展區，集結超過22家木竹品牌共同展出，詮釋國產木竹材的N種可能。 \n今年五月，《木的N次方》系列活動特別邀請斯創教育工作群，帶領民眾親自走入臺灣國產材林場，認識國產材，與森林共學！ \nThe Forestry and Nature Conservation Agency proudly announces the grand return of the Domestic Timber Promotion Pavilion with a brand-new exhibition\, “The N Powers of Wood”. \nThis exciting exhibit is structured around four key themes: Research\, Creation\, Experience and Product\, featuring four dedicated zones — Natural History of Wood\, Artisan Studio\, Workshop Experience Area and Brand Showcase. Over 22 local wood and bamboo brands are participating\, highlighting the countless possibilities of domestic timber and bamboo materials. \nThis May\, as part of the event series\, we’re inviting EnvEd Centre for Innovative Learning to lead a special hands-on forest tour to explore the origins and sustainability of domestic timber. \n◆ 活動亮點 Event Highlights ◆ \n \n林場巡禮 Forest Tour \n放慢腳步，讓森林照顧你。透過小遊戲認識森林與生活的關係，思考我們與自然的連結。實地走進作業林場，看見一棵樹近四十年的成長過程，從種植到砍伐再種回，職人用行動守護永續林業的循環故事。 \nSlow down and let the forest heal you. Through interactive games\, participants will explore the connection between forests and everyday life\, and reflect on our bond with nature. You’ll enter an operational forest and witness the nearly 40-year cycle of a tree—from planting to harvesting and replanting—while learning how forestry professionals uphold the story of sustainable logging. \n \n樹木碳匯測量 Tree Carbon Sequestration Measurement \n親手操作調查工具，計算一棵樹能吸收多少碳，了解森林如何幫助減碳、調節氣候。認識碳匯與碳權的關聯，從實作中認識森林的重要角色。 \nUse professional survey tools to calculate how much carbon a single tree can absorb\, and gain insights into how forests help reduce carbon emissions and regulate climate. Learn about the concepts of carbon sequestration and carbon credits through hands-on experience. \n\n國產材手作體驗 Domestic Timber DIY Workshop \n走入林場、動手鋸木，製作專屬的木質吊飾。認識木材的來源與用途，感受國產木材的低碳、永續價值，也留下森林的溫暖印記。 \nTry your hand at sawing wood and making your very own wooden pendant. Discover where the wood comes from\, how it’s used\, and appreciate the low-carbon\, sustainable value of domestic timber—leaving with a handmade memento of the forest. \n◆ 活動時程 Event Schedule ◆ \n \n↟ 課程日期 Date & Time ↟\n2025.5.17（六 Sat）08:30-16:00 \n↟ 集合地點 Meeting Point ↟\n08:30新竹高鐵站四號出口集合，一同前往新竹五峰永泰林場 \n08:30 at Exit 4\, HSR Hsinchu Station\nThe group will travel together to Yongtai Forest\, Wufeng\, Hsinchu \n↟ 課程資訊 Event Details ↟\n課班人數 Capacity｜20人額滿 20 participants (full capacity)\n報名費用 Registration Fee｜NT$1\,680\n（含午餐、林場公共意外險費等 Includes lunch\, public liability insurance\, etc.） \n※ 恕不退款，可轉讓名額 Non-refundable\, but transferable \n報名 To apply：https://www.accupass.com/eflow/ticket/2504061358364971911110?utm_campaign=accu_theme&utm_medium=home_north&utm_source=Web \n↟ 課程體驗 Activity Previews ↟\n \n \n\n**示意圖，以實際為主 Image is for reference only. Actual experience may vary.** \n ↟ 特別提醒 Important Reminders ↟ \n\n報名學員至新竹高鐵費用需自理\n若遇颱風或氣象預報預告天候不佳、豪大雨特報等，活動將延期，延期時間另行安排\n若有天候疑慮，將於活動前一天12點前與您聯繫確認是否延後辦理\n毛毛細雨或霧雨狀態活動照常進行\n活動請備妥雨具（雨衣為佳）\n\n\nTransportation to HSR Hsinchu Station is self-arranged by participants.\nIn case of typhoons\, extreme weather forecasts\, or heavy rain warnings\, the event will be postponed and rescheduled at a later date.\nWeather-related decisions will be confirmed by 12:00 noon on the day before the event.\nThe event will proceed as scheduled in light rain or mist — please bring appropriate rain gear (preferably a raincoat).\n\n注意事項 Notes \n⟢ 本次課程將進行課程側拍記錄，並於課後上傳至臉書粉絲專頁、Instagram品牌專頁，日後可能將含有您肖像的照片、影像，使用於活動紀錄或宣傳等用途，可自行下載活動照片。如有個人肖像疑慮，敬請於課程現場主動提出。\n⟢ 本次課程如有學齡兒童須由家長全程陪同參加，並於本活動頁面報名兩位。\n⟢ 本次課程費用包括午餐、林場公共意外險等。\n⟢ 購票成功後，將收到電子票券，不另寄送實體票券。課程當日請至報到處出示電子票券後入場。\n⟢ 本單位保有最終修改、變更、活動解釋本活動之權利。\n⟢ 票券使用規範與退換說明：請於報名時段內出席，報名時段外恕不提供體驗內容。若因個人因素超出時段內未出席，視同放棄票券服務，無法申請退費。\n－如需更改時間，請先退票再重新購票，退票相關之手續費需自行負擔。\n－如因天災等不可抗力事件或主辦單位因素停課，將主動聯繫延期或退款。 \n\nThis course will be photographed and documented. Images or videos containing participants’ likenesses may be uploaded to the event’s Facebook or Instagram pages for future promotional use. You may download photos after the event. If you have concerns about image use\, please notify staff on the event day.\nSchool-age children must be accompanied by a parent and both must be registered separately.\nThe registration fee includes lunch and insurance coverage.\nAfter successful registration\, an electronic ticket will be sent. Please present this e-ticket at the check-in counter; no physical tickets will be mailed.\nThe organizer reserves the right to modify or interpret event details.\nTicket Policy\n\nPlease attend during your registered time slot. Missed sessions will be treated as forfeiture\, with no refund available.\nTo reschedule\, cancel your ticket and rebook. Any handling fees incurred from the cancellation will be borne by the participant.\nIf the event is canceled due to force majeure (e.g.\, natural disasters) or by the organizer\, you will be contacted regarding refunds or postponement.
URL:https://events.mcu.edu.tw/event/%e5%9c%8b%e7%94%a2%e6%9d%90%e6%8e%a8%e5%bb%a3%e5%b1%95%e7%a4%ba%e9%a4%a8-%e3%80%8a%e6%9c%a8%e7%9a%84n%e6%ac%a1%e6%96%b9%e3%80%8b%e7%b3%bb%e5%88%97%e6%b4%bb%e5%8b%95-domestic-timber-promotion-pavilion/
LOCATION:新竹永泰林場\, 五峰鄉23鄰468之5號\, 新竹縣\, Taiwan
CATEGORIES:ACCUPASS,勤美0km山物所
ATTACH;FMTTYPE=image/png:https://events.mcu.edu.tw/wp-content/uploads/2025/04/3-1.png
END:VEVENT
END:VCALENDAR