BEGIN:VCALENDAR
VERSION:2.0
PRODID:-//Events Calendar - ECPv6.8.1//NONSGML v1.0//EN
CALSCALE:GREGORIAN
METHOD:PUBLISH
X-WR-CALNAME:Events Calendar
X-ORIGINAL-URL:https://events.mcu.edu.tw
X-WR-CALDESC:Events for Events Calendar
REFRESH-INTERVAL;VALUE=DURATION:PT1H
X-Robots-Tag:noindex
X-PUBLISHED-TTL:PT1H
BEGIN:VTIMEZONE
TZID:Asia/Taipei
BEGIN:STANDARD
TZOFFSETFROM:+0800
TZOFFSETTO:+0800
TZNAME:CST
DTSTART:20240101T000000
END:STANDARD
END:VTIMEZONE
BEGIN:VEVENT
DTSTART;TZID=Asia/Taipei:20250526T190000
DTEND;TZID=Asia/Taipei:20250526T210000
DTSTAMP:20260420T210645
CREATED:20250515T063420Z
LAST-MODIFIED:20250515T063420Z
UID:10001226-1748286000-1748293200@events.mcu.edu.tw
SUMMARY:魔術社 MagiCU｜第十九屆年度大秀 19th Annual Magic Show
DESCRIPTION:五月夜幕即將拉開，銘傳大學桃園校區魔術社第十九屆年度大秀《ㄇㄛㄒㄧㄇㄛㄒㄧ》將於5/26（一）19:00至21:00在桃園校區P102教室華麗登場。本次演出開放免費入場，18:30即可入場就座，誠摯邀請全校師生一同進入魔幻世界，展開一場穿梭奇想與幻術的青春旅程。 \n《ㄇㄛㄒㄧㄇㄛㄒㄧ》不只是魔術表演，更是一段精心編織的故事。舞台背景設定在龜山的一所神秘學校，集結了口琴王子、無名畫家、羽毛少女、巨人族、扇子公主、魔法雙胞胎，以及一位快畢業卻還沒找到工作的苦悶大學生。他們不是馬戲團成員，而是魔術與青春的具象化身，將以戲劇形式串聯，呈現出一場奇幻又充滿創意的視覺盛宴。 \n演出當晚開放拍照紀錄，惟為維持舞台神秘與現場觀賞品質，請勿錄影或使用閃光燈，並請避免飲食與喧嘩，讓每一位觀眾都能沉浸於幻術的驚奇與魅力之中。 \n銘傳魔術社邀請全校一同「ㄇㄛㄒㄧ」一下，見證青春、創意與魔術碰撞出的燦爛火花。交通資訊與詳細注意事項可至魔術社Instagram【mcu_magic】查詢，有興趣者歡迎填寫報名表單參加：https://reurl.cc/qr8b07。 \nAs May evening draws near\, the 19th Annual Magic Show of MagiCU\, titled “Mo-Xi Mo-Xi”\, will be held on Monday\, May 26\, from 19:00 to 21:00 in Room P102. Doors open at 18:30\, and admission is free. We sincerely invite all students and faculty to step into a world of wonder and join us on a whimsical and magical journey of youth and imagination. \n“Mo-Xi Mo-Xi” is more than just a magic performance—it’s a carefully crafted story. Set in a mysterious school in Guishan\, the stage brings together an eccentric cast: a harmonica prince\, a nameless painter\, a feathered girl\, a giant\, a fan princess\, a pair of magical twins\, and a stressed college senior who’s still job hunting. They’re not circus performers\, but vivid embodiments of magic and youth\, woven together through theatrical storytelling into a visual feast full of fantasy and creativity. \nPhotography is allowed during the show\, but please refrain from video recording or using flash photography to preserve the mystery and the audience’s viewing experience. No eating\, drinking\, or loud behavior is permitted to ensure an immersive magical atmosphere for everyone. \nMagiCU warmly invites the entire university to “Mo-Xi” together—witnessing the dazzling collision of youth\, creativity and magic. For transportation info and detailed guidelines\, please visit the club’s Instagram at [mcu_magic]. Those interested can register via the form:👉 https://reurl.cc/qr8b07
URL:https://events.mcu.edu.tw/event/%e9%ad%94%e8%a1%93%e7%a4%be-magicu%ef%bd%9c%e7%ac%ac%e5%8d%81%e4%b9%9d%e5%b1%86%e5%b9%b4%e5%ba%a6%e5%a4%a7%e7%a7%80-19th-annual-magic-show/
LOCATION:桃園校區Taoyuan Campus\, 龜山區德明路5號\, 桃園市\, Taiwan
CATEGORIES:魔術社
ATTACH;FMTTYPE=image/jpeg:https://events.mcu.edu.tw/wp-content/uploads/2025/05/magic社團電子報配圖-.jpg
END:VEVENT
BEGIN:VEVENT
DTSTART;TZID=Asia/Taipei:20250118T100000
DTEND;TZID=Asia/Taipei:20250118T210000
DTSTAMP:20260420T210645
CREATED:20250109T083144Z
LAST-MODIFIED:20250109T083144Z
UID:10000848-1737194400-1737234000@events.mcu.edu.tw
SUMMARY:西班牙魔術傳奇 Dani DaOrtiz 震撼登台 Spanish Magic Legend Dani DaOrtiz - A Mind-Blowing Performance
DESCRIPTION:此生必看！魔術傳奇震撼登台！ \n知名魔術師大衛布萊恩（David Blaine）讚譽：\n「Dani DaOrtiz是我熱愛紙牌魔術的原因。」 \n一副牌，兩隻手，僅僅52張紙牌……\n卻能震撼全球無數人的心！他就是…… \nDani DaOrtiz 丹尼．達歐提茲 \n西班牙魔術傳奇Dani DaOrtiz師承多位神級大師，他將魔術和心理學融入自有的輕鬆風格，開創出自己的流派與理論，強調除了現代流行的視覺魔術外，更注重觀眾心靈上的震撼。他的表演輕鬆、不按牌理出牌且充滿創意，只要有他，觀眾可以享受魔術的震撼，也能歡笑不已！ \n他在2022年更獲得世界最高魔術殿堂FISM頒發特別獎，絕對是當代魔術界的傳奇人物！ \n他這次來台灣，將帶來－世界頂級紙牌魔術秀！ \n ✪ Dani DaOrtiz 魔術秀 ✪  \n準備好迎接Dani的魔術衝擊了嗎？ \nDani將為你獻上世界頂級的紙牌魔術秀！ \n許多看過Dani的觀眾形容他的表演就如「往腦中灌腎上腺素」那樣興奮與驚奇！Dani也會即興表演，甚至搬出連魔術師都想不透的魔術，並以最出乎意料的方式結尾！讓你在歡笑之中，感受到顛覆常理的魔術衝擊！ \n無論你是魔術師或一般觀眾……這場魔術秀將讓你體驗前所未有的魔術衝擊！讓我們一起見證Dani的獨門魔術，趕快搶票吧！ \nA Must-See! Witness the Magic Legend Live! \nRenowned magician David Blaine once praised:\n“Dani DaOrtiz is the reason I love card magic.” \nA single deck\, two hands\, just 52 cards…\nYet he mesmerizes audiences worldwide! He is none other than… \nDani DaOrtiz \nHailing from Spain\, Dani DaOrtiz is a magic legend. Trained by several master magicians\, he combines magic with psychology in his unique\, relaxed style. Breaking conventions\, Dani created his own school of thought\, focusing not only on the visual impact of modern magic but also on delivering profound emotional resonance. His performances are playful\, unconventional\, and highly creative\, guaranteeing both awe and laughter for the audience. \nIn 2022\, Dani was honored with a special award by FISM\, the world’s highest magic institution\, cementing his place as a legend in the magic community. \nNow\, Dani is coming to Taiwan to present his World-Class Card Magic Show! \n✪ Dani DaOrtiz Magic Show ✪ \nAre You Ready for Dani’s Magical Impact? \nDani will showcase a world-class card magic show just for you! \nAudiences who have seen Dani describe his performances as “an adrenaline rush to the brain”\, filled with excitement and wonder. Expect improvisation\, jaw-dropping tricks even magicians can’t decipher and endings that will leave you astonished. Laugh\, marvel and witness Dani redefine the art of magic! \nWhether you’re a magician or a casual fan\, this magic show promises an unparalleled experience. Don’t miss the chance to witness Dani’s signature magic—grab your tickets now! \n（表演類型如下，影片內容僅供參考） \n \n地點 Venue \n台北市政府青年局-國際會議廳 Department for Youth\, Taipei City Government – International Conference Hall（6F） \n時間 Date & Time \n1/18（六 Saturday）19:30～21:00\nP.S. 活動於30分鐘前開放入場 Doors open 30 minutes before the show \n座位 Seating \n魔術秀對號入座，將按報名順序安排您的座位。\nP.S. 備有300吋電視牆，提供全場最佳視覺體驗 \nReserved seating based on registration order. A 300-inch screen ensures the best visual experience for all attendees. \n座位圖 Seating Chart \n \n✦ 魔術秀票價 Ticket Prices \n✪ 正常票價 Standard Prices ✪ （1/13起 Starting January 13）\nVIP區 VIP Zone：NT$2\,500\n一般區 General Zone：NT$1\,500 \n✪ 早鳥票價 Early Bird Prices ✪ （即日起至1/12 Now until January 12）\nVIP區 VIP Zone：NT$1\,999\n搖滾區感受魔術衝擊～附贈Dani簽名牌一副！ Includes a signed deck of cards by Dani!\n一般區 General Zone：NT$1\,199 \n✪ 一般區優惠票價 Discount for Groups – General Zone ✪ （達人數即享優惠）\n兩人以上團報 2+ attendees：每人NT$1\,099 per person\n五人以上團報 5+ attendees：每人NT$899 per person \n✪ 活動注意事項 Event Guidelines ✪\n*魔術秀將於開演前30分鐘，開放驗票入場。\n*表演全長約90分鐘，英語進行，中文口譯。\n*本場魔術秀，未提供線上直播與事後重播。\n*未經同意，會場內禁止錄影、錄音、拍照。\n*本次表演活動，禁止攜帶任何外食、飲料。\n*建議7歲以上觀賞，3歲以下不建議入場。\n*任何年齡之兒童皆須購票，哭鬧會被請出場。\n*攝影機會隨機移動，如有阻擋視線敬請見諒。\n*請詳閱以上說明，購票即視為同意所有事項。 \n\nEntry starts 30 minutes before the show.\nThe performance runs approximately 90 minutes in English with Mandarin interpretation.\nThe show will not be streamed or recorded online.\nPhotography\, video\, and audio recording are prohibited.\nOutside food and drinks are not allowed.\nRecommended for ages 7 and above; children under 3 are not advised to attend.\nAll attendees\, regardless of age\, must purchase a ticket. Disruptive behavior will result in removal.\nCameras may block views intermittently; we seek your understanding.\n\n【講座內容 Workshop and Lecture Details】 \n《研習會 Lecture》 \nDani會在研習會中分享他最新的魔術作品來介紹他的魔術理論與如何建構魔術效果，他也會教你訂定他獨特風格的手法與著名效果，如時間控牌、可以拿一副借來的牌表演的效果，以及電爆各國魔術師的終極「巴格拉斯效果」（ACAAN）。 \nDani will share his latest creations\, introduce his magic theories\, and explain his approach to crafting effects. Learn his signature techniques\, such as time control\, effects with borrowed decks\, and the ultimate “Baglass Effect” (ACAAN) that astonishes magicians worldwide. \n《工作坊 Workshop》 \n在兩小時的工作坊中，Dani稱之為「點菜時刻」，你可以直接問Dani問題，不管是有關效果、理論、創意發想、表演呈現皆能面對面與他討論，Dani會由淺入深分享他獨特的見解，並給予參與工作坊的各位意象不到的內容。此為絕無僅有與Dani互動的機會，如同是你的私人魔術家教一樣，千萬別錯過！P.S. 工作坊有Q&A喔 \nThis two-hour interactive session\, described by Dani as “à la carte magic”\, allows you to ask questions and discuss topics like theory\, creativity\, performance and more. Engage directly with Dani for unique insights. A rare opportunity for personal interaction with a master magician! \n【講座票價 Ticket Prices for Workshop and Lecture】 實體+線上直播 On-site+Online \n《研習會 Lecture》 \n▶ 時間 Date & Time：1/18（六 Saturday）10:00～12:00\n▶ 地點 Venue：台北市政府青年局-藝文沙龍 Department for Youth\, Taipei City Government – Art Salon（5F）\n▶ 費用 Ticket Prices（實體與線上同價）\n原價 Standard NT$1\,200\n早鳥 Early Bird NT$1\,000（1/12前購票 before January 12）\n▶ 因座位有限，現場限額50名 Limited to 50 on-site attendees \n現場好康大公開 \n\n與講師面對面互動、現場問答\n擁有更沉浸式的學習環境與體驗\n\n線上同步直播 \n\n在家中直接觀看，無法及時發問或互動\n希望參與互動，建議至現場參與實體講座\n\n《工作坊 Workshop》 \n▶ 時間 Date & Time：1/18（六 Saturday）15:00～17:00\n▶ 地點 Venue：台北市政府青年局-藝文沙龍 Department for Youth\, Taipei City Government – Art Salon（5F）\n▶ 費用 Ticket Prices（實體與線上同價）\n原價 Standard NT$2\,500\n早鳥 Early Bird NT$2\,000（1/12前購票 before January 12）\n▶ 現場與線上，各限額20名 Limited to 20 on-site attendees and 20 online participants \n報名 To apply：https://www.accupass.com/eflow/ticket/2412201223408384088840?utm_source=EventPage&utm_medium=AdCard&utm_campaign=accu_AdCard_2412161402196991054090 \n【注意事項 Notes】 \n▶ 所有活動皆於30分鐘前開放入場。 \n▶ 本場講座將同步透過「Zoom」直播，建議使用電腦觀看，以獲得最佳體驗。 \n▶ 講座通知及重播影片，皆會發送至報名帳號之信箱，請確認信箱可正常收信。 \n▶ 線上活動之參與連結將於 1/17（五）下午三點前，寄送至報名者信箱。 \n\nAll events open for check-in 30 minutes prior.\nOnline sessions are streamed via Zoom for remote attendees.\nLinks and lecture materials will be emailed by January 17 (Fri).\nFor optimal online experience\, use a computer.
URL:https://events.mcu.edu.tw/event/%e8%a5%bf%e7%8f%ad%e7%89%99%e9%ad%94%e8%a1%93%e5%82%b3%e5%a5%87-dani-daortiz-%e9%9c%87%e6%92%bc%e7%99%bb%e5%8f%b0-spanish-magic-legend-dani-daortiz-a-mind-blowing-performance/
LOCATION:台北市政府青年局\, 中正區仁愛路一段17號\, 台北市\, Taiwan
CATEGORIES:ACCUPASS,簡子製造
ATTACH;FMTTYPE=image/jpeg:https://events.mcu.edu.tw/wp-content/uploads/2025/01/471401262_1091642309638208_1918030398986486910_n.jpg
END:VEVENT
BEGIN:VEVENT
DTSTART;TZID=Asia/Taipei:20241130T130000
DTEND;TZID=Asia/Taipei:20241201T210000
DTSTAMP:20260420T210645
CREATED:20241111T084326Z
LAST-MODIFIED:20241111T084326Z
UID:10000656-1732971600-1733086800@events.mcu.edu.tw
SUMMARY:第一屆 FANTACO 魔幻藝術節 1st FANTACO Magic Arts Festival
DESCRIPTION:一場前所未有的魔幻盛宴即將降臨！ \n來自世界各地的魔術師將展示令人瞠目結舌的魔法奇蹟，還有特技雜耍、腹語秀、氣球表演、泡泡秀等神奇節目輪番登場。 \n您和孩子將在這裡體驗到無法解釋的奇幻時刻！ \n大型遊樂設施、豐富美食攤位讓您樂而忘返。 \n這場充滿愛與冒險的魔法之旅，準備好一起探險了嗎？ \n・邀請來自十個不同國家的頂尖魔術師、知名劇團輪番演出。\n・不只魔術，更有氣球秀、泡泡表演、腹語術、特技雜耍等精彩演出。\n・兩天活動不間斷，超過50場的精采演出。\n・為推廣魔術文化，將舉辦小小魔術師選拔、喜劇魔術大賽。\n・邀請街頭藝術代表性的街頭藝人，帶來趣味互動演出。\n・周邊魔術道具攤位，帶你一起進入魔法的世界。\n・嚴選多組豐富的美食、手作攤位，打造魔法星球市集。\n・多組裝置藝術，網紅網美拍照、打卡熱點。\n・設有大型遊樂設施區，當日可不限次數免費搭乘。\n・造型氣球、臉部彩繪、泡泡體驗，每日限量免費體驗。 \n超強表演陣容邀請到來自台灣魔術師： \n魔術生活 雨群；特異功能大師 高偉；郵輪魔術師 查尼；喜劇魔術大師 博神羅賓；鬼才魔術師 黃柏翰；魔術精靈 陳冫茜與魔幻魅影 魔術女團；大型幻術秀&正宗變臉-皓爾；Foca福爾摩沙馬戲團；天馬戲創作劇團 \n更邀請到國外頂尖魔術師來台演出： \n英國-泡泡專家&反芻達人Kieron Johnson； \n日本-Crystal Magician® Michel； \n西班牙-AGT達人秀冠軍Celia Muñoz； \n美國-喜劇泰斗Levent； \n香港-魔術學院校長 李澤邦； \n韓國-魔術天才李明俊； \n法國-魔法隱士 Jyoti； \n瑞典-三條腿的魔術師Axel Adler； \n除了魔術演出外，現場還有街頭藝術家們帶來精彩演出： \n楊元慶、潘兆其、馬拉將、夏克、周瑋豪、吳義祥and more…集合不同風格的表演者。 \n更多演出陣容將陸續公佈。相關消息請隨時關注!「Fantaco魔幻藝術節」官網、Facebook、Instagram！ \nAn unprecedented magical feast is coming! \nPrepare for a breathtaking experience with top magicians from around the globe showcasing astonishing magic tricks\, alongside thrilling acts like juggling\, ventriloquism\, balloon shows\, and bubble performances. \nYou and your family will be spellbound by moments that defy explanation! \nWith large amusement rides and a wide array of food stalls\, you’ll find endless fun in this magical world. Are you ready for an adventure filled with love and enchantment? \nEvent Highlights: \n\nTop magicians from ten different countries and renowned theater groups.\nMagic acts plus balloon shows\, bubble performances\, ventriloquism\, acrobatics\, and more!\nNon-stop entertainment with over 50 captivating shows across two days.\nTo promote magic culture\, the event includes a Junior Magician Contest and a Comedy Magic Competition.\nInteractive street performances by iconic street artists.\nA market filled with magic props\, allowing you to immerse yourself in the world of magic.\nA magical marketplace with a curated selection of food and artisanal vendors.\nInstagram-worthy art installations for photos and social media moments.\nUnlimited rides in the amusement area.\nFree daily experiences like balloon art\, face painting\, and bubble shows (limited availability).\n\nStar-studded Performer Lineup: Featuring Taiwanese magicians: \n\nYu Qun from Magic Life\, supernatural master Gao Wei\, cruise magician Chani\, comedy magic legend Bo Shen Robin\, maverick magician Huang Bohan\, magic elf Chen Bingxi and her group Magic Enchantment\, large-scale illusionist Hao Er\, and Foca Formosa Circus Troupe and Tianma Circus Troupe.\n\nInternational magicians include: \n\nUK: bubble artist and regurgitator Kieron Johnson.\nJapan: Crystal Magician® Michel.\nSpain: AGT champion Celia Muñoz.\nUSA: comedy icon Levent.\nHong Kong: Lee Ze Bang\, Headmaster of the Magic Academy.\nKorea: magic prodigy Lee Myung-joon.\nFrance: magic hermit Jyoti.\nSweden: the “three-legged magician” Axel Adler.\n\nThe event will also feature diverse street art performances by Yang Yuanqing\, Pan Zhaoqi\, Mala Jiang\, Sha Ke\, Zhou Weihao\, Wu Yixiang\, and more. \nStay tuned for additional lineup announcements! Follow us on “Fantaco Magic Arts Festival” website\, Facebook and Instagram! \n官網 Website：https://fantaco.com.tw/ \nFB：https://www.facebook.com/profile.php?id=61564319623701&locale=zh_TW \nIG：https://www.instagram.com/fantacomagic/ \n購票連結 To purchase at KKTIX購票連結 To purchase at KLOOK購票連結 To purchase at TixFun購票連結 To purchase at KKday購票連結 To purchase at ibon
URL:https://events.mcu.edu.tw/event/%e7%ac%ac%e4%b8%80%e5%b1%86-fantaco-%e9%ad%94%e5%b9%bb%e8%97%9d%e8%a1%93%e7%af%80-1st-fantaco-magic-arts-festival/
LOCATION:台北流行音樂中心LIVE HOUSE D\, 南港區市民大道八段99號\, 台北市\, Taiwan
CATEGORIES:東點娛樂有限公司
ATTACH;FMTTYPE=image/jpeg:https://events.mcu.edu.tw/wp-content/uploads/2024/11/20240929115852828.jpg
END:VEVENT
BEGIN:VEVENT
DTSTART;TZID=Asia/Taipei:20240515T190000
DTEND;TZID=Asia/Taipei:20240515T210000
DTSTAMP:20260420T210645
CREATED:20240514T053442Z
LAST-MODIFIED:20240514T053442Z
UID:10000244-1715799600-1715806800@events.mcu.edu.tw
SUMMARY:魔術社 MagiCU｜魔幻之夜 Magical Night
DESCRIPTION:是時候讓神秘的面紗緩緩揭開，讓魔夜再度降臨，桃園校區魔術社5/15（三）19:00-21:00在P102教室，舉辦「魔幻之夜——十年之約」，活動由幹部攜手新生共有七位表演者各顯身手，帶大家回到十年前，沈浸在魔術製造的，那讓人充滿快樂的伊甸園中，5/15（三）晚上不見不散！更多活動詳情請洽【mcu_magic】。 \nIt’s time to slowly unveil the mysterious veil and let the magical night descend once again. The MagiCU of Taoyuan Campus will be hosting “Magical Night – A Decade of Magic” on May 15 (Wednesday) from 19:00 to 21:00 in room P102. The event will feature seven performers\, including both club executives and new members\, showcasing their skills. Join us as we journey back ten years\, immersed in the joyous paradise created by magic. Don’t miss out on the evening of May 15! For more details\, please contact [mcu_magic].
URL:https://events.mcu.edu.tw/event/%e9%ad%94%e8%a1%93%e7%a4%be-magicu%ef%bd%9c%e9%ad%94%e5%b9%bb%e4%b9%8b%e5%a4%9c-magical-night/
LOCATION:桃園校區Taoyuan Campus\, 龜山區德明路5號\, 桃園市\, Taiwan
CATEGORIES:魔術社
ATTACH;FMTTYPE=image/jpeg:https://events.mcu.edu.tw/wp-content/uploads/2024/05/魔術社.jpg
END:VEVENT
END:VCALENDAR