BEGIN:VCALENDAR
VERSION:2.0
PRODID:-//Events Calendar - ECPv6.8.1//NONSGML v1.0//EN
CALSCALE:GREGORIAN
METHOD:PUBLISH
X-WR-CALNAME:Events Calendar
X-ORIGINAL-URL:https://events.mcu.edu.tw
X-WR-CALDESC:Events for Events Calendar
REFRESH-INTERVAL;VALUE=DURATION:PT1H
X-Robots-Tag:noindex
X-PUBLISHED-TTL:PT1H
BEGIN:VTIMEZONE
TZID:Asia/Taipei
BEGIN:STANDARD
TZOFFSETFROM:+0800
TZOFFSETTO:+0800
TZNAME:CST
DTSTART:20240101T000000
END:STANDARD
END:VTIMEZONE
BEGIN:VEVENT
DTSTART;TZID=Asia/Taipei:20241007T090000
DTEND;TZID=Asia/Taipei:20241011T120000
DTSTAMP:20260426T082002
CREATED:20241007T030910Z
LAST-MODIFIED:20241007T030910Z
UID:10000559-1728291600-1728648000@events.mcu.edu.tw
SUMMARY:新生盃桌球賽 Freshman Ping Pong Cup
DESCRIPTION:學期即將邁入第五週，台北校區桌球社特別舉辦「新生盃桌球錦標賽」，讓新生們能藉由運動競技更多彼此認識並增進友誼。這場充滿活力與挑戰的比賽將於10／16（三）18:00-21:00在室內體育館桌球場舉行，歡迎113學年度所有大一新生踴躍參加。 \n此次賽事提供了新生們展現運動才能的機會，同時也是促進新生彼此互動的絕佳平台。不論是否為桌球社社員，只要對桌球有興趣，都可以參加這場競技盛會，展示球技並爭奪錦標。比賽分為個人單打，預賽將採分組循環三戰兩勝制，晉級者將進入複賽進行單敗淘汰賽，複賽採五戰三勝制。此外，報名選手須在比賽當天18:00-18:15進行現場抽籤，未到者將由社團代抽。 \n比賽的前三名選手將獲得獎狀以資鼓勵，無論冠軍或季軍，都是對桌球熱情的一種肯定。活動當天還提供飲料，讓選手們在比賽過程中能夠保持活力；比賽報名至10／11（五）12:00截止；桌球社社員免繳報名費，非社員則需繳交50元報名費。更多比賽詳情與即時公告，請密切關注桌球社的Line群組和IG【mcupingpong_tp】。如有任何疑問，也可直接私訊IG詢問。 \n新生們！快快來挽起袖子，加入這場桌球對決吧！ \nAs the semester enters its fifth week\, the Taipei Campus Ping Pong Club is excited to host the Freshman Ping Pong Championship\, offering freshmen a chance to meet new people and build friendships through sports. This energetic and challenging competition will take place on Wednesday\, October 16\, from 18:00 to 21:00 at Indoor Sports Center Table Tennis Court. All first-year students of the 113th academic year are encouraged to participate. \nThis event provides a great opportunity for freshmen to showcase their athletic talents while also serving as an excellent platform for interaction and bonding. Whether or not you are a member of Ping Pong Club\, anyone with an interest in table tennis is welcome to join and compete for the championship. The competition will feature individual singles matches\, with the preliminary round being a group round-robin format (best of three games). Winners will advance to the knockout stage\, which will be single elimination (best of five games). Registered players must draw lots on-site between 18:00 and 18:15 on the day of the competition. If absent\, a club representative will draw on their behalf. \nThe top three players will receive certificates in recognition of their efforts\, celebrating the passion for ping pong\, whether champion or third place. Refreshments will be available to keep participants energized throughout the event. The registration deadline is Friday\, October 11\, at 12:00. Club members are exempt from the registration fee\, while non-members must pay a NT$50 registration fee. For more details and real-time updates\, please stay tuned to Ping Pong Club’s Line group and Instagram account [@mcupingpong_tp]. If you have any questions\, feel free to send a direct message on Instagram. \nFreshmen\, roll up your sleeves and join this exciting ping pong showdown!
URL:https://events.mcu.edu.tw/event/%e6%96%b0%e7%94%9f%e7%9b%83%e6%a1%8c%e7%90%83%e8%b3%bd-freshman-ping-pong-cup/
LOCATION:台北校區Taipei Campus\, 中山北路五段250號\, 台北市\, Taiwan
CATEGORIES:桌球社
ATTACH;FMTTYPE=image/jpeg:https://events.mcu.edu.tw/wp-content/uploads/2024/10/1207期台北桌球新生盃電子報配圖.jpg
END:VEVENT
BEGIN:VEVENT
DTSTART;TZID=Asia/Taipei:20241025T190000
DTEND;TZID=Asia/Taipei:20241025T210000
DTSTAMP:20260426T082002
CREATED:20241004T063102Z
LAST-MODIFIED:20241004T063102Z
UID:10000556-1729882800-1729890000@events.mcu.edu.tw
SUMMARY:Chuck Miller 大師課 重遇初心｜探索 Ashtanga Yoga
DESCRIPTION:｜關於課程 About the Course｜ \n身為Pattabhi Jois大師的嫡傳弟子，Chuck Miller是Ashtanga Yoga傳承體系中最資深的老師之一，不只深入扎根在大師的教導，並鑽研瑜珈哲學。結合Ashtanga Yoga正位的智慧、排序和充滿活力的練習，融合對解剖和呼吸的深度理解，讓他的研習課程有獨具一格的深度。他的練習和教學反應了他與世界各地學生分享Ashtanga Yoga本質的承諾。 \n本次大師課除了由Chuck帶領一堂體式練習，也邀請SPACE Yoga資深瑜珈老師Ann Huang專訪大師Chuck Ｍiller – 從個人瑜珈之旅的成長與發展，分享瑜珈教學的經歷與智慧。不論是新手或各程度的練習者，皆能在這次難得的課程裡，加深對Ashtanga Yoga的理解和連結。 \n把握2024下半年度與大師學習的機會，重新發現Ashtanga Yoga的美和深度，踏上探索和蛻變的旅程。 \nAs a direct disciple of Pattabhi Jois\, Chuck Miller is one of the most senior teachers in the Ashtanga yoga lineage. Not only deeply rooted in the teachings of the master\, he has also delved into yoga philosophy. His workshops are uniquely profound\, combining the wisdom of Ashtanga yoga alignment\, sequencing\, and dynamic practice with a deep understanding of anatomy and breath. His practice and teaching reflect his commitment to sharing the essence of Ashtanga Yoga with students worldwide. \nIn this masterclass\, Chuck will lead a session of asana practice and will also be interviewed by SPACE Yoga’s senior teacher Ann Huang. He will share insights and wisdom from his personal yoga journey\, growth\, and teaching experience. Whether you’re a beginner or an experienced practitioner\, this is a rare opportunity to deepen your understanding and connection with Ashtanga Yoga. \nTake advantage of this chance in the second half of 2024 to study with a master\, rediscover the beauty and depth of Ashtanga Yoga\, and embark on a journey of exploration and transformation. \n\n｜日程表｜ \n\n日期 Date：10／25\n時間 Time：\n\n19:00 – 20:15  體式練習 Asana Practice\n20:15 – 20:45  大師課堂與分享 Masterclass and Sharing\n20:45 – 21:00  Q&A\n\n\n註：SPACE YOGA保留以上時間異動的權利，若有異動必會事先告知\n\nNote: SPACE YOGA reserves the right to make adjustments to the schedule\, and any changes will be communicated in advance. \n報名 To apply：https://www.accupass.com/eflow/ticket/2406120716193687184520?utm_campaign=accu_feature&utm_medium=home_north&utm_source=Web \n｜適合對象 Who Should Attend｜ \n所有程度練習者 All levels of practitioners are welcome \n｜譯者簡介 Translator Bio Yifen Chang｜ \nSPACE YOGA瑜珈指導師，中、英文流利，樂於擔任傳遞訊息的使者，口條清晰、用字精確，幽默且從容。歷年來多次擔任Doug Keller、Hart Lazer、Basia Going、Adarsh Williams等多位大師研習課程、師資培訓課程的逐步口譯。 \nYifen Chang is a yoga instructor at SPACE YOGA\, fluent in both Mandarin and English. She enjoys acting as a messenger\, delivering clear and precise communication with a sense of humor and ease. Over the years\, she has provided step-by-step interpretation for master teachers and teacher training programs\, including Doug Keller\, Hart Lazer\, Basia Going and Adarsh Williams. \n英文授課 中文口譯 The class will be taught in English with Mandarin interpretation \n｜注意事項 Notes｜ \n\n上課地點：SPACE YOGA安和館。\n課程報名人數若未達25人，將不予以開課。\n到課學員可在老師同意且不分心的前提下，依照個人學習需求錄影/錄音/拍照（勿開閃光燈），但請勿將動態影片檔案置於公開平台播放（例如Facebook／YouTube等等）。\n主辦單位保有本活動辦法、內容及注意事項修改之權利，並有權決定取消、終止、修改或暫停本活動，並保有最終釋義權\n課程相關問題歡迎來信詢問spaceacademy_tw@withinspace.com，或來電SPACE YOGA安和館 (02) 2773-8108。\n\n\nLocation: SPACE YOGA An He Studio.\nIf fewer than 25 participants register\, the class will not be held.\nParticipants may record or take photos during the class\, provided it doesn’t distract others\, and the teacher consents. However\, please do not share video files on public platforms (e.g.\, Facebook/YouTube).\nThe organizer reserves the right to modify\, cancel\, or suspend the event or its details and retains the final right of interpretation.\nFor course-related inquiries\, please contact spaceacademy_tw@withinspace.com or call SPACE YOGA An He Studio at (02) 2773-8108.
URL:https://events.mcu.edu.tw/event/chuck-miller-%e5%a4%a7%e5%b8%ab%e8%aa%b2-%e9%87%8d%e9%81%87%e5%88%9d%e5%bf%83%ef%bd%9c%e6%8e%a2%e7%b4%a2-ashtanga-yoga/
LOCATION:SPACE YOGA安和館\, 大安區安和路一段27號16樓\, 台北市\, Taiwan
CATEGORIES:ACCUPASS,SPACE YOGA
ATTACH;FMTTYPE=image/png:https://events.mcu.edu.tw/wp-content/uploads/2024/10/18.png
END:VEVENT
BEGIN:VEVENT
DTSTART;TZID=Asia/Taipei:20241028T100000
DTEND;TZID=Asia/Taipei:20241117T170000
DTSTAMP:20260426T082002
CREATED:20240821T074120Z
LAST-MODIFIED:20240821T074120Z
UID:10000429-1730109600-1731862800@events.mcu.edu.tw
SUMMARY:新北市美術館 New Taipei City Art Museum｜體育課 In Terms of Sport
DESCRIPTION:當我們談論「體育」的時候，談的是什麼？當我們觀看「運動」的時候，看的又是什麼？日常生活中的運動時刻，在休閒、健身與競技之際，是否也伴隨著諸多非關動作的經驗連結？適逢2024年巴黎奧運，緊鄰鶯歌運動中心的新北市美術館以「體育課」（In Terms of Sport）為題，策劃一檔結合場內（遊樂場、體育館）與場外（城市、街頭）運動的主題展覽，意圖拆解與挑戰當代社會關於「體育」的主流想像。 \n從生活中的體育時刻出發，「體育課」邀請公眾走入新北市美術館的藝術街坊，共同感受關於運動的多重敘事。在這裡，我們將體驗非常規的運動場；閱讀屬於臺灣的體育故事；遇見藤吉維．尼基．恩科西（Thenjiwe Niki Nkosi）作品裡出神與隱身的各國國家代表隊；端看羅智信〈看我舞動〉和楊季涓「只是玩⼀場遊戲」的自轉運動；踏上張幼欣取材臺灣山林的動態音景；與阿莫．帕特爾（Amol K. Patil）的印度勞動者歌聲前行；隨著芭芭拉．瓦格納 & 班傑明．德．布爾卡（Bárbara Wagner & Benjamin de Burca）來自巴西街頭的〈SWINGUERRA〉起舞，而後望向加布里埃拉．安戈蒂瓊斯（Gabriella Angotti-Jones）《我只是想衝浪》眼前的加州汪洋。這些交織著身分認同、殖民背景、政治情勢與社會議題的展覽敘事，是另一種運動日常，也是一堂堂發生在美術館的，不一樣的「體育課」。 \nWhen we talk about sports\, what do we talk about? What do we truly observe when we watch sports? Do moments of physical activity in daily life—spanning recreation\, workout\, and athletics—entail experiences that revolve not really around movement? Coinciding with the 2024 Paris Olympics\, the New Taipei City Art Museum\, adjacent to the Yingge Civil Sports Center\, is presenting “In Terms of Sport”\, an exhibition that integrates indoor (playgrounds\, stadiums) and outdoor (cities\, streets) sports. This thematic exhibition aims to dismantle and challenge contemporary society’s mainstream perceptions of “sports”. \nStarting from the everyday moment in sports\, “In Terms of Sport” invites the public to visit the Creative Cluster of the New Taipei City Art Museum and experience the multiple narratives surrounding sports. Here\, we will explore unconventional sports venues\, read stories of sports in Taiwan\, encounter the impeccable and invisible national team in Thenjiwe Niki Nkosi’s works\, witness the rotational movement in Luo Jr-shin’s Look at Me Grooving and Yang Chi-chuan’s “Just Playing a Game”\, step into the dynamic soundscape of Taiwan’s mountains and forests by Sayun Chang\, move forward amidst the laborers’ song by Amol K. Patil\, dance to Bárbara Wagner & Benjamin de Burca’s SWINGUERRA from the Brazilian streets\, and gaze at the California’s ocean in Gabriella Angotti-Jones’s I Just Wanna Surf. These exhibition narratives weave together identity\, colonial history\, political dynamics\, and social issues\, offering an alternative routine of sports as well as a different kind of physical education class at the museum. \n策展人 Curator：鄒婷 Tsou Ting \n\n\n參展藝術家 Artists：\n加布里埃拉．安戈蒂瓊斯 Gabriella Angotti-Jones\n芭芭拉．瓦格納 & 班傑明．德．布爾卡 Bárbara Wagner & Benjamin de Burca\n阿莫．帕特爾 Amol K. Patil\n張幼欣 Sayun Chang\n富安隼久 Hayahisa Tomiyasu\n楊季涓 Yang Chi Chuan\n羅智信 Luo Jr Shin\n藤吉維．尼基．恩科西 Thenjiwe Niki Nkosi \n免費入場 Free for Admission
URL:https://events.mcu.edu.tw/event/%e6%96%b0%e5%8c%97%e5%b8%82%e7%be%8e%e8%a1%93%e9%a4%a8-new-taipei-city-art-museum%ef%bd%9c%e9%ab%94%e8%82%b2%e8%aa%b2-in-terms-of-sport/
LOCATION:新北市美術館\, 鶯歌區館前路300號\, 新北市\, Taiwan
CATEGORIES:新北市美術館
ATTACH;FMTTYPE=image/png:https://events.mcu.edu.tw/wp-content/uploads/2024/08/3-1.png
END:VEVENT
END:VCALENDAR