BEGIN:VCALENDAR
VERSION:2.0
PRODID:-//Events Calendar - ECPv6.8.1//NONSGML v1.0//EN
CALSCALE:GREGORIAN
METHOD:PUBLISH
X-WR-CALNAME:Events Calendar
X-ORIGINAL-URL:https://events.mcu.edu.tw
X-WR-CALDESC:Events for Events Calendar
REFRESH-INTERVAL;VALUE=DURATION:PT1H
X-Robots-Tag:noindex
X-PUBLISHED-TTL:PT1H
BEGIN:VTIMEZONE
TZID:Asia/Taipei
BEGIN:STANDARD
TZOFFSETFROM:+0800
TZOFFSETTO:+0800
TZNAME:CST
DTSTART:20240101T000000
END:STANDARD
END:VTIMEZONE
BEGIN:VEVENT
DTSTART;TZID=Asia/Taipei:20240318T080000
DTEND;TZID=Asia/Taipei:20240430T120000
DTSTAMP:20260425T074347
CREATED:20240318T012254Z
LAST-MODIFIED:20240412T085643Z
UID:10000084-1710748800-1714478400@events.mcu.edu.tw
SUMMARY:軍訓室 Military Training Office｜交通安全有獎徵答即起開跑 Traffic Safety Quiz Contest starts now!
DESCRIPTION:為宣導交通安全，軍訓室特地舉行了有獎徵答活動來增進大家對交通法規的熟悉度，期望透過這項活動能建立起各位同學對交通安全的概念，並減少意外發生的機率。本次有獎徵答自即日起至 4 /30(二)中午止，作答次數不受限制，完成後即有機會獲得頭獎現金NT3\,000、ASUS ZenPower 10050mAh行動電源5台、NT$500現金6名、NT$200現金20名，各式豐富獎品等人抱回家，歡迎踴躍參與！另，軍訓室目前備有愛心傘、安全帽、吹風機等物品免費提供同學借用，歡迎有需要者前往詢問。 \n前陣子台灣被CNN評論為行人交通地獄，帶動了大家對於交通環境的關注度，在2023年有三千多人死於交通事故，平均每天就會有8人死於車禍，在這樣怵目驚心的數據前不禁會想到，我們到底該如何改善這個問題？冰凍三尺非一日之寒，或許透過立法改善能短時間看到成效，但真正該做的還是遵照法規並建立正確的用路觀念，才可以提升整體的交通環境。 \nTo promote traffic safety awareness\, the Military Training Office is holding a quiz contest with prizes to enhance everyone’s familiarity with traffic regulations. Through this activity\, we hope to instill a sense of traffic safety among students and reduce the chances of accidents. The quiz contest runs from now until April 30 at noon. There is no limit to the number of attempts\, and participants have the chance to win the following prizes: \nFirst Prize: NT$3\,000 cash\, 5 ASUS ZenPower 10050mAh power banks\, 6 prizes of NT$500 cash\, and 20 prizes of NT$200 cash\, along with various other attractive rewards. \nWe encourage everyone to participate actively! Additionally\, the Military Training Office currently provides items such as umbrellas\, helmets\, and hairdryers for free borrowing. Please feel free to inquire if needed. \nRecently\, Taiwan was labeled by CNN as a pedestrian traffic hell\, sparking increased attention to the traffic environment. In 2023\, over three thousand people died in traffic accidents\, averaging eight deaths per day. Faced with such alarming statistics\, we must consider how to address this issue. While legislation may provide short-term solutions\, the key lies in adhering to traffic regulations and fostering proper road use habits to improve overall traffic conditions. \n填答網址 Quiz Link：https://forms.gle/BQM8awGejXo1Hir18
URL:https://events.mcu.edu.tw/event/%e8%bb%8d%e8%a8%93%e5%ae%a4%ef%bd%9c%e4%ba%a4%e9%80%9a%e5%ae%89%e5%85%a8%e6%9c%89%e7%8d%8e%e5%be%b5%e7%ad%94%e5%8d%b3%e8%b5%b7%e9%96%8b%e8%b7%91-military-training-office-traffic-safety-quiz-contest/
LOCATION:線上 Online
CATEGORIES:軍訓室
ATTACH;FMTTYPE=image/jpeg:https://events.mcu.edu.tw/wp-content/uploads/2024/03/112-2交通安全配圖-800x445-1.jpg
END:VEVENT
BEGIN:VEVENT
DTSTART;TZID=Asia/Taipei:20240401T080000
DTEND;TZID=Asia/Taipei:20240515T170000
DTSTAMP:20260425T074347
CREATED:20240322T021043Z
LAST-MODIFIED:20240322T021043Z
UID:10000101-1711958400-1715792400@events.mcu.edu.tw
SUMMARY:第16屆「拍台北」電影劇本徵選 16th Filming Taipei Screenplay Competition
DESCRIPTION:一、為發掘新銳劇作家，鼓勵以臺北市地景、人文為主題創作電影劇本，財團法人台北市文化基金會台北市電影委員會特舉辦第16屆「拍台北」電影劇本徵選，對全球公開徵件。 \n二、本徵選活動之獲獎者，除頒贈獎金及獎狀，若拍攝成電影亦將獲得台北市電影委員會合作行銷資源贊助。 \n三、獎項與金額詳見如下： \n1. 金劇本獎：首獎一名，獎金新台幣40萬元，獎狀一只。 \n2. 銀劇本獎：貳獎一名，獎金新台幣15萬元，獎狀一只。 \n3. 銅劇本獎：參獎一名，獎金新台幣5萬元，獎狀一只。 \n4. 佳作：佳作五名，獎金新台幣2萬元，獎狀一只。 \n四、徵件日期自 113 年 4 月 1 日起至 113 年 5 月 15 日止。 \n五、本屆徵選將採線上報名，詳細資訊請參閱第16屆「拍台北」電影劇本徵選活動網頁\nhttps://www.filmcommission.taipei/screenplay.aspx \n\nTo discover emerging playwrights and encourage the creation of film scripts based on the landscape and culture of Taipei City\, the Taipei Film Commission of the Taipei Culture Foundation is hosting the 16th “Filming Taipei” Screenplay Competition\, open to submissions globally.\nWinners of this competition will receive cash prizes and certificates. If their scripts are produced into films\, they will also receive sponsorship from the Taipei Film Commission for cooperative marketing resources.\nDetails of the awards and prizes are as follows:\n\nGold Script Award: 1 winner\, NT$400\,000 cash prize\, and a certificate.\nSilver Script Award: 1 winner\, NT$150\,000 cash prize\, and a certificate.\nBronze Script Award: 1 winner\, NT$50\,000 cash prize\, and a certificate.\nHonorable Mention: 5 winners\, NT$20\,000 cash prize each\, and a certificate.\n\n\nSubmissions are accepted from April 1\, 2024 to May 15\, 2024.\nThis year’s submission process will be conducted online. For detailed information\, please refer to the guidelines for the 16th “Filming Taipei” Screenplay Competition on the official website: https://www.filmcommission.taipei/screenplay.aspx\n\n第16屆「拍台北」電影劇本徵選辦法 16th Filming Taipei Screenplay Competition Guidelines
URL:https://events.mcu.edu.tw/event/%e7%ac%ac16%e5%b1%86%e3%80%8c%e6%8b%8d%e5%8f%b0%e5%8c%97%e3%80%8d%e9%9b%bb%e5%bd%b1%e5%8a%87%e6%9c%ac%e5%be%b5%e9%81%b8-16th-filming-taipei-screenplay-competition/
LOCATION:線上 Online
CATEGORIES:臺北市政府
ATTACH;FMTTYPE=image/png:https://events.mcu.edu.tw/wp-content/uploads/2024/03/拍台北.png
END:VEVENT
BEGIN:VEVENT
DTSTART;VALUE=DATE:20240430
DTEND;VALUE=DATE:20240501
DTSTAMP:20260425T074347
CREATED:20240415T055342Z
LAST-MODIFIED:20240415T055342Z
UID:10000158-1714435200-1714521599@events.mcu.edu.tw
SUMMARY:十力教育 10 Pillars｜即刻承諾 獎勵金入袋 Immediate Commitment Reward Cash Incentive
DESCRIPTION:銘傳大學推出十項基本能力，旨在培育學生全方位的十項基本能力。透過課程、競賽和實作，學生將得以發展德、智、體、群、美、企劃、溝通、科技、國際和就職等十大面向的能力。凡通過十力教育的畢業生，可以得到一張十項基本能力證書，而若再進階取得卓越十力證書，可獲得校長的就業推薦信，為未來就職提供很大的幫助！ \n為了鼓勵各位同學，學校推出「即刻承諾獎勵金」計劃，獎勵金名額僅限100人，欲申請的同學，請儘速把握機會！凡銘傳大學112學年度應屆一般畢業生，皆可申請；須於2024年4月30日前上網填寫報名表，並提交一篇600字的十力研修心得，並於7月30日取得基本十力或卓越十力證書後，繳交申請表及領據，即可獲得獎勵金1000元。此外，一般生若通過卓越十力，有機會再申請6000元獎勵金及校長推薦信。 \nMing Chuan University has introduced 10 Pillars aimed at cultivating students’ all-round capabilities. Through courses\, competitions\, and practical experiences\, students will have the opportunity to develop abilities in the areas of morality\, intelligence\, physical fitness\, social skills\, aesthetics\, planning\, communication\, technology\, internationalization\, and employment. Graduates who pass the 10 Pillars Education program will receive a Basic 10 Pillars Certificate. Furthermore\, those who advance to obtain the Excellence in 10 Pillars Certificate will receive a recommendation letter from the president\, greatly assisting in future employment opportunities! \nTo encourage students\, the university has launched the “Immediate Commitment Reward” program\, with only 100 spots available. All graduating general students of Ming Chuan University for 2023 academic year are eligible to apply. Applicants must fill out the registration form online before April 30\, 2024\, and submit a 600-word reflection on their 10 Pillars training experience. Upon obtaining the Basic 10 Pillars or Excellence in 10 Pillars Certificate by July 30\, applicants can submit the application form and receipt to receive a reward of NT$1\,000. Additionally\, general students who pass the Excellence in 10 Pillars have the chance to apply for an additional reward of NT$6\,000 and a recommendation letter from the president. \n十力教育「即刻承諾獎勵金」計劃，為激勵學生積極參與十力教育，並鼓勵通過自主學習提升自我能力，提升個人軟實力，成為自己未來的就業和個人發展奠定堅實的基礎。欲參加者請速填寫下方報名表單。 \nThe “Immediate Commitment Reward” program for 10 Pillars Education aims to motivate students to actively participate in the program and encourage self-improvement through independent learning\, thereby enhancing personal soft skills and laying a solid foundation for future employment and personal development. Interested participants are encouraged to quickly fill out the registration form at the link provided. \nhttps://docs.google.com/forms/d/e/1FAIpQLSfUDUkRspiSGniRn1mnerncaTf9fYKaTvQC1xBF-SeEvkv9QA/viewform
URL:https://events.mcu.edu.tw/event/%e5%8d%81%e5%8a%9b%e6%95%99%e8%82%b2-10-pillars%ef%bd%9c%e5%8d%b3%e5%88%bb%e6%89%bf%e8%ab%be-%e7%8d%8e%e5%8b%b5%e9%87%91%e5%85%a5%e8%a2%8b-immediate-commitment-reward-cash-incentive/
LOCATION:線上 Online
CATEGORIES:十力教育
ATTACH;FMTTYPE=image/jpeg:https://events.mcu.edu.tw/wp-content/uploads/2024/04/1191十力教育qr獎勵金電子報配圖-.jpg
END:VEVENT
END:VCALENDAR