BEGIN:VCALENDAR
VERSION:2.0
PRODID:-//Events Calendar - ECPv6.8.1//NONSGML v1.0//EN
CALSCALE:GREGORIAN
METHOD:PUBLISH
X-WR-CALNAME:Events Calendar
X-ORIGINAL-URL:https://events.mcu.edu.tw
X-WR-CALDESC:Events for Events Calendar
REFRESH-INTERVAL;VALUE=DURATION:PT1H
X-Robots-Tag:noindex
X-PUBLISHED-TTL:PT1H
BEGIN:VTIMEZONE
TZID:Asia/Taipei
BEGIN:STANDARD
TZOFFSETFROM:+0800
TZOFFSETTO:+0800
TZNAME:CST
DTSTART:20240101T000000
END:STANDARD
END:VTIMEZONE
BEGIN:VEVENT
DTSTART;TZID=Asia/Taipei:20240817T180000
DTEND;TZID=Asia/Taipei:20240825T210000
DTSTAMP:20260421T100554
CREATED:20240813T005918Z
LAST-MODIFIED:20240813T005918Z
UID:10000404-1723917600-1724619600@events.mcu.edu.tw
SUMMARY:淡江資工AI課程 Tamkang University Computer Science AI Course｜機器學習＆數據分析入門 Introduction to Machine Learning & Data Analysis
DESCRIPTION:場次 Sessions｜8/17-8/20、8/23-8/25 18:00-21:00（共21個小時 Total 21 hours）\n地點 Venue｜線上 Online GoogleMeet\n金額 Fee｜NT$9\,000\n老師 Instructor｜淡江資工系 張志勇老師 Professor Chang Chih-Yung\, Department of Computer Science\, Tamkang University\n適合 Eligibility｜高中以上不限年齡，不需會任何程式語言皆可報名 Open to anyone above high school level\, no prior programming knowledge required \n報名 To apply：https://www.accupass.com/eflow/ticket/2405080914591462196451 \n學員將學習到Python的基本語法和程式設計邏輯，以及不需編寫複雜的程式即可利用Orange Data Mining工具進行數據清洗、機器學習模型建構，並透過模型進行基本的分析以及預測。 \n透過實際的案例和專案，學生將能應用於解決實際問題，展現其優異的專業能力，以及對公眾議題的關切性。這項寶貴的技能，將可協助學展現課程或實作的學習成果，未來在大學及職業生涯中亦仍可持續應用。 \nParticipants will learn the basic syntax of Python and programming logic. They will also utilize the Orange Data Mining tool to perform data cleaning and build machine learning models without writing complex code. Through these models\, they will conduct basic analysis and make predictions. \nBy working on real-world cases and projects\, students will be able to apply their skills to solve practical problems\, showcasing their professional abilities and their concern for public issues. These valuable skills will help them demonstrate their learning outcomes from the course or practical projects\, which can be continuously applied in both academic and professional careers. \n \n  \n \n透過視覺化介面，建立機器學習模型不再需要撰寫一行一行的程式碼。 \nWith a visual interface\, building machine learning models no longer requires writing lines of code. \n課程大綱 Course Outline \n主題二 Topic 2：機器學習＆數據分析入門 Introduction to Machine Learning & Data Analysis（總時數 Total duration：21 hrs） \n\nPython\n\n入門AI之首要課程，學習Python語言的邏輯、語法、指令、思維，掌握程式編寫至數據分析的全流程。 The primary course for AI beginners\, covering the logic\, syntax\, commands\, and thinking of Python. It includes the entire process from programming to data analysis.\n12 hrs\n\n\nOrange數據分析及機器學習工具 Orange Data Analysis and Machine Learning Tool\n\n不寫程式的基礎下，進行產業數據清洗、特徵分析、數據分析、AI機器學習與模型建構、AI預測、AI分類、時間序列分析、模型效能評估等功能，挖掘資料特徵並進行可視化與預測。 Learn to clean industry data\, perform feature analysis\, data analysis\, AI machine learning\, model building\, AI prediction\, AI classification\, time series analysis\, and model performance evaluation without writing code. Discover data features and perform visualization and prediction.\n9 hrs\n\n\n\n【老師介紹 About the Instructor】張志勇 老師 Professor Chang Chih-Yung \n \n\n淡江大學特聘教授、物聯網與大數據研究中心主任\n北京交通大學兼任客座教授、滁州學院特聘教授\n臺灣ACM SIGMOBILE Chapter共同主席\n多次擔任SCI期刊編輯委員\n發表300多篇論文，100多篇在SCI索引期刊，曾獲多項最佳論文獎\n出版臺灣首本「物聯網概論」書籍\n積極推動物聯網在兩岸的發展\n參與AIGO競賽並多次獲得特優獎\n研究領域包括人工智慧、大數據、物聯網、智慧居家照護、無線感測器網路\n\n\nDistinguished Professor at Tamkang University and Director of the IoT and Big Data Research Center\nAdjunct Professor at Beijing Jiaotong University and Chuzhou University\nCo-Chair of the Taiwan ACM SIGMOBILE Chapter\nServed as an editorial board member for several SCI journals\nPublished over 300 papers\, with more than 100 in SCI-indexed journals\, and received numerous Best Paper Awards\nAuthor of Taiwan’s first book on the “Introduction to IoT”\nActively promotes the development of IoT across Taiwan and Mainland China\nMultiple-time winner of the AIGO competition‘s top awards\nResearch interests include artificial intelligence\, big data\, IoT\, smart home care and wireless sensor networks\n\n \n張志勇老師率領的學生團隊多次獲得全國性經濟部舉辦AI競賽大獎。 \nProfessor Chang Chih-Yung’s student team has won numerous national AI competition awards organized by Taiwan’s Ministry of Economic Affairs.
URL:https://events.mcu.edu.tw/event/%e6%b7%a1%e6%b1%9f%e8%b3%87%e5%b7%a5ai%e8%aa%b2%e7%a8%8b-tamkang-university-computer-science-ai-course%ef%bd%9c%e6%a9%9f%e5%99%a8%e5%ad%b8%e7%bf%92%ef%bc%86%e6%95%b8%e6%93%9a%e5%88%86%e6%9e%90/
LOCATION:線上 Online
CATEGORIES:ACCUPASS,賦能港科技股份有限公司
ATTACH;FMTTYPE=image/png:https://events.mcu.edu.tw/wp-content/uploads/2024/08/10.png
END:VEVENT
END:VCALENDAR