BEGIN:VCALENDAR
VERSION:2.0
PRODID:-//Events Calendar - ECPv6.8.1//NONSGML v1.0//EN
CALSCALE:GREGORIAN
METHOD:PUBLISH
X-ORIGINAL-URL:https://events.mcu.edu.tw
X-WR-CALDESC:Events for Events Calendar
REFRESH-INTERVAL;VALUE=DURATION:PT1H
X-Robots-Tag:noindex
X-PUBLISHED-TTL:PT1H
BEGIN:VTIMEZONE
TZID:Asia/Taipei
BEGIN:STANDARD
TZOFFSETFROM:+0800
TZOFFSETTO:+0800
TZNAME:CST
DTSTART:20250101T000000
END:STANDARD
END:VTIMEZONE
BEGIN:VEVENT
DTSTART;TZID=Asia/Taipei:20251204T080000
DTEND;TZID=Asia/Taipei:20251215T210000
DTSTAMP:20260425T074555
CREATED:20251204T054746Z
LAST-MODIFIED:20251204T054746Z
UID:10001545-1764835200-1765832400@events.mcu.edu.tw
SUMMARY:醫療資訊與管理學系 Department of Healthcare Information & Management、心理系 Department of Counseling\, Clinical and Industrial/Organizational Psychology｜聖誕交換禮物大會 Christmas Gift Exchange Party
DESCRIPTION:聖誕節腳步將近，節慶氣氛也在校園漸漸升溫。醫管系與心理系將於12/15（一）18:10–21:00在P102會議室聯合舉辦「聖誕交換禮物大會」，並於17:30–18:10開放報到。活動邀請兩系同學在冬日夜晚齊聚一堂，以交換禮物、互動遊戲與餐點共享迎接年底最溫馨的節日。 \n本次活動內容豐富多元，現場除交換禮物環節外，亦安排大型團康、精彩表演與豐盛餐食，讓參加者能在輕鬆氛圍中交流彼此、增添兩系互動與認識的機會。活動不限是否參與交換禮物，只要到場即可感受熱鬧又溫暖的聖誕氛圍。活動亦開放大一至大四同學參加，期望促成跨年級與跨系所的友善交流。 \n主辦單位提醒已完成報名者需於12/1–12/5的12:00–12:50完成繳費：醫管系於AA102系辦前，心理系於P505系辦外圓桌。已繳系費並全程參與者將於活動當天退還全額；未繳系費者則不予退費。學生會提醒請同學準時報到並留意相關規範。更多活動資訊可至醫管系學會 Instagram【mcu_him】及心理系學會 Instagram【mcu_cciop】查詢。 \nAs Christmas approaches\, the holiday spirit is gradually warming the campus. Department of Healthcare Information & Management and the Department of Counseling\, Clinical and Industrial/Organizational Psychology will jointly host a Christmas Gift Exchange Party on December 15 (Mon)\, 18:10–21:00\, at P102 Conference Room. Check-in will be open from 17:30–18:10. Students from both departments are invited to gather on a winter night\, celebrating the most heartwarming season of the year with gift exchange\, interactive games\, and shared refreshments. \nThe event features diverse and exciting activities\, including a gift exchange segment\, large-group games\, performances\, and a selection of delicious food. Participants will enjoy a relaxed atmosphere to meet\, interact\, and strengthen connections between the two departments. Students may join even without participating in the gift exchange—simply showing up will let you experience the lively and festive Christmas vibe. The event is open to students from freshman to senior year\, encouraging cross-year and cross-department friendship building. \nOrganizers remind students who have successfully registered to complete payment between December 1–5\, 12:00–12:50:• Healthcare Information & Management – in front of the HIM office (AA102)• Psychology – at the round table outside the department office (P505) \nParticipants who have paid department fees and attend the full event will receive a full refund on the day of the activity; those who have not paid department fees will not be eligible for a refund. Please arrive on time and follow event guidelines. For more information\, please visit the HIM Student Association Instagram mcu_him and the Psychology Student Association Instagram mcu_cciop.
URL:https://events.mcu.edu.tw/event/%e9%86%ab%e7%99%82%e8%b3%87%e8%a8%8a%e8%88%87%e7%ae%a1%e7%90%86%e5%ad%b8%e7%b3%bb-department-of-healthcare-information-management%e3%80%81%e5%bf%83%e7%90%86%e7%b3%bb-department-of-counseling-clinic/
LOCATION:桃園校區Taoyuan Campus\, 龜山區德明路5號\, 桃園市\, Taiwan
CATEGORIES:諮商臨床與工商心理學系,醫療資訊與管理學系
ATTACH;FMTTYPE=image/jpeg:https://events.mcu.edu.tw/wp-content/uploads/2025/12/1255giftchange.jpg
END:VEVENT
BEGIN:VEVENT
DTSTART;TZID=Asia/Taipei:20251205T080000
DTEND;TZID=Asia/Taipei:20251213T203000
DTSTAMP:20260425T074555
CREATED:20251205T024651Z
LAST-MODIFIED:20251205T024651Z
UID:10001548-1764921600-1765657800@events.mcu.edu.tw
SUMMARY:僑見銘傳社 Malaysian Alumni Association｜揪你過聖誕 Christmas Get-Together
DESCRIPTION:僑見銘傳將於12/13（六）15:00–20:30在H606舉辦114學年度聖誕活動「揪你過聖誕」，以交換禮物、節慶遊戲與派對活動陪伴同學度過冬日夜晚。 \n活動費用會員NT$200，報名至12/5（五）截止，當天亦有神秘嘉賓帶來驚喜演出。 \n退費規定依活動公告辦理。 \n更多資訊請洽 Instagram【mcu_maa】。 \nThe Malaysian Alumni Association will host the 2025 Christmas event “Christmas Get-Together” on December 13 (Sat) from 15:00 to 20:30 in H606\, featuring gift exchange\, festive games\, and party activities to warm up the winter night with fellow students. \nThe participation fee is NT$200 for members. Registration is open until December 5 (Fri). A special mystery guest will also bring a surprise performance during the event. \nRefunds will be handled in accordance with the event announcement. \nFor more information\, please refer to Instagram @mcu_maa. \n報名連結 Registration Link：https://docs.google.com/forms/d/e/1FAIpQLSeqAG39jb7K-X4ogVZhboSA8ndlYOcZPnKlGI4Zz-pGSv4fqQ/viewform
URL:https://events.mcu.edu.tw/event/%e5%83%91%e8%a6%8b%e9%8a%98%e5%82%b3%e7%a4%be-malaysian-alumni-association%ef%bd%9c%e6%8f%aa%e4%bd%a0%e9%81%8e%e8%81%96%e8%aa%95-christmas-get-together/
LOCATION:台北校區Taipei Campus\, 中山北路五段250號\, 台北市\, Taiwan
CATEGORIES:僑見銘傳社
ATTACH;FMTTYPE=image/png:https://events.mcu.edu.tw/wp-content/uploads/2025/12/6.png
END:VEVENT
BEGIN:VEVENT
DTSTART;TZID=Asia/Taipei:20251206T183000
DTEND;TZID=Asia/Taipei:20251206T234500
DTSTAMP:20260425T074555
CREATED:20251128T063020Z
LAST-MODIFIED:20251128T063020Z
UID:10001537-1765045800-1765064700@events.mcu.edu.tw
SUMMARY:《可能存在的遊樂園CollaPlay CollaPlay: The Possible Amusement Park》開幕PARTY Opening Party Ｘ 《WUCOLIN開題式社交實驗 WUCOLIN Topic-Initiated Social Experiment》
DESCRIPTION:「可能存在的遊樂園CollaPlay」正式登場！ \n這是一座讓人重新生成「可能性」的遊樂園——\n在這裡，我們打破生活的僵化與框架，讓大人重新學會「玩」與「探索」。\n不只是共享空間，也不只是酒吧，這裡是你的共創夥伴 × 實體社群基地。 \nCollaPlay位於西門町150坪的老宅中，擁有三層多功能空間、自然酒吧Tik & Sip、錄音室、攝影間與展演廳。\n每一層樓都以「轉換視角」為出發點命名： \n三樓｜頻率交流道、背對世界的時間 \n四樓｜空白分頁、水下的聲音、第三人稱 \n五樓｜大氣層 \n這一夜，我們邀請你進入樂園，帶來去年爆滿四場的社交實驗活動 《WUCOLIN開題式社交實驗》 回歸， \n一同為遊樂園開啟序章—— \n讓「對話、碰撞、微醺、狂歡」在同一夜發生。 \n“CollaPlay: The Possible Amusement Park” is officially launching! \nThis is a playground where new “possibilities” are brought to life—a place that breaks the rigidity and limits of everyday life\, helping adults relearn how to play and explore.More than just a co-creation space or a bar\, it is your collaborative partner and physical community hub. \nLocated in a 150-ping historic building in Ximen\, CollaPlay houses three floors of multifunctional spaces\, the natural wine bar Tik & Sip\, a recording studio\, a photo room\, and a performance hall.Each floor is named with the idea of “shifting perspectives”: \n3F｜Frequency Interchange / Time Against the World4F｜Blank Page / Sounds Underwater / Third Person5F｜Atmosphere Layer \nOn this special night\, you are invited into the park as we bring back the four fully booked sessions of last year’s social experiment “WUCOLIN Topic-Initiated Social Experiment”\, now returning for a brand-new round. \nTogether\, let’s open the prologue of this amusement park—where conversation\, collisions\, soft intoxication\, and celebration happen all in one night. \n===============================================================\n《可能存在的遊樂園》開幕PARTY內容 Opening Party Program — “The Possible Amusement Park”\n=============================================================== \n\n門票含自然派葡萄酒（可現場加點更多酒款）或無酒精飲品門票\n派對食物免費供應（吃飽喝足才好聊）\n探索CollaPlay各層空間的開放體驗，搶先感受這座有各種「可能性」的遊樂園\n\n\nTickets include a glass of natural wine (more selections available onsite) or a non-alcoholic beverage.\nFree party food will be provided—good food and drinks make great conversations.\nOpen exploration of all CollaPlay spaces across floors\, offering a first look into this amusement park full of limitless “possibilities”.\n\n===========================================================\n《WUCOLIN》全新開題式社交實驗！ WUCOLIN — A Brand-New Topic-Initiated Social Experiment!\n=========================================================== \n* 本次活動為開幕活動放大版！也是團隊正式揭曉我們的社群空間，有別於過去版本的小驚喜，值得玩過、沒玩過的你都期待一下！ \n* 本次活動時間依舊讓你們一路聊到深夜！ \n\n\nThis version is the expanded opening-edition! The team will officially reveal our community space\, complete with delightful surprises unlike previous versions—worth anticipating whether you’ve played before or not! \n\n\nThe event runs late into the night—plenty of time for deep conversations! \n\n\n–  –  – \n快跳入我們的 #粒子池 󠀠在 #對撞點 與陌生人來點碰撞 (?) \n每個人的涉獵範圍，限制了我們的思維界線，我們很少有機會在人群中，隨機撈取我們認知之外的新觀點。 \n本活動就像一個實驗池，每個現場的陌生人，都是活躍的「粒子」，一起在我們設計的「對撞點」，投入觀點、碰撞，撈取你認知之外的全新可能，讓一切都變得”wucolin”！ \nJump into our Particle Pool and collide with strangers at Collision Point (…maybe?) \nEveryone’s knowledge range limits the boundaries of their thinking\, and we rarely get the chance to pull in completely unexpected viewpoints from a random crowd. \nThis event functions like an experimental pool—everyone onsite is an active “particle”.At the designed collision points\, you’ll exchange perspectives\, spark ideas\, and discover possibilities outside your frame of reference—making everything feel a bit “wucolin”! \n\n===============================================\n？活動現場到底要幹嘛啊？ So… what do we actually do at the event?\n=============================================== \n現場有許許多多個對撞點，誰卡位誰就是山大王，你可以開「?」關卡，帶著問題尋求大家解答；也可以開「!」關卡，把你想大講特講的議題丟出來開講；當然你也可以純粹逛逛，選擇你有感的議題再加入對撞。 \n總之想幹嘛就幹嘛，要靈魂級別的心理對談、找主辦喝酒發呆抬槓，全、部、沒、問、題！ \nThere will be many collision points. Whoever sits first becomes the topic host.You may open a “?” station to ask questions\, seek opinions\, or start topic discussions;or use a “!” station to throw out a topic you’re eager to talk about;or simply wander around and join any discussion that resonates with you. \nDo whatever you want—deep emotional talk\, chilling at the bar with the organizers\, venting\, debating—all perfectly fine! \n======================\n? 活動資訊？ Event Information\n====================== \n🔴 活動時間：2025/12/6（六）18:30入場 18:45開始 23:45離場\n🔵 活動地點：台北市萬華區武昌街二段83之6號3樓\n🔴 活動費用： \n🍷🍷🍷 NT$990  開幕Party早鳥票（含3杯Tik & Sip葡萄酒） \n🍷 NT$690  開幕Party早鳥票（含1杯Tik & Sip葡萄酒） \n🥛 NT$490  開幕Party早鳥票（含1杯無酒精飲品） \n「禁止酒駕，酒後不開車 安全有保障」「未滿18歲禁止飲酒」 \n🔴 Date & Time: Saturday\, 2025/12/6 — Entry at 18:30\, event starts 18:45\, ends 23:45🔵 Venue: 3F.\, No. 83-6\, Sec. 2\, Wuchang St.\, Wanhua Dist.\, Taipei🔴 Ticket Options: \n🍷🍷🍷 NT$990 Early Bird Party Ticket (includes 3 glasses of Tik & Sip natural wine)🍷 NT$690 Early Bird Party Ticket (includes 1 glass of Tik & Sip natural wine)🥛 NT$490 Early Bird Party Ticket (includes 1 non-alcoholic drink) \n“Do not drink and drive. Ensure safety after drinking.”“Alcohol consumption is prohibited for persons under 18.” \n報名 To apply：https://www.accupass.com/eflow/ticket/2511120511421066736576?utm_source=Web&utm_medium=home_north&utm_campaign=accu_banner \n==========================\n? 現場開題範例？ Sample Topic Cards\n========================== \n用「 ? 」卡，你可以向大眾詢問意見、發起挑戰、議題討論等等 \n範例： \n#1 幫我看看我的交友App ，自介哪裡出問題？！\n規則：不能批評我醜！ \n#2 你都怎麼解愛情的海選題？！\n規則：兩人上限，私密討論，不開放旁聽，禮貌發言！ \n#3 人生室友募集！討論一起買房子的可能性！\n規則：務實點，拿你的存款來討論 ！ \n#4  雀后求敗，陪我打一圈！\n規則：放炮的人講一個你最狂的秘密 \n用「 ! 」卡，你可以準備一個主題，跟大家分享，或找尋聽眾！ \n範例： \n#1 我要爆料廣告界世紀大八卦\n規則：一切都是我夢到的！ \n#2 我用了5年，從肥宅變頂標帥哥！\n規則：相信愛情都是可以努力的！ \nWith the “?” Card\, you may ask the public for opinions\, challenges\, or discussion topics. \nExamples: \n#1 Help me review my dating app profile—what’s wrong with my bio?!Rule: You can’t call me ugly! \n#2 How do you solve the “multiple-choice questions” of love?Rule: Max two people\, private talk\, no eavesdropping\, be polite! \n#3 Calling for a life-long roommate! Let’s explore the possibility of buying a house together!Rule: Be practical—bring your savings to discuss! \n#4 Mahjong Queen seeking challengers—play a round with me!Rule: Anyone who deals the losing tile must reveal their wildest secret. \nWith the “!” Card\, you can prepare a topic to share or gather listeners. \nExamples: \n#1 I’m spilling a massive scandal from the advertising industry.Rule: Everything I say is “just a dream”! \n#2 It took me 5 years to transform from a nerd to a top-tier hunk!Rule: Believe that love can be achieved through effort! \n===================\n  活動花絮 Event Highlights\n===================
URL:https://events.mcu.edu.tw/event/%e3%80%8a%e5%8f%af%e8%83%bd%e5%ad%98%e5%9c%a8%e7%9a%84%e9%81%8a%e6%a8%82%e5%9c%92collaplay-collaplay-the-possible-amusement-park%e3%80%8b%e9%96%8b%e5%b9%95party-opening-party-%ef%bd%98-%e3%80%8awucol/
LOCATION:CollaPlay\, 萬華區武昌街二段83之6號3樓\, 台北市\, Taiwan
CATEGORIES:ACCUPASS,CollaPlay
ATTACH;FMTTYPE=image/png:https://events.mcu.edu.tw/wp-content/uploads/2025/11/9-1.png
END:VEVENT
BEGIN:VEVENT
DTSTART;TZID=Asia/Taipei:20251212T080000
DTEND;TZID=Asia/Taipei:20251218T210000
DTSTAMP:20260425T074555
CREATED:20251212T040236Z
LAST-MODIFIED:20251212T040236Z
UID:10001561-1765526400-1766091600@events.mcu.edu.tw
SUMMARY:信望愛社 Faith Hope Love｜聖誕派對 Christmas Party「伯利恆的星星 The Stars of Bethlehem」
DESCRIPTION:冬季的校園正被節慶燈火悄悄點亮。桃園校區信望愛社將於12/18（四）18:30–21:00在EE705舉辦年度聖誕派對「伯利恆的星星 The Stars of Bethlehem」，以歌聲、故事與聖誕傳統活動陪伴同學迎接年末的溫馨時刻。活動採報名制，名額有限，歡迎有興趣的同學提前參加。 \n「伯利恆的星星 The Stars of Bethlehem」活動內容包括詩歌共唱、聖誕分享、團康遊戲與交換禮物等，透過輕鬆互動讓參與者在期末壓力之中獲得片刻放鬆。即便沒有宗教背景，也能在活動中感受暖心陪伴與聖誕節特有的明亮氛圍，為學期尾聲增添一份療癒能量。 \n信望愛社表示，希望本次派對成為同學們在忙碌之間重新補充能量的小小據點，無論是想度過愉快夜晚、認識新朋友，或單純感受聖誕的喜悅，都誠摯歡迎加入。報名表單已開放，更多活動資訊可至Instagram【mcu.fhl】查詢。 \nAs winter settles in\, festive lights are beginning to glow across the campus. The Faith Hope Love Club on Taoyuan Campus will host its annual Christmas party\, “The Stars of Bethlehem”\, on Thursday\, December 18\, from 18:30 to 21:00 in EE705. The evening will feature music\, storytelling\, and traditional holiday activities to warmly accompany students toward the year’s end. The event requires registration and has limited spots available\, so interested students are encouraged to sign up early. \n“The Stars of Bethlehem” includes group singing\, Christmas sharing\, team-building games\, and a gift exchange. Through relaxed and enjoyable interactions\, participants can unwind amid the pressures of finals. Students of all backgrounds—religious or not—are welcome to join and experience the warmth\, companionship\, and uplifting holiday ambiance that make Christmas special. \nThe Faith Hope Love Club hopes this event will serve as a small haven for students to recharge during the busy season. Whether you’re looking for a delightful evening\, hoping to meet new friends\, or simply wishing to soak in the joy of Christmas\, you are warmly invited to join. Registration is now open\, and more information can be found on Instagram at mcu.fhl. \n報名連結 Registration link：https://docs.google.com/forms/d/e/1FAIpQLSdP_AGuRCSmgcEL5NeGZIgieEj1PNcquH-WsQtydmy4Wcc05A/viewform
URL:https://events.mcu.edu.tw/event/%e4%bf%a1%e6%9c%9b%e6%84%9b%e7%a4%be-faith-hope-love%ef%bd%9c%e8%81%96%e8%aa%95%e6%b4%be%e5%b0%8d-christmas-party%e3%80%8c%e4%bc%af%e5%88%a9%e6%81%86%e7%9a%84%e6%98%9f%e6%98%9f-the-stars-of-bethlehem/
LOCATION:桃園校區Taoyuan Campus\, 龜山區德明路5號\, 桃園市\, Taiwan
CATEGORIES:信望愛社
ATTACH;FMTTYPE=image/jpeg:https://events.mcu.edu.tw/wp-content/uploads/2025/12/1256fulstar.jpg
END:VEVENT
BEGIN:VEVENT
DTSTART;TZID=Asia/Taipei:20251215T120000
DTEND;TZID=Asia/Taipei:20251226T210000
DTSTAMP:20260425T074555
CREATED:20251216T023332Z
LAST-MODIFIED:20251216T023332Z
UID:10001565-1765800000-1766782800@events.mcu.edu.tw
SUMMARY:金融系 Department of Economics、公共事務與行政管理系 Department of Public Affairs & Administration、生物醫學工程系 Department of BioMedical Engineering｜冬夜的約定 A Winter Night’s Promise
DESCRIPTION:聖誕節腳步靠近，校園裡的節慶氣氛也悄悄升溫。金融系、公行系與醫工系三系學會將於12/26（五）19:00在P102舉辦聯合聖誕晚會「冬夜的約定」，18:30開放入場，邀請全校同學在期末之際放緩步調，提前感受聖誕與跨年的溫馨歡樂。 \n本次晚會內容豐富，包含多組舞台表演、互動遊戲，以及備受期待的抽獎活動，並加碼安排神秘舞台劇，讓同學在驚喜與笑聲中迎接年末。參與者可獲得點心盒與飲料一份，為寒冷冬夜增添暖意。票價部分，早鳥票NT$100、一般票NT$120，公行、金融與醫工三系已繳系費者可享NT$80優惠；另推出三人同行每人NT$100的套票方案，並加贈面具作為活動小禮。 \n三系學會提醒，同學須於指定繳費時間（12/12、12/15、12/16，S2平台 12:00–12:50）完成付款，方可憑票入場。早鳥票購買請按此連結，因活動時程與場地曾有異動，建議同學留意公告以免錯過相關資訊。 \n更多詳細內容可至Instagram【christmas_winter_promise】查詢。 \nAs Christmas approaches\, the festive atmosphere on campus continues to grow warmer. The student associations of Department of Economics\, Department of Public Affairs & Administration\, and Department of Biomedical Engineering will jointly host a Christmas gala titled “A Winter Night’s Promise” on December 26 (Friday) at 19:00 in P102\, with doors opening at 18:30. Students from across the university are warmly invited to slow down amid the end-of-semester rush and enjoy an early taste of Christmas and New Year cheer. \nThe evening features a rich program including multiple stage performances\, interactive games\, and a highly anticipated raffle\, along with a mystery theatrical performance prepared especially for the event. Each participant will receive a snack box and a drink\, adding warmth to the winter night. Ticket prices are NT$100 for early-bird tickets and NT$120 for regular tickets. Students from the three organizing departments who have paid their department fees are eligible for a discounted price of NT$80. A special group package is also available: NT$100 per person for groups of three\, with a complimentary mask as a small event gift. \nThe organizing committees remind participants that payment must be completed during the designated collection times (December 12\, 15\, and 16\, from 12:00–12:50 at the S2 platform) in order to enter the event with a valid ticket. Please use the provided link to purchase early-bird tickets. As the event schedule and venue have been adjusted previously\, students are advised to check announcements regularly to stay updated. \nFor more information\, please visit Instagram @christmas_winter_promise.
URL:https://events.mcu.edu.tw/event/%e9%87%91%e8%9e%8d%e7%b3%bb-department-of-economics%e3%80%81%e5%85%ac%e5%85%b1%e4%ba%8b%e5%8b%99%e8%88%87%e8%a1%8c%e6%94%bf%e7%ae%a1%e7%90%86%e7%b3%bb-department-of-public-affairs-administration/
LOCATION:桃園校區Taoyuan Campus\, 龜山區德明路5號\, 桃園市\, Taiwan
CATEGORIES:公共事務與行政管理學系,生物醫學工程學系,金融學系
ATTACH;FMTTYPE=image/jpeg:https://events.mcu.edu.tw/wp-content/uploads/2025/12/1256twchristmas.jpg
END:VEVENT
END:VCALENDAR