BEGIN:VCALENDAR
VERSION:2.0
PRODID:-//Events Calendar - ECPv6.8.1//NONSGML v1.0//EN
CALSCALE:GREGORIAN
METHOD:PUBLISH
X-ORIGINAL-URL:https://events.mcu.edu.tw
X-WR-CALDESC:Events for Events Calendar
REFRESH-INTERVAL;VALUE=DURATION:PT1H
X-Robots-Tag:noindex
X-PUBLISHED-TTL:PT1H
BEGIN:VTIMEZONE
TZID:Asia/Taipei
BEGIN:STANDARD
TZOFFSETFROM:+0800
TZOFFSETTO:+0800
TZNAME:CST
DTSTART:20250101T000000
END:STANDARD
END:VTIMEZONE
BEGIN:VEVENT
DTSTART;TZID=Asia/Taipei:20250425T143000
DTEND;TZID=Asia/Taipei:20250516T163000
DTSTAMP:20260425T091540
CREATED:20250425T023640Z
LAST-MODIFIED:20250425T023640Z
UID:10001042-1745591400-1747413000@events.mcu.edu.tw
SUMMARY:法律學院 School of Law｜銘傳大學大士林地區法律服務中心 MCU Greater Shilin Area Legal Service Center
DESCRIPTION:為善盡大學社會責任（USR）並推廣銘傳大學產學全面化之創業領域，銘傳大學法律學院設置有「銘傳大學大士林地區法律服務中心」，提供銘傳師生、家屬、校友及大士林地區（士林、北投及內湖區）民眾免費公益法律諮詢。 \n本學期由法律學院財金法律學系林士欽助理教授、林哲倫律師（輿全法律事務所），及法律學院同學共同提供免費法律諮詢，4/25（五）、5/16（五）14:30-16:30在士林公民會館2樓（台北市士林區大東路75號2樓）進行服務，採預約制，歡迎有需求的師生及民眾提前預約。 \nIn fulfillment of its University Social Responsibility (USR) and the promotion of MCU’s comprehensive industry-academic entrepreneurial collaboration\, School of Law at MCU has established the Greater Shilin Area Legal Service Center. The center provides free public legal consultations for Ming Chuan faculty\, staff\, students\, their families\, alumni and residents of the Greater Shilin area (including Shilin\, Beitou and Neihu Districts). \nThis semester\, free legal consultations will be offered by Assistant Professor Lin Shih-Chin from Department of Financial Law\, Attorney Lin Che-Lun (Focus Law Office) and law students from School of Law. \nConsultation Dates \n\n\nFriday\, April 25 & Friday\, May 16 \n\n\nTime: 14:30 – 16:30 \n\n\nLocation: 2nd Floor\, Taipei City Shilin District Public Assembly Hall (No. 75\, Dadong Rd.\, Shilin Dist.\, Taipei City)📌 Appointments are required. Faculty\, students and the public are welcome to book in advance. \n\n\n預約表單 Appointment Form：https://reurl.cc/NYlL8n
URL:https://events.mcu.edu.tw/event/%e6%b3%95%e5%be%8b%e5%ad%b8%e9%99%a2-school-of-law%ef%bd%9c%e9%8a%98%e5%82%b3%e5%a4%a7%e5%ad%b8%e5%a4%a7%e5%a3%ab%e6%9e%97%e5%9c%b0%e5%8d%80%e6%b3%95%e5%be%8b%e6%9c%8d%e5%8b%99%e4%b8%ad%e5%bf%83-mcu-g/
LOCATION:士林公民會館\, 士林區大東路75號\, 台北市\, Taiwan
CATEGORIES:法律學院
ATTACH;FMTTYPE=image/jpeg:https://events.mcu.edu.tw/wp-content/uploads/2025/04/Andy_67.jpg
END:VEVENT
BEGIN:VEVENT
DTSTART;TZID=Asia/Taipei:20250428T090000
DTEND;TZID=Asia/Taipei:20250502T163000
DTSTAMP:20260425T091540
CREATED:20250429T020531Z
LAST-MODIFIED:20250429T020531Z
UID:10001048-1745830800-1746203400@events.mcu.edu.tw
SUMMARY:法律服務社 Law Aid Club｜25週年校園展覽「海旺天光」 25th Anniversary Campus Exhibition “Rays of Hope Over the Sea”
DESCRIPTION:法律服務社迎來創社25週年，於4/28（一）~5/2（五）09:00~16:30舉辦25週年校園展覽「海旺天光」，地點在傳播大樓H102模擬法庭。本次展覽聚焦「邱和順案」，透過影像與文字紀錄，引領大家思索司法制度與人性的價值，讓更多人看見司法正義的重要。展覽現場還有限定抽獎活動，完成任務即可獲得抽獎券，次數不限，獎品豐富，完成越多中獎機率越高。 \n另，5/1（四）10:00~12:00在活動現場還會帶來「羅明村案」專題講座，特別邀請李冠衡律師蒞校演講，帶領大家回顧案件的始末，進一步了解案件涉及的法律與人權問題。活動詳細資訊，請上法律服務社IG 【mcu_law_aid_club】查詢。 \nThe Law Aid Club is celebrating its 25th anniversary with a special campus exhibition titled “Rays of Hope Over the Sea”\, taking place from Monday\, April 28 to Friday\, May 2\, between 09:00 and 16:30 at Mock Courtroom (H102) in Communication Building. \nThis exhibition focuses on Qiu He-Shun case\, using images and written records to lead visitors in reflecting on the value of the judicial system and humanity\, aiming to raise awareness about the importance of justice. \nThere will also be a special raffle at the exhibition! Complete designated tasks to earn raffle tickets — there is no limit to the number of tickets you can collect. The more you participate\, the higher your chances of winning exciting prizes! \nAdditionally\, on Thursday\, May 1\, from 10:00 to 12:00\, a special lecture on the Luo Ming-Cun case will be held at the exhibition venue. Attorney Li Guan-Heng has been invited to deliver a speech\, guiding the audience through the case’s history and offering deeper insights into the legal and human rights issues involved. \nFor more details\, please visit Law Aid Club’s Instagram page 【mcu_law_aid_club】.
URL:https://events.mcu.edu.tw/event/%e6%b3%95%e5%be%8b%e6%9c%8d%e5%8b%99%e7%a4%be-law-aid-club%ef%bd%9c25%e9%80%b1%e5%b9%b4%e6%a0%a1%e5%9c%92%e5%b1%95%e8%a6%bd%e3%80%8c%e6%b5%b7%e6%97%ba%e5%a4%a9%e5%85%89%e3%80%8d-25th-anniversary-campu/
LOCATION:台北校區Taipei Campus\, 中山北路五段250號\, 台北市\, Taiwan
CATEGORIES:法律服務社
ATTACH;FMTTYPE=image/png:https://events.mcu.edu.tw/wp-content/uploads/2025/04/1-1.png
END:VEVENT
BEGIN:VEVENT
DTSTART;TZID=Asia/Taipei:20250509T124500
DTEND;TZID=Asia/Taipei:20250509T160000
DTSTAMP:20260425T091540
CREATED:20250430T064634Z
LAST-MODIFIED:20250430T064634Z
UID:10001052-1746794700-1746806400@events.mcu.edu.tw
SUMMARY:法律服務社 Law Aid Club｜立法院參訪 Legislative Yuan Visit
DESCRIPTION:對立法程序充滿好奇嗎？台北法律服務社將於5/9（五）14:00-16:00舉辦「立法院參訪」活動，帶領同學一探立法院的實際運作樣貌，深入了解法律從提案到通過的完整流程。 \n活動當日集合時間為12:45-13:00，集合地點為劍潭捷運站1號出口外空地，逾時不候。參訪地點為台北市中正區中山南路1號之立法院，屆時將由專人導覽，介紹國會運作、立法程序等重要內容，協助同學建立更完整的法律知識架構。 \n本次活動採線上報名、先報名先錄取制，即日起開放登記，有興趣的同學請把握機會！更多詳情與即時資訊請見法律服務社Instagram【mcu_law_aid_club】。 \nCurious about how laws are made? Law Aid Club will host a “Legislative Yuan Visit” on Friday\, May 9\, from 14:00 to 16:00\, guiding students to explore the actual workings of Legislative Yuan and gain a deeper understanding of the complete legislative process—from proposal to passage. \nMeeting time: 12:45–13:00Meeting point: Open area outside Exit 1 of Jiantan MRT Station (late arrivals will not be accommodated)Venue: Legislative Yuan (No. 1\, Zhongshan S. Rd.\, Zhongzheng Dist.\, Taipei City)The visit will include a guided tour explaining the functions of the legislature\, legislative procedures and key insights into parliamentary operations\, helping students build a more complete understanding of legal frameworks. \nRegistration is online and first-come\, first-served. Sign-ups are open now—don’t miss out!For more details and real-time updates\, please visit Law Aid Club’s Instagram: @mcu_law_aid_club \n 報名表單連結 Registration Form Link：請點我 Click Here
URL:https://events.mcu.edu.tw/event/%e6%b3%95%e5%be%8b%e6%9c%8d%e5%8b%99%e7%a4%be-law-aid-club%ef%bd%9c%e7%ab%8b%e6%b3%95%e9%99%a2%e5%8f%83%e8%a8%aa-legislative-yuan-visit/
LOCATION:立法院\, 中正區中山南路1號\, 台北市\, Taiwan
CATEGORIES:法律服務社
ATTACH;FMTTYPE=image/jpeg:https://events.mcu.edu.tw/wp-content/uploads/2025/04/1233期法服社電子報配圖-.jpg
END:VEVENT
END:VCALENDAR