BEGIN:VCALENDAR
VERSION:2.0
PRODID:-//Events Calendar - ECPv6.8.1//NONSGML v1.0//EN
CALSCALE:GREGORIAN
METHOD:PUBLISH
X-WR-CALNAME:Events Calendar
X-ORIGINAL-URL:https://events.mcu.edu.tw
X-WR-CALDESC:Events for Events Calendar
REFRESH-INTERVAL;VALUE=DURATION:PT1H
X-Robots-Tag:noindex
X-PUBLISHED-TTL:PT1H
BEGIN:VTIMEZONE
TZID:Asia/Taipei
BEGIN:STANDARD
TZOFFSETFROM:+0800
TZOFFSETTO:+0800
TZNAME:CST
DTSTART:20240101T000000
END:STANDARD
END:VTIMEZONE
BEGIN:VEVENT
DTSTART;TZID=Asia/Taipei:20241223T090000
DTEND;TZID=Asia/Taipei:20241227T170000
DTSTAMP:20260420T091143
CREATED:20241220T054734Z
LAST-MODIFIED:20241220T054734Z
UID:10000800-1734944400-1735318800@events.mcu.edu.tw
SUMMARY:圖書館 Library｜打卡拍美照 借好書 抽好禮 聖誕網紅就是你 Take Stunning Photos\, Borrow Great Books & Win Prizes – Be the Christmas Influencer!
DESCRIPTION:2024聖誕節，怎麼過最有氣氛？銘傳大學圖書館特別推出「聖誕網紅就是你」活動，邀請全校師生共襄盛舉！從12/23（一）至12/27（五），走進節日氛圍濃厚的圖書館，拍美照、打卡分享，再加上完成借閱任務，就有機會參加抽獎，贏取豐富好禮，與圖書館一起點亮聖誕的暖心時刻。 \n師生們只需到圖書館拍下館內精心布置的聖誕佈景，並將照片分享到個人IG或FB限時動態，標註@mculibrary，設定為「公開」；接著借閱2本實體書，完成後至櫃台登記，即可獲得抽獎資格。每人僅限參加一次，得獎名單將於活動結束後一周內公布，期待幸運的您贏得驚喜好禮，活動參與方式簡單又有趣，快來體驗。 \n這個聖誕節，來圖書館體驗拍美照、交換禮物、閱讀好書的樂趣，化身朋友圈的聖誕網紅！歡迎大家攜手參與，共度一個充滿驚喜與歡樂的佳節時光。更多活動詳情請至圖書館IG粉專【mculibrary】查詢。 \n\n\n\n\n\n\n\n\n\n\n\n\n\n\nHow to spend Christmas 2024 in the most festive way? Library invites all faculty and students to join the “Be the Christmas Influencer” event! From Monday\, December 23\, to Friday\, December 27\, step into the library filled with a warm holiday ambiance\, snap beautiful photos\, share them online and complete the borrowing mission for a chance to win amazing prizes. Celebrate the season with the library and light up your Christmas with joy and warmth! \nHere’s how to participate: \n\nTake photos in the library featuring the carefully arranged Christmas decorations.\nShare the photos on your personal IG or FB story\, tag @mculibrary and set the post to “Public”.\nBorrow 2 physical books from the library and register at the counter after completing the borrowing process.\n\nOnce completed\, you’ll receive an entry for the prize draw. Each participant can enter only once. Winners will be announced within a week after the event ends. Don’t miss your chance to win delightful surprises! The activity is fun and easy to join—come and experience it for yourself. \nThis Christmas\, transform into a Christmas influencer by enjoying stunning photoshoots\, exchanging gifts and diving into great reads at the library. Join us for a season filled with joy\, surprises and festive cheer! For more details\, visit the library’s IG account @mculibrary.
URL:https://events.mcu.edu.tw/event/%e5%9c%96%e6%9b%b8%e9%a4%a8-library%ef%bd%9c%e6%89%93%e5%8d%a1%e6%8b%8d%e7%be%8e%e7%85%a7-%e5%80%9f%e5%a5%bd%e6%9b%b8-%e6%8a%bd%e5%a5%bd%e7%a6%ae-%e8%81%96%e8%aa%95%e7%b6%b2%e7%b4%85%e5%b0%b1%e6%98%af/
LOCATION:圖書館
CATEGORIES:圖書館
ATTACH;FMTTYPE=image/jpeg:https://events.mcu.edu.tw/wp-content/uploads/2024/12/1219期圖書館聖誕電子報配圖.jpg
END:VEVENT
BEGIN:VEVENT
DTSTART;TZID=Asia/Taipei:20241223T120000
DTEND;TZID=Asia/Taipei:20241227T125000
DTSTAMP:20260420T091143
CREATED:20241225T030914Z
LAST-MODIFIED:20241225T030914Z
UID:10000815-1734955200-1735303800@events.mcu.edu.tw
SUMMARY:畢聯會 Graduating Class Association｜交換禮物抽好禮 Gift Exchange Event
DESCRIPTION:隨著即將到來的聖誕節，街道上充滿著節慶的氣氛，卻讓人感到有點孤單？想參加交換禮物卻苦於找不到人？別擔心，畢聯會準備了一場充滿溫馨與驚喜的交換禮物活動！ \n活動將於12/23-27，12:00-12:50在體育館四樓的畢聯會辦公室舉行。同學們只需在活動時間內攜帶禮物至現場，即可參加這場溫馨有趣的活動，一起來分享聖誕的快樂與驚喜！ \n活動禮物的價值須介於NT$200~NT$500之間，並且僅限全新商品。避免攜帶食物、二手物品、菸酒或其他危險物品，讓大家都能安心參與並享受活動的樂趣。 \n除了交換禮物外，活動期間還設有抽獎活動。參加者可將收到的禮物拍照上傳至個人IG限時動態，並標註畢聯會IG【mcu_taoyuan_gcaa】。動態需保持24小時，完成後將截圖私訊畢聯會，即可參加抽獎。會於12/30（一）抽出一名同學獲得「113級畢聯會限定行動電源一組」，以及五名同學獲得「113級畢聯會限定飲料提袋一個」。 \n這次活動不僅是一個交換禮物的好機會，更是一個讓同學們互相交流、分享節日歡樂的最佳時刻。參與的同學還有機會抽中精美的獎品，讓今年的聖誕節留下更多美好的回憶。期待大家踴躍參加，一起度過聖誕節！ \n若有任何疑問，請私訊畢聯會IG或FB粉絲專頁。 \nAs Christmas approaches\, the festive atmosphere fills the streets\, yet sometimes it can feel a little lonely. Want to join a gift exchange but can’t find someone to exchange with? Don’t worry! The Graduating Class Association has prepared a heartwarming and exciting gift exchange event just for you! \nEvent Details \n📅 Date: December 23–27\n⏰ Time: 12:00–12:50\n📍 Location: Graduating Class Association Office\, 4/F\, Gymnasium \nBring a gift to the event during the designated time\, and join in this delightful activity to share the joy and surprises of Christmas! \nGift Guidelines \n\nThe value of the gift should range between NT$200–NT$500.\nGifts must be brand-new items.\nPlease avoid bringing food\, second-hand items\, tobacco\, alcohol or any hazardous items to ensure a safe and enjoyable experience for everyone.\n\nSpecial Raffle Activity \nIn addition to the gift exchange\, participants can also join our raffle event! \nHere’s how: \n\nTake a photo of the gift you receive during the event.\nPost it to your Instagram Story and tag Graduating Class Association IG account: mcu_taoyuan_gcaa.\nKeep the story up for 24 hours.\nAfterward\, screenshot the story and send it via private message to the Graduating Class Association.\n\n🎁 Prizes \n\nGrand Prize: One winner will receive a 2024 Graduating Class Association Exclusive Power Bank.\nRunner-up Prizes: Five winners will receive a 2024 Graduating Class Association Exclusive Drink Tote Bag.\n\nThe raffle draw will take place on Monday\, December 30 and the winners will be announced shortly after. \nThis event is not only a wonderful chance to exchange gifts but also an excellent opportunity for students to connect\, share the holiday cheer and create memorable moments. Don’t miss the chance to win fabulous prizes and make this Christmas extra special. We look forward to seeing you there! \nFor inquiries\, please message us on Instagram or our Facebook fan page.
URL:https://events.mcu.edu.tw/event/%e7%95%a2%e8%81%af%e6%9c%83-graduating-class-association%ef%bd%9c%e4%ba%a4%e6%8f%9b%e7%a6%ae%e7%89%a9%e6%8a%bd%e5%a5%bd%e7%a6%ae-gift-exchange-event/
LOCATION:桃園校區Taoyuan Campus\, 龜山區德明路5號\, 桃園市\, Taiwan
CATEGORIES:桃園畢聯會
ATTACH;FMTTYPE=image/jpeg:https://events.mcu.edu.tw/wp-content/uploads/2024/12/1219期畢聯會電子報配圖.jpg
END:VEVENT
BEGIN:VEVENT
DTSTART;TZID=Asia/Taipei:20241223T120000
DTEND;TZID=Asia/Taipei:20241227T200000
DTSTAMP:20260420T091143
CREATED:20241220T060059Z
LAST-MODIFIED:20241220T060059Z
UID:10000801-1734955200-1735329600@events.mcu.edu.tw
SUMMARY:傳播學院 School of Communication｜傳院週 Communication Week
DESCRIPTION:傳院分局來了！聖誕出勤，全校最「罩」的傳院週要同學們快樂到報警！今年聖誕，傳播學院強勢開張一間「正港分局」，霸氣喊出：「夥伴我來罩！」這場年度盛事「傳院週」，將從12/23（一）一路嗨到12/27（五），五天連發，天天爆點，讓同學們在傳院週笑翻、尖叫、烤肉到手軟，直接報警求救也沒用！ \n12/23（一）12:00傳院週開幕式在鬥牛場率先登場！《槍林彈雨尋真相 開幕通緝眾人集》盛大的剪綵儀式搭配超精采表演，這可不是普通的開幕，而是宣告：「傳院分局，今天起辦案啦！」 各位同學歡迎到場觀賞，一同開啟一週的傳院追緝人生！ \n隔天12/24（二）12:10，案發現場移到7-11前廣場！《警匪追逐戰 SNG來破案》熱血開戰，讓你瞬間變身「專業主播」或「神探記者」。兩人一組，主播需穿著正式服裝，鎮定自若面對鏡頭，記者則一肩扛起「爆料」重任，隨時出手「抓到新聞破口」。前三名還能抱走精美大禮，同學們的專業播報，這次有「禮」了！詳細活動內容請洽傳播學院學會IG【mcu_comm】。 \n然而，到了晚上就別太輕鬆了。18:30在H604驚悚鬼屋正式「開案」，《鮮血淋漓 殺人「成」魔》讓同學體驗什麼叫「一步一驚心」。這次鬼屋主題可是正港恐怖風結合七夜怪談與裂嘴女，靈異事件一個接一個，敢進來「破案」，也得想清楚能不能全身而退！每人NT$50（繳系費者免費），6人一組，歡迎全校學生共同報名參與！ \n傳院週的重頭戲當然少不了一場華麗盛宴！12/25（三）18:45逸仙堂變成為「傳院spotlight」的舞台。晚會《我在警局 spend a night》安排滿滿節目和驚喜橋段，讓大家嗨翻全場，跳舞、尖叫、笑到模糊。 \n接下來，12/26（四）12:00，案情轉向「現場追緝」。羽球場上演《追緝行動》遊戲日，六人一組，限六組參加。每組將肩負「搜查行動」，鞋子上黏著奇怪道具，考驗你的反應與速度！這場遊戲笑料百出，別懷疑，你的隊友可能比犯人還要失控。 \n壓軸重頭戲在12/27（五）17:30！，鬥牛場直接開起年末烤肉趴！《芭比Q了，我進警局戴手銬！》讓傳院週以系烤收尾，烤到手酸、吃到撐爆，才算真正揮別2024年。10到12人一組，每位NT$200，限12組參加，錯過可別說傳院分局沒罩你！ \n這次的傳院週，專業又瘋狂、好笑又刺激，從記者主播到驚悚鬼屋，從遊戲追緝到烤肉趴，滿滿五天讓你在歡笑中過一個充滿「正港精神」的聖誕！同學們準備好了嗎？快來報到，不然真的要通緝你囉！更多活動資訊及報名結果請洽傳播學院學會IG【mcu_comm】。 \nThe “Comm Bureau” is here! Christmas is on duty\, and the most exciting “Communication Week” invites you to laugh out loud! This year\, the School of Communication is turning up the heat with a festive police station theme\, boldly proclaiming: “We’ve got your back!” From Monday\, December 23\, to Friday\, December 27\, get ready for five days of non-stop fun\, laughter and unforgettable moments that will make you want to “call for backup” (in the best way possible!). \nSchedule of Events \nDay 1: 12/23 (Mon) 12:00 – Grand Opening \nKick off at the Basketball Court with “Bullets and Truth: Opening Chase Live Show”. Join us for a spectacular ribbon-cutting ceremony and exciting performances as we officially announce: “The Comm Bureau is now open for business!” Come and experience the thrill of launching Communication Week with style! \nDay 2: 12/24 (Tue) 12:10 – Crime Scene Challenge \nAt the plaza in front of 7-Eleven\, participate in “Police vs. Thieves: SNG News Chase!” Transform into a “professional anchor” or “detective reporter” for this thrilling game. In pairs\, the anchor must face the camera in formal attire with poise\, while the reporter digs deep for breaking news. The top three teams will win exclusive prizes. Details available on School of Communication’s IG @mcu_comm. \nEvening: 18:30 – Haunted House\nBrace yourself in H604 for “Blood and Terror: Killers Unleashed”. With a chilling theme inspired by The Ring and Kuchisake-onna\, this haunted house promises spine-tingling frights. Only the brave may dare to enter! Fee: NT$50 per person (free for department members)\, 6 people per group. Open to all students. \nDay 3: 12/25 (Wed) 18:45 – Christmas Gala \nThe Sun Yat Sen Auditorium transforms into a dazzling stage for the “A Night at the Police Station” Christmas Gala. Enjoy thrilling performances\, games and surprise segments that will have you laughing\, dancing\, and shouting with joy. A night of pure entertainment awaits! \nDay 4: 12/26 (Thu) 12:00 – Action Game Day \nIn the badminton court\, test your skills in the “Chasing Game”. Teams of six will take on quirky challenges\, including wearing odd props on their shoes while completing search missions. It’s chaos and comedy rolled into one! Limited to six teams\, so grab your spot fast. \nDay 5: 12/27 (Fri) 17:30 – Year-End BBQ Party \nEnd the week with a bang at the “Barbecue Blowout: Handcuffs Included!” Held at the Basketball Court\, this BBQ party will have you grilling\, feasting and laughing your way out of 2024. Fee: NT$200 per person\, teams of 10-12\, limited to 12 groups. Don’t miss out—join the ultimate celebration! \nThis year’s Communication Week is packed with professional yet crazy\, hilarious yet thrilling activities. From news reporting and haunted houses to action games and BBQ parties\, it’s five days of non-stop excitement that embodies the true spirit of Communication! Are you ready? Join us\, or we’ll have to put out a warrant for your attendance! \nFor more details and registration results\, follow School of Communication on IG @mcu_comm.
URL:https://events.mcu.edu.tw/event/%e5%82%b3%e6%92%ad%e5%ad%b8%e9%99%a2-school-of-communication%ef%bd%9c%e5%82%b3%e9%99%a2%e9%80%b1-communication-week/
LOCATION:台北校區Taipei Campus\, 中山北路五段250號\, 台北市\, Taiwan
CATEGORIES:傳播學院
ATTACH;FMTTYPE=image/jpeg:https://events.mcu.edu.tw/wp-content/uploads/2024/12/1219期傳院週電子報配圖.jpg
END:VEVENT
BEGIN:VEVENT
DTSTART;TZID=Asia/Taipei:20241224T090000
DTEND;TZID=Asia/Taipei:20250110T170000
DTSTAMP:20260420T091143
CREATED:20241224T033856Z
LAST-MODIFIED:20241224T033856Z
UID:10000810-1735030800-1736528400@events.mcu.edu.tw
SUMMARY:圖書館 Library｜借閱盲盒與電子書 抽好禮迎新年 Lucky Draw with Blind Boxes and eBooks to Welcome the New Year
DESCRIPTION:圖書館於2024/12/23－2025/1/10推出「新年抽好運，好運旺旺來」活動，提供借盲盒與電子書抽獎機會。參與者可借閱盲盒即抽取「好運卡」，根據卡片內容獲取「好運禮」。同時，參與線上抽籤進入電子書平台，借閱5本電子書亦可抽「好運e卡」，兌換小禮品，讓閱讀新年更添趣味！活動步驟簡單！任選一包盲盒借閱即可現場抽卡，電子書則需透過活動QR Code抽籤，借閱指定電子書後至櫃台領取好禮。活動次數無限制，但獎品數量有限，送完為止！ \n此外，圖書館同步推出聖誕節慶祝活動，12/23（一）－12/27（五）期間，拍攝館內聖誕佈景並分享至IG/FB，同時借閱2本實體書，即可參加抽獎，贏取更多好禮！ \n另，寒假借書期間亦有特別安排，借閱期限延長至明年2/27（五），開放與閉館時間調整詳見公告，還書可使用還書箱。無論紙本或電子書，讓閱讀伴隨新年好運，快來圖書館感受書香，參加活動拿好禮吧！ \nThe Library is launching the “New Year Lucky Draw: Good Fortune Comes Your Way” campaign from December 23\, 2024\, to January 10\, 2025\, offering chances to win prizes by borrowing Blind Boxes or eBooks! \nHow to Participate \n📦 Blind Box Borrowing\nBorrow a Blind Box and instantly draw a “Good Luck Card” at the counter. The card determines your special “Good Luck Gift”! \n📚 eBook Lucky Draw\nScan the activity QR Code\, borrow 5 eBooks from the designated platform\, and get a “Good Luck eCard” to redeem small gifts. \n📌 Additional Info: \n\nUnlimited Participation: Participate as many times as you like!\nLimited Prizes: Gifts are available while supplies last\, so act quickly!\n\nSpecial Christmas Event 🎄 \nFrom Monday\, December 23\, to Friday\, December 27\, celebrate the holidays by: \n\nTaking a photo of the library’s festive decorations and sharing it on IG/FB.\nBorrowing 2 physical books.\nComplete both steps to enter the Christmas Lucky Draw and win more prizes!\n\nExtended Winter Break Borrowing Period 📖 \n\nBorrowed items can be kept until Friday\, February 27\, 2025.\nRefer to library announcements for adjusted opening and closing hours during the holiday period.\nUse the Book Return Box for returns when the library is closed.\n\nWhether you prefer physical or digital books\, let reading bring joy and luck into the new year. Visit the library\, immerse yourself in the world of books\, and join the fun activities to win exciting rewards!
URL:https://events.mcu.edu.tw/event/%e5%9c%96%e6%9b%b8%e9%a4%a8-library%ef%bd%9c%e5%80%9f%e9%96%b1%e7%9b%b2%e7%9b%92%e8%88%87%e9%9b%bb%e5%ad%90%e6%9b%b8-%e6%8a%bd%e5%a5%bd%e7%a6%ae%e8%bf%8e%e6%96%b0%e5%b9%b4-lucky-draw-with-blind-boxes/
LOCATION:圖書館
CATEGORIES:圖書館
ATTACH;FMTTYPE=image/jpeg:https://events.mcu.edu.tw/wp-content/uploads/2024/12/1219期圖書館電子報配圖.jpg
END:VEVENT
END:VCALENDAR