BEGIN:VCALENDAR
VERSION:2.0
PRODID:-//Events Calendar - ECPv6.8.1//NONSGML v1.0//EN
CALSCALE:GREGORIAN
METHOD:PUBLISH
X-WR-CALNAME:Events Calendar
X-ORIGINAL-URL:https://events.mcu.edu.tw
X-WR-CALDESC:Events for Events Calendar
REFRESH-INTERVAL;VALUE=DURATION:PT1H
X-Robots-Tag:noindex
X-PUBLISHED-TTL:PT1H
BEGIN:VTIMEZONE
TZID:Asia/Taipei
BEGIN:STANDARD
TZOFFSETFROM:+0800
TZOFFSETTO:+0800
TZNAME:CST
DTSTART:20240101T000000
END:STANDARD
END:VTIMEZONE
BEGIN:VEVENT
DTSTART;TZID=Asia/Taipei:20240318T080000
DTEND;TZID=Asia/Taipei:20240419T170000
DTSTAMP:20260425T074507
CREATED:20240318T005850Z
LAST-MODIFIED:20240412T085606Z
UID:10000083-1710748800-1713546000@events.mcu.edu.tw
SUMMARY:產創中心 Product Innovation Center｜創新創意設計賽即起收件 Innovative Creative Design Contest starts accepting submissions from now on
DESCRIPTION:銘傳大學產品創新中心提供給全校喜歡設計的學生一個盡情發揮創意的舞台，「2024創新創意設計比賽」點亮設計之星，挑戰新之巔！報名時間即日起至4/19(五)17：00截止，凡具銘傳大學正式學籍及研究部的學生皆可報名參加。 \n類別分為銘傳意象平面設計類、產品主題類、年節禮盒包裝類、創意產品設計或自創梗句類四個創作主題，每人投稿主題、件數不限，趕快發揮創意拿起畫筆參加比賽吧！得獎的作品也會有豐富的獎品，首獎可獲得iPhone15乙台、獎狀乙只，貳獎NT$5\,000、獎狀乙只，參獎兩名NT$3\,000、獎狀乙只，除此之外還有優秀獎、非設計學院學生參賽特別鼓勵獎以及人氣獎三種獎項！這個難得的機會可不容錯過，帶上優秀的作品，勇奪首獎！ \nMing Chuan University’s Product Innovation Center provides a platform for all design enthusiasts across the campus to unleash their creativity in the “2024 Innovative Creative Design Contest”\, illuminating the stars of design and challenging new heights! Registration is open from now until 17:00 on April 19 (Friday)\, and all officially enrolled students and research department members of Ming Chuan University are eligible to participate. \nThe competition categories include Ming Chuan Image Graphic Design\, Product Theme Design\, Holiday Gift Box Packaging\, and Creative Product Design or Original Phrase Creation. There is no limit to the number of entries per person\, so hurry up and unleash your creativity with your brush or pen! Winning works will also receive exciting prizes\, including an iPhone15 and a certificate for the first prize winner\, NT$5\,000 and a certificate for the second prize winner\, NT$3\,000 and a certificate for two honorable mentions\, as well as Outstanding Award\, Special Encouragement Award for Non-Design College Students\, and Popular Choice Award. Don’t miss this rare opportunity to showcase your excellent work and win the top prize! \n詳情請參閱QR code For details\, please check with the QR code：
URL:https://events.mcu.edu.tw/event/%e7%94%a2%e5%89%b5%e4%b8%ad%e5%bf%83%ef%bd%9c%e5%89%b5%e6%96%b0%e5%89%b5%e6%84%8f%e8%a8%ad%e8%a8%88%e8%b3%bd%e5%8d%b3%e8%b5%b7%e6%94%b6%e4%bb%b6-product-innovation-center%ef%bd%9cinnovative-creative-d/
LOCATION:桃園校區Taoyuan Campus\, 龜山區德明路5號\, 桃園市\, Taiwan
CATEGORIES:產品創新中心
ATTACH;FMTTYPE=image/jpeg:https://events.mcu.edu.tw/wp-content/uploads/2024/03/1186產創中心一週新聞電子報配圖-.jpg
END:VEVENT
BEGIN:VEVENT
DTSTART;TZID=Asia/Taipei:20240318T080000
DTEND;TZID=Asia/Taipei:20240430T120000
DTSTAMP:20260425T074507
CREATED:20240318T012254Z
LAST-MODIFIED:20240412T085643Z
UID:10000084-1710748800-1714478400@events.mcu.edu.tw
SUMMARY:軍訓室 Military Training Office｜交通安全有獎徵答即起開跑 Traffic Safety Quiz Contest starts now!
DESCRIPTION:為宣導交通安全，軍訓室特地舉行了有獎徵答活動來增進大家對交通法規的熟悉度，期望透過這項活動能建立起各位同學對交通安全的概念，並減少意外發生的機率。本次有獎徵答自即日起至 4 /30(二)中午止，作答次數不受限制，完成後即有機會獲得頭獎現金NT3\,000、ASUS ZenPower 10050mAh行動電源5台、NT$500現金6名、NT$200現金20名，各式豐富獎品等人抱回家，歡迎踴躍參與！另，軍訓室目前備有愛心傘、安全帽、吹風機等物品免費提供同學借用，歡迎有需要者前往詢問。 \n前陣子台灣被CNN評論為行人交通地獄，帶動了大家對於交通環境的關注度，在2023年有三千多人死於交通事故，平均每天就會有8人死於車禍，在這樣怵目驚心的數據前不禁會想到，我們到底該如何改善這個問題？冰凍三尺非一日之寒，或許透過立法改善能短時間看到成效，但真正該做的還是遵照法規並建立正確的用路觀念，才可以提升整體的交通環境。 \nTo promote traffic safety awareness\, the Military Training Office is holding a quiz contest with prizes to enhance everyone’s familiarity with traffic regulations. Through this activity\, we hope to instill a sense of traffic safety among students and reduce the chances of accidents. The quiz contest runs from now until April 30 at noon. There is no limit to the number of attempts\, and participants have the chance to win the following prizes: \nFirst Prize: NT$3\,000 cash\, 5 ASUS ZenPower 10050mAh power banks\, 6 prizes of NT$500 cash\, and 20 prizes of NT$200 cash\, along with various other attractive rewards. \nWe encourage everyone to participate actively! Additionally\, the Military Training Office currently provides items such as umbrellas\, helmets\, and hairdryers for free borrowing. Please feel free to inquire if needed. \nRecently\, Taiwan was labeled by CNN as a pedestrian traffic hell\, sparking increased attention to the traffic environment. In 2023\, over three thousand people died in traffic accidents\, averaging eight deaths per day. Faced with such alarming statistics\, we must consider how to address this issue. While legislation may provide short-term solutions\, the key lies in adhering to traffic regulations and fostering proper road use habits to improve overall traffic conditions. \n填答網址 Quiz Link：https://forms.gle/BQM8awGejXo1Hir18
URL:https://events.mcu.edu.tw/event/%e8%bb%8d%e8%a8%93%e5%ae%a4%ef%bd%9c%e4%ba%a4%e9%80%9a%e5%ae%89%e5%85%a8%e6%9c%89%e7%8d%8e%e5%be%b5%e7%ad%94%e5%8d%b3%e8%b5%b7%e9%96%8b%e8%b7%91-military-training-office-traffic-safety-quiz-contest/
LOCATION:線上 Online
CATEGORIES:軍訓室
ATTACH;FMTTYPE=image/jpeg:https://events.mcu.edu.tw/wp-content/uploads/2024/03/112-2交通安全配圖-800x445-1.jpg
END:VEVENT
BEGIN:VEVENT
DTSTART;TZID=Asia/Taipei:20240319T080000
DTEND;TZID=Asia/Taipei:20240514T233000
DTSTAMP:20260425T074507
CREATED:20240318T053143Z
LAST-MODIFIED:20240318T053407Z
UID:10000087-1710835200-1715729400@events.mcu.edu.tw
SUMMARY:管理學院2024【創業競賽】最高獎金1萬元 SOM 2024 Entrepreneurship Competition
DESCRIPTION:管理學院預定於本學期舉辦「2024管理學院創業競賽」，希請教師鼓勵學生組成創業隊伍，透過競賽學習，培養解決問題的能力。 \n歡迎學生4-6人組隊報名參加，可跨系、跨學制組隊，1隊1名指導教授，詳細活動辦法請參考附件檔案。 \n\n\n5月13日(一) 23:59上網報名截止，報名網頁為：https://forms.gle/ocJjGVCANUBsaUvVA報名表中上傳授權書簽名檔&企劃書電子檔案\n5月22日(三) 17:00公告初賽結果\n5月31日(五) 11:30基河校區六樓J616會議廳舉辦總決賽，最高獎金1萬元\n\n\n賽實體活動，若因不可抗力之特殊原因如新型冠狀肺炎疫情擴大無法執行時或有未盡事宜，主辦單位保留取消、終止、修改或暫停等變更活動內容細節之權利。相關變更資訊將公告於競賽網站及粉絲專頁，不另行通知。 \n敬請學生踴躍參加，給自己一個開起創業的契機，想像一個更美好的未來。 \n2024 Entrepreneurship Competition \nAward Prizes\nFirst Place: 10\,000NTD and a certificate\nSecond Place: 8\,000NTD and a certificate\nThird Place: 5\,000NTD and a certificate\nHonorable Mention: A certificate \nEligibility\n1. Students of MCU (including graduate programs) who are interested in starting a business can register to participate with no limit as to department or year-level.\n2. Each team must comprise 4-6 students\, with no limit as to students’ departments or degree type.\n3. Each team must have an advisor\, which is limited to one MCU faculty member. \n\n\n05.13.2024 (Mon) 23:59 Deadline for online registration: https://forms.gle/ocJjGVCANUBsaUvVA\n05.13.2024 (Mon) 1. Online Submit a printed copy of the authorization letter for the competition (Appendix 1) . 2. Online Submit the business project proposal.\n05.22.2024 (Wed) 17:00 Preliminary competition results will be announced in News on the School of Management webpage.\n05.31.2024 (Fri) 11:30 Final Competition will be held in J616 Conference Room at Jihe Campus\n\n\nThe organizer reserves the right to cancel\, terminate\, revise or suspend the event if the event cannot be carried out due to special reasons of force majeure\, such as a surge in the COVID-19 epidemic\, or other unexpected matters. Relevant changes will be announced on the competition website and Facebook page without separate notice. \nWelcome to Participate. \n主辦單位聯絡人 Contact Point：\n管理學院陳雅玲秘書 Secretary of School of Management Ms Chen\, Ya-Ling\n電話 Phone：02-28824564 ext. 8322\nEmail：yalchen@mail.mcu.edu.tw (link sends e-mail)
URL:https://events.mcu.edu.tw/event/%e7%ae%a1%e7%90%86%e5%ad%b8%e9%99%a22024%e3%80%90%e5%89%b5%e6%a5%ad%e7%ab%b6%e8%b3%bd%e3%80%91%e6%9c%80%e9%ab%98%e7%8d%8e%e9%87%911%e8%90%ac%e5%85%83-som-2024-entrepreneurship-competition/
LOCATION:基河校區Jihe Campus\, 基河路130號4樓\, 台北市\, Taiwan
CATEGORIES:管理學院
ATTACH;FMTTYPE=image/png:https://events.mcu.edu.tw/wp-content/uploads/2024/03/2024管理學院_0531.png
ORGANIZER;CN="%E7%AE%A1%E7%90%86%E5%AD%B8%E9%99%A2":MAILTO:yalchen@mail.mcu.edu.tw
END:VEVENT
END:VCALENDAR