BEGIN:VCALENDAR
VERSION:2.0
PRODID:-//Events Calendar - ECPv6.8.1//NONSGML v1.0//EN
CALSCALE:GREGORIAN
METHOD:PUBLISH
X-WR-CALNAME:Events Calendar
X-ORIGINAL-URL:https://events.mcu.edu.tw
X-WR-CALDESC:Events for Events Calendar
REFRESH-INTERVAL;VALUE=DURATION:PT1H
X-Robots-Tag:noindex
X-PUBLISHED-TTL:PT1H
BEGIN:VTIMEZONE
TZID:Asia/Taipei
BEGIN:STANDARD
TZOFFSETFROM:+0800
TZOFFSETTO:+0800
TZNAME:CST
DTSTART:20240101T000000
END:STANDARD
END:VTIMEZONE
BEGIN:VEVENT
DTSTART;TZID=Asia/Taipei:20250828T080000
DTEND;TZID=Asia/Taipei:20250830T200000
DTSTAMP:20260422T011401
CREATED:20250620T082352Z
LAST-MODIFIED:20250620T082352Z
UID:10001325-1756368000-1756584000@events.mcu.edu.tw
SUMMARY:SOOBI社｜114（上）未來心生活營 2025 (1st Semester) Future Heart & Life Camp
DESCRIPTION:SOOBI社以資訊教育為核心，相信資訊教育不只是學會使用工具，更是培養價值觀與思辨能力的過程。 \n我們將舉辦三日兒童體驗營，結合AI教學與生命教育，鼓勵社團成員將所學落實於行動，陪伴孩子探索科技、思考未來，並從中種下理解與關懷的種子。 \nRooted in information education\, SOOBI Club believes that learning about technology is not just about mastering tools\, but also about cultivating values and critical thinking skills. \nWe are organizing a three-day children’s experiential camp that integrates AI education with life education. The goal is to encourage club members to put their knowledge into action\, accompany children in exploring technology\, reflecting on the future\, and planting seeds of understanding and compassion. \n活動日期 Date & Time：8/28 08:00~20:00 \n地點 Venue：龜山真理堂 Guishan Truth Lutheran Church
URL:https://events.mcu.edu.tw/event/soobi%e7%a4%be%ef%bd%9c114%ef%bc%88%e4%b8%8a%ef%bc%89%e6%9c%aa%e4%be%86%e5%bf%83%e7%94%9f%e6%b4%bb%e7%87%9f-2025-1st-semester-future-heart-life-camp/
LOCATION:龜山真理堂\, 龜山區長峰路78號\, 桃園市\, Taiwan
CATEGORIES:SOOBI社,帶動中小學,生命教育,社區服務
ATTACH;FMTTYPE=image/png:https://events.mcu.edu.tw/wp-content/uploads/2025/06/242666629_110827861352646_7487604618073964771_n.png
END:VEVENT
BEGIN:VEVENT
DTSTART;TZID=Asia/Taipei:20250804T080000
DTEND;TZID=Asia/Taipei:20250806T170000
DTSTAMP:20260422T011401
CREATED:20250616T061635Z
LAST-MODIFIED:20250616T061635Z
UID:10001314-1754294400-1754499600@events.mcu.edu.tw
SUMMARY:弘仁社 Hung Ran Philanthropy Club｜精靈寶可夢之友情可貴 The Precious Value of Friendship in Pokémon
DESCRIPTION:弘仁社的暑假帶動要來啦~ \n長達兩個月的暑假是不是讓你倍感無聊呢？ \n那就來跟我們一起參加活動吧！ \n跟著我們一起到八堵國小帶著小朋友一起闖關一起玩吧！ \nHung Ran’s summer outreach program is here again~Feeling bored during the long two-month summer break?Then come join us for an exciting activity! \nWe’ll be heading to Badu Elementary School to lead fun games and activities with the kids—let’s play and grow together! \n活動資訊 Event Details \n🔹活動地點 Venue：八堵國小 Badu Elementary School（205基隆市暖暖區源遠路27號 No. 27\, Ln. 277\, Yuanyuan Rd.\, Nuannuan Dist.\, Keelung City）\n🔹活動時間 Date：08/04（一 Mon）～08/06（三 Wed）\n（活動三天會住在八堵國小 Participants will stay overnight at Badu Elementary School for all three days）\n🔹活動籌備 Preparation Period：07/28（一 Mon）～08/03（日 Sun）\n上午10點～下午5點 10:00~17:00 \n想想去年我們在之前帶動中共患難的朋友到現在還是會一起聊天， \n你們也想結交志同道合的夥伴並牽起深厚的友誼嗎？ \n來報名暑假帶動就對了！ \n而且還可以獲得16小時的服務時數喔！ \n畢業門檻一次搞定，是不是很棒呢？快來參加吧！ \nThink back to last year—we’re still in touch with the friends we bonded with during the program.Would you like to make like-minded friends and build lasting friendships too? \nThen signing up for this summer outreach is the perfect choice! \nYou’ll even receive 16 hours of service credit\, helping you meet your graduation requirement all at once! Isn’t that great?Don’t miss out—come join us! \n報名 To apply：https://docs.google.com/forms/d/e/1FAIpQLScn_6srvQ-1YTClgf2u-Bbf2z65JG8y6WKHGPKdFZh_kunzww/viewform?usp=header
URL:https://events.mcu.edu.tw/event/%e5%bc%98%e4%bb%81%e7%a4%be-hung-ran-philanthropy-club%ef%bd%9c%e7%b2%be%e9%9d%88%e5%af%b6%e5%8f%af%e5%a4%a2%e4%b9%8b%e5%8f%8b%e6%83%85%e5%8f%af%e8%b2%b4-the-precious-value-of-friendship-in-pokemon/
LOCATION:八堵國小\, 暖暖區源遠路27號\, 基隆市\, Taiwan
CATEGORIES:帶動中小學,弘仁社
ATTACH;FMTTYPE=image/png:https://events.mcu.edu.tw/wp-content/uploads/2025/06/17.png
END:VEVENT
BEGIN:VEVENT
DTSTART;TZID=Asia/Taipei:20250704T090000
DTEND;TZID=Asia/Taipei:20250704T130000
DTSTAMP:20260422T011401
CREATED:20250620T034705Z
LAST-MODIFIED:20250620T034705Z
UID:10001326-1751619600-1751634000@events.mcu.edu.tw
SUMMARY:青年領袖教育學社 Youth Leadership Education Club｜反毒桌遊 暑期服務隊 Anti-Drug Board Game Summer Service Team
DESCRIPTION:透過桌遊與禪定，引導學童認識毒品危害、培養拒毒態度與自我管理能力。 \nUsing board games and mindfulness activities to help children understand the dangers of drugs\, develop anti-drug attitudes\, and strengthen self-management skills. \n活動日期 Date & Time：7/4 09:00~13:00 \n地點 Venue：台北市私立義光育幼院 Yi Kuang Orphanage\, Taipei City
URL:https://events.mcu.edu.tw/event/%e9%9d%92%e5%b9%b4%e9%a0%98%e8%a2%96%e6%95%99%e8%82%b2%e5%ad%b8%e7%a4%be-youth-leadership-education-club%ef%bd%9c%e5%8f%8d%e6%af%92%e6%a1%8c%e9%81%8a-%e6%9a%91%e6%9c%9f%e6%9c%8d%e5%8b%99%e9%9a%8a-anti/
LOCATION:台北市私立義光育幼院\, 萬華區和平西路三段382巷11弄17號\, 台北市\, Taiwan
CATEGORIES:帶動中小學,青年領袖教育學社
ATTACH;FMTTYPE=image/png:https://events.mcu.edu.tw/wp-content/uploads/2025/06/4-1.png
END:VEVENT
BEGIN:VEVENT
DTSTART;TZID=Asia/Taipei:20240701T100000
DTEND;TZID=Asia/Taipei:20240711T170000
DTSTAMP:20260422T011401
CREATED:20240510T014315Z
LAST-MODIFIED:20240510T014315Z
UID:10000228-1719828000-1720717200@events.mcu.edu.tw
SUMMARY:弘仁社 Hung Ran Philanthropy Club｜暑假帶動中小學招募服務員 Recruiting Service Ambassadors to Lead Elementary and Middle School Activities during Summer Vacation
DESCRIPTION:是否還在思考暑假要做什麼？或者還在想服務時數在畢業前要怎麼達標？快來參加弘仁社暑假(7/9-11)前進七堵國小，帶動中小學服務，以上問題可以一次解決哦！歡迎有興趣的同學們趕緊至弘仁社IG粉專報名。 \n弘仁社的服務活動分為「籌備」(7/1-8)及「正式活動」(7/9-11)兩個部分，完整參與可獲得總計16小時的校外服務時數！「正式活動」(7/9-11)可以跟可愛活潑的小孩子們，一起玩遊戲，一起解鎖新技能，除此之外，還可以打開舒適圈，認識更多志同道合的朋友們！留下美麗的大學回憶！欲報名者可直接點選連結表單，活動詳細內容請至弘仁社IG粉專【hr_mcu】查詢。 \nAre you still thinking about what to do this summer? Or perhaps you’re wondering how to fulfill your service hours before graduation? Join the Hung Ran Philanthropy Club this summer (7/9-11) and head to ChiDu Elementary School. You can solve both of these questions at once! Interested students are welcome to sign up on Hung Ran Philanthropy Club IG page. \nThe Hung Ran Philanthropy Club service activities are divided into two parts: “Preparation” (7/1-8) and “Official Activities” (7/9-11). By fully participating\, you can earn a total of 16 hours of extracurricular service hours! During the “Official Activities” (7/9-11)\, you can play games with lively and adorable children\, learn new skills together\, and expand your comfort zone to meet more like-minded friends. Leave behind beautiful memories of university! To register\, simply click on the link to the form. For more details\, please visit Hung Ran Philanthropy Club IG page [hr_mcu].
URL:https://events.mcu.edu.tw/event/%e5%bc%98%e4%bb%81%e7%a4%be-hung-ran-philanthropy-club%ef%bd%9c%e6%9a%91%e5%81%87%e5%b8%b6%e5%8b%95%e4%b8%ad%e5%b0%8f%e5%ad%b8%e6%8b%9b%e5%8b%9f%e6%9c%8d%e5%8b%99%e5%93%a1-recruiting-service-ambassado/
LOCATION:B604
CATEGORIES:弘仁社,社團多元化、帶動中小學
ATTACH;FMTTYPE=image/jpeg:https://events.mcu.edu.tw/wp-content/uploads/2024/05/1196弘仁社服務員聞電子報配圖-.jpg
END:VEVENT
END:VCALENDAR