BEGIN:VCALENDAR
VERSION:2.0
PRODID:-//Events Calendar - ECPv6.8.1//NONSGML v1.0//EN
CALSCALE:GREGORIAN
METHOD:PUBLISH
X-WR-CALNAME:Events Calendar
X-ORIGINAL-URL:https://events.mcu.edu.tw
X-WR-CALDESC:Events for Events Calendar
REFRESH-INTERVAL;VALUE=DURATION:PT1H
X-Robots-Tag:noindex
X-PUBLISHED-TTL:PT1H
BEGIN:VTIMEZONE
TZID:Asia/Taipei
BEGIN:STANDARD
TZOFFSETFROM:+0800
TZOFFSETTO:+0800
TZNAME:CST
DTSTART:20250101T000000
END:STANDARD
END:VTIMEZONE
BEGIN:VEVENT
DTSTART;TZID=Asia/Taipei:20250422T090000
DTEND;TZID=Asia/Taipei:20250502T170000
DTSTAMP:20260425T074615
CREATED:20250422T020620Z
LAST-MODIFIED:20250422T020620Z
UID:10001033-1745312400-1746205200@events.mcu.edu.tw
SUMMARY:產推處、體育室 Industry-Academia Collaboration & University Extension Division & Office of Physical Education｜2025日本茨城縣笠間市 體育教育高爾夫球修習營暨笠間高中校際參訪交流 Kasama City\, Ibaraki Prefecture\, Japan – Sports Education Golf Training Camp and Inter-School Exchange with Kasama High School
DESCRIPTION:為推動學生國際移動力及拓展日本體育教學資源共享，由銘傳大學產學推廣處與體育室協作規劃，「2025日本茨城縣笠間市 體育教育高爾夫球修習營暨笠間高中校際參訪交流」2025年7/14-19日啟程前往笠間市，進行6天5夜的高爾夫球研修與高中校際參訪交流。今年活動特別邀請鄰近銘傳的台北市立陽明高中、泰北國際學校合辦，大手牽小手建立策略聯盟的合作機制。 \n體育室表示，本次課程除可體驗日本高爾夫球場，實際揮桿的高爾夫球樂趣，還能與陽明及泰北兩所高中生，一同與笠間市高中生進行校際參訪。活動僅招募20名學員，請有意參加的銘傳同學，請點擊「報名表單」立即報名。 \nTo enhance students’ global mobility and promote resource sharing in Japanese sports education\, Industry-Academia Collaboration & University Extension Division\, in collaboration with Office of Physical Education\, will organize the “2025 Kasama City\, Ibaraki Prefecture\, Japan – Sports Education Golf Training Camp and Inter-School Exchange with Kasama High School”. The program will take place from July 14 to 19\, and will feature a 6-day\, 5-night golf training camp along with inter-school exchange activities. \nThis year’s event will also welcome co-organizing schools near MCU\, including Yangming High School and Thai North International School in Taipei\, establishing a collaborative alliance through a “hand-in-hand” strategic partnership. \nAccording to Office of Physical Education\, in addition to experiencing Japanese golf courses and enjoying the hands-on experience of golfing\, participants will engage in inter-school exchanges with students from Yangming High School\, Thai North International School and Kasama City high schools. \nOnly 20 students will be accepted for this exclusive opportunity. Interested MCU students are encouraged to click on the registration form link and sign up as soon as possible.
URL:https://events.mcu.edu.tw/event/%e7%94%a2%e6%8e%a8%e8%99%95%e3%80%81%e9%ab%94%e8%82%b2%e5%ae%a4-industry-academia-collaboration-university-extension-division-office-of-physical-education%ef%bd%9c2025%e6%97%a5%e6%9c%ac%e8%8c%a8/
ATTACH;FMTTYPE=image/jpeg:https://events.mcu.edu.tw/wp-content/uploads/2025/04/1232期高夫球電子報配圖.jpg
END:VEVENT
END:VCALENDAR