BEGIN:VCALENDAR
VERSION:2.0
PRODID:-//Events Calendar - ECPv6.8.1//NONSGML v1.0//EN
CALSCALE:GREGORIAN
METHOD:PUBLISH
X-WR-CALNAME:Events Calendar
X-ORIGINAL-URL:https://events.mcu.edu.tw
X-WR-CALDESC:Events for Events Calendar
REFRESH-INTERVAL;VALUE=DURATION:PT1H
X-Robots-Tag:noindex
X-PUBLISHED-TTL:PT1H
BEGIN:VTIMEZONE
TZID:Asia/Taipei
BEGIN:STANDARD
TZOFFSETFROM:+0800
TZOFFSETTO:+0800
TZNAME:CST
DTSTART:20250101T000000
END:STANDARD
END:VTIMEZONE
BEGIN:VEVENT
DTSTART;TZID=Asia/Taipei:20250215T130000
DTEND;TZID=Asia/Taipei:20250215T170000
DTSTAMP:20260425T091306
CREATED:20250121T032400Z
LAST-MODIFIED:20250121T032400Z
UID:10000869-1739624400-1739638800@events.mcu.edu.tw
SUMMARY:逗留陽明 Stay at Yangmingshan｜與藍寶石泉相遇 Encounter with the Sapphire Spring
DESCRIPTION:｜森林咖啡香，逗留百年木造老屋午茶 Afternoon Tea in a Historic Wooden Cottage Surrounded by Forest Coffee Aroma｜ \n豆留森林是台北市文化局規劃的「老房子文化運動2.0」的其中一棟建築， \n由1937年『農林廳林業試驗所轄管廳舍』的歷史建築改建而成， \n坐在陳年木屋中，品嚐著溫潤的咖啡香，享受陽明山獨有的午後時光～ \nDouLiu Forest is part of the Taipei City Department of Cultural Affairs’ “Old House Cultural Movement 2.0”. \nOriginally built in 1937 as the “Forestry Experiment Station Office” under the Department of Agriculture and Forestry\, it is now a historic site. \nSavor the rich aroma of coffee in a century-old wooden house and enjoy the unique afternoon ambiance of Yangmingshan. \n \n \n｜密探台北好水，天母古道需申請進入的秘境 – 藍寶石泉 Discover the Secret of Taipei’s Best Water: The Sapphire Spring\, Hidden on Tianmu Old Trail｜ \n珍藏景點，以往一年只有開放3小時供人參觀 \nThis exclusive destination\, located in a protected water source area\, was previously only open for 3 hours annually. \n \n位處水源保護區，然而在2020年首次開放團體預約，公開台北好水的秘密 \n本體驗將安排自來水處專業導覽老師帶隊！ \n從歷史、人文的角度，一起認識台北的活古蹟，從「飲水思源頭」了解我們喝的天然好水從何而來 \nIn 2020\, it began accepting group reservations\, unveiling the secret of Taipei’s pristine water. \nGuided by professional docents from the Taipei Water Department\, this experience explores Taipei’s “living relics” through historical and cultural perspectives. \nTrace the journey of our natural drinking water to its pure origins and understand the importance of safeguarding this precious resource. \n\n（愛玩攝影團隊拍攝 Photography by the Iplay team） \n｜遇見黃金溪谷的故事 The Story of Golden Valley｜ \n走到橋側面將會看到拱形的橋體 已被日積月累的磺氣染得金黃 \n配上同樣被染成金黃色的溪流岩石，以及兩旁茂密的山谷植被 \n溪流的水看似清澈，但不能飲用的喔！ \n至於原因為何，就讓我們一起來聽故事吧～ \nBy the arched bridge\, you’ll find the structure stained golden by sulfur over time. \nThe golden hue of the stream’s rocks and the lush greenery surrounding the valley create a breathtaking view. \nWhile the stream appears crystal clear\, its water is not potable! \nLearn the story behind this as we journey together. \n \n在進入即將對外開放的「藍寶石泉」之前，會先經過一條優美的弧形拱橋「草山水管橋」 \n外層為混凝土材質緊緊包覆著水管，是為了避免水管受到火山硫磺的侵蝕，更是為了保護純淨的湧泉受污染 \n再次開放水源地，讓我們有機會用正確的方式關心日常生活議題，也可以更加認識台灣這片土地 \nBefore reaching the soon-to-be-opened Sapphire Spring\, we will cross the scenic Grass Mountain Water Pipe Bridge. \nThis reinforced concrete bridge encases the water pipes\, protecting them from volcanic sulfur erosion while safeguarding the pristine spring water from contamination. \nWith the re-opening of this water source\, we can reconnect with environmental issues through meaningful experiences and deepen our understanding of Taiwan’s land. \n \n（愛玩攝影團隊拍攝 Photography by the Iplay team） \n平日內大門深鎖，只為保存0污染的自然湧泉！ \n藍寶石泉秘境有著「亞洲第一湧泉」美稱，因泉水帶有淡淡藍色，水質甘醇的程度更可以直接生飲呢～ \nThe gates remain locked on regular days to preserve the zero-contamination natural spring. \nNicknamed “Asia’s No. 1 Spring”\, Sapphire Spring is renowned for its subtle blue hue and pure\, drinkable water quality. \n｜全台規模最大，白房子與煙囪的故事 – 美軍宿舍群 The Largest U.S. Military Housing Complex and Its Stories｜ \n你知道為什麼文化大學公車站稱「山仔后」嗎？ \n美軍宿舍群位於文化大學附近，佔地四萬餘坪 \n這些宿舍的興建是源於1950年韓戰爆發，美國成立美軍顧問團並派遣第七艦隊協防台海 \n1952年起，以美援資金徵收農地興建西式住宅，供美國軍眷使用 \n可愛的白色建築、有著難得一見的煙囪，聽說有些屋內還有著暖爐呢！ \n跟我們走一回，你會發現這些故事都跟美軍宿舍與他的歷史很有關係喔～ \nEver wonder why the bus stop near Chinese Culture University is called “Shan-Zai-Hou”? \nLocated nearby\, the U.S. Military Housing Complex spans over 40\,000 square meters. \nConstructed in the 1950s during the Korean War\, these Western-style homes were built with U.S. aid funds to house American military families. \nThe charming white buildings\, complete with rare chimneys and even some fireplaces\, are brimming with stories linked to this historical period. \nJoin us to explore the rich history and uncover the fascinating connections of the U.S. military housing complex. \n \n｜報名體驗 Experience Details｜ \n活動日期 Date：2/15（六 Saturday） \n歡迎協會、公家單位、企業，安排陽明山深度體驗，線上小幫手 Associations\, public offices and corporations are welcome to book this in-depth Yangmingshan experience >>https://goo.gl/XkeAci \n【體驗費用 Fee】 \n單人體驗票 Individual Ticket：NT$1\,399／人 person \n雙人散步票 Double Ticket：NT$1\,280／人 person（好友、家人一起相約體驗不一樣的生活～ Invite a friend or family member for a unique outing!） \n報名 To apply：https://www.accupass.com/eflow/ticket/2412260259411424818962?utm_source=EventPage&utm_medium=AdCard&utm_campaign=accu_AdCard_2501080829541909330122 \n【報名須知 Notes】 \n\n本活動限6歲以上兒童或成人報名。費用為均一價，不分平假日及兒童成人。\n活動報名成功後，愛玩團隊將於活動前3天寄送行前通知至信箱。\n活動當日請準時集合，如旅客因個人因素脫隊或集合不到，恕無法退費。\n如颱風、地震、豪雨及路況等不可抗拒之因素，本公司保有更改變動行程之權利，如延期或取消。\n如因天候或活動場地等因素有變動，會提前以電話及訊息通知。\n活動報到當天，請務必攜帶國民身分證以便核對身份，逾時不到者，視同放棄恕無法退費。\n若有特殊疾病者，或無法步行長時間1-2小時者，請於備註欄註明身心狀況，我們將依情況評估是否適合此活動。懇請協助填寫實情，若有隱瞞，請自行負擔潛在風險。\n活動當天將安排服務人員全程服務，如有活動上疑問，歡迎加入LINE–>https://goo.gl/XkeAci\n\n\nThis activity is open to individuals aged 6 and above. The fee is fixed regardless of age or weekday/weekend.\nUpon successful registration\, a confirmation email will be sent 3 days prior to the event.\nPlease arrive on time. Late arrivals or missed check-ins due to personal reasons will not be eligible for refunds.\nThe company reserves the right to adjust or cancel the itinerary due to force majeure factors such as typhoons\, earthquakes\, heavy rain\, or road conditions. Changes will be communicated via phone or message.\nOn the day of the event\, please bring your national ID for identity verification. Late arrivals will be considered forfeitures\, and no refunds will be issued.\nParticipants with special medical conditions or physical limitations preventing them from walking 1-2 hours must disclose their situation in the notes section during registration. The suitability of participation will be evaluated. Please provide accurate information; undisclosed conditions are at your own risk.\nStaff will provide full assistance during the event. For questions\, contact us via LINE.\n\n※如無法同意以上事項，請勿報名參加。 If you do not agree to the above terms\, please do not register. \n｜聯絡我們 Contact Us｜ \n聯絡電話 Phone：02-8773-6060 愛玩團隊 專案組 Iplay Team （週一至週五 Mon-Fri 09:00～17:00） \n線上客服 Line：https://goo.gl/XkeAci \n承辦單位 Organizer：愛玩團隊 Iplay Team https://www.iplaytrip.com \n更了解我們 Learn more about us：愛玩Iplay
URL:https://events.mcu.edu.tw/event/%e9%80%97%e7%95%99%e9%99%bd%e6%98%8e-stay-at-yangmingshan%ef%bd%9c%e8%88%87%e8%97%8d%e5%af%b6%e7%9f%b3%e6%b3%89%e7%9b%b8%e9%81%87-encounter-with-the-sapphire-spring/
LOCATION:陽明天主堂\, 士林區華岡路2號\, 台北市\, Taiwan
CATEGORIES:ACCUPASS,愛玩團隊
ATTACH;FMTTYPE=image/png:https://events.mcu.edu.tw/wp-content/uploads/2025/01/7-1.png
END:VEVENT
END:VCALENDAR