BEGIN:VCALENDAR
VERSION:2.0
PRODID:-//Events Calendar - ECPv6.8.1//NONSGML v1.0//EN
CALSCALE:GREGORIAN
METHOD:PUBLISH
X-WR-CALNAME:Events Calendar
X-ORIGINAL-URL:https://events.mcu.edu.tw
X-WR-CALDESC:Events for Events Calendar
REFRESH-INTERVAL;VALUE=DURATION:PT1H
X-Robots-Tag:noindex
X-PUBLISHED-TTL:PT1H
BEGIN:VTIMEZONE
TZID:Asia/Taipei
BEGIN:STANDARD
TZOFFSETFROM:+0800
TZOFFSETTO:+0800
TZNAME:CST
DTSTART:20250101T000000
END:STANDARD
END:VTIMEZONE
BEGIN:VEVENT
DTSTART;TZID=Asia/Taipei:20250429T183000
DTEND;TZID=Asia/Taipei:20250429T200000
DTSTAMP:20260425T044920
CREATED:20250429T021729Z
LAST-MODIFIED:20250429T021729Z
UID:10001049-1745951400-1745956800@events.mcu.edu.tw
SUMMARY:天文社 Taoyuan Astronomy Club｜黑洞與電影賞析 Black Holes and Movie Appreciation Night
DESCRIPTION:桃銘天文社於4/29（二）18:30~20:00在EE102教室舉辦「黑洞與電影賞析」，將帶領同學觀賞電影學習有趣的天文知識。 \n本次介紹的電影與黑洞、維度等主題有關，對天文有興趣的同學千萬不能錯過 ! \n活動當天可以帶晚餐到場享用，更多詳細資訊請洽天文社IG 【 taomcu_astronomy 】。 \nTaoyuan Astronomy Club will be hosting an event titled “Black Holes and Movie Appreciation” on Tuesday\, April 29\, from 18:30 to 20:00 in Room EE102. During the event\, students will watch a film and learn fascinating astronomical knowledge related to black holes and dimensions. \nIf you’re interested in astronomy\, you definitely won’t want to miss this event! \nFeel free to bring your dinner and enjoy it during the screening. \nFor more details\, please visit Astronomy Club’s Instagram page 【taomcu_astronomy】.
URL:https://events.mcu.edu.tw/event/%e5%a4%a9%e6%96%87%e7%a4%be-taoyuan-astronomy-club%ef%bd%9c%e9%bb%91%e6%b4%9e%e8%88%87%e9%9b%bb%e5%bd%b1%e8%b3%9e%e6%9e%90-black-holes-and-movie-appreciation-night/
LOCATION:桃園校區Taoyuan Campus\, 龜山區德明路5號\, 桃園市\, Taiwan
CATEGORIES:天文社
ATTACH;FMTTYPE=image/png:https://events.mcu.edu.tw/wp-content/uploads/2025/04/2-1.png
END:VEVENT
END:VCALENDAR