BEGIN:VCALENDAR
VERSION:2.0
PRODID:-//Events Calendar - ECPv6.8.1//NONSGML v1.0//EN
CALSCALE:GREGORIAN
METHOD:PUBLISH
X-ORIGINAL-URL:https://events.mcu.edu.tw
X-WR-CALDESC:Events for Events Calendar
REFRESH-INTERVAL;VALUE=DURATION:PT1H
X-Robots-Tag:noindex
X-PUBLISHED-TTL:PT1H
BEGIN:VTIMEZONE
TZID:Asia/Taipei
BEGIN:STANDARD
TZOFFSETFROM:+0800
TZOFFSETTO:+0800
TZNAME:CST
DTSTART:20250101T000000
END:STANDARD
END:VTIMEZONE
BEGIN:VEVENT
DTSTART;TZID=Asia/Taipei:20250322T193000
DTEND;TZID=Asia/Taipei:20250322T213000
DTSTAMP:20260421T001647
CREATED:20250313T071715Z
LAST-MODIFIED:20250313T071715Z
UID:10000954-1742671800-1742679000@events.mcu.edu.tw
SUMMARY:男性說笑 Mansjoking｜單口喜劇秀 Stand-up Comedy Show
DESCRIPTION:受夠被男人們的人生建議了嗎？ \n今晚，這群直男們不說教，只用幽默征服你的心。 \n由曹小歐與一群新生代喜劇演員，帶來日常趣事到荒誕笑點，巧妙融合當代社會觀察，挑戰幽默邊界，直擊你的心靈，讓你在笑聲中輕鬆享受一場爆笑盛宴。 \nTired of unsolicited life advice from men? \nTonight\, these guys won’t lecture you—they’ll just make you laugh! \nJoin Otis Tsao and a lineup of rising stand-up comedians as they turn everyday moments into hilarious punchlines. From absurd observations to sharp social commentary\, they’ll push the boundaries of humor and leave you laughing non-stop! \n男性說笑 Mansjoking \n日期 Date：2025.03.22（六 Sat）\n時間 Time：19:30-21:30\n地點 Venue：樂君亭 Ginting Comedy\n地址 Address：桃園市中壢區興平路56號 No. 56\, Xingping Rd.\, Zhongli Dist.\, Taoyuan City\n陣容 Lineup：曹小歐｜佳偉｜致葦｜傑森｜懿霽｜皓宇\n票價 Fee：NT$400 \n報名 To apply：https://www.accupass.com/eflow/ticket/2501041521321449579822?utm_source=EventPage&utm_medium=AdCard&utm_campaign=accu_AdCard_2502210751221291577855 \n貼心小提醒 Friendly Reminders \n演出歡迎拍照，不開放錄音錄影。 \n本演出自由入座，一人一票，憑票入場。 \nPhotos are allowed\, but recording and filming are not permitted. \nGeneral admission—one person\, one ticket\, entry by ticket only.
URL:https://events.mcu.edu.tw/event/%e7%94%b7%e6%80%a7%e8%aa%aa%e7%ac%91-mansjoking%ef%bd%9c%e5%96%ae%e5%8f%a3%e5%96%9c%e5%8a%87%e7%a7%80-stand-up-comedy-show/
LOCATION:樂君亭\, 中壢區興平路56號\, 桃園市\, Taiwan
CATEGORIES:ACCUPASS,樂君亭
ATTACH;FMTTYPE=image/png:https://events.mcu.edu.tw/wp-content/uploads/2025/03/3-1.png
END:VEVENT
END:VCALENDAR