BEGIN:VCALENDAR
VERSION:2.0
PRODID:-//Events Calendar - ECPv6.8.1//NONSGML v1.0//EN
CALSCALE:GREGORIAN
METHOD:PUBLISH
X-WR-CALNAME:Events Calendar
X-ORIGINAL-URL:https://events.mcu.edu.tw
X-WR-CALDESC:Events for Events Calendar
REFRESH-INTERVAL;VALUE=DURATION:PT1H
X-Robots-Tag:noindex
X-PUBLISHED-TTL:PT1H
BEGIN:VTIMEZONE
TZID:Asia/Taipei
BEGIN:STANDARD
TZOFFSETFROM:+0800
TZOFFSETTO:+0800
TZNAME:CST
DTSTART:20240101T000000
END:STANDARD
END:VTIMEZONE
BEGIN:VEVENT
DTSTART;TZID=Asia/Taipei:20240606T193000
DTEND;TZID=Asia/Taipei:20240606T213000
DTSTAMP:20260422T121346
CREATED:20240416T074508Z
LAST-MODIFIED:20240416T074508Z
UID:10000160-1717702200-1717709400@events.mcu.edu.tw
SUMMARY:「台北演講」一個人到一群人的快樂生活｜泰國生態村的成功模式 From Individual to Community: The Joyful Life in a Successful Thai Eco-Village
DESCRIPTION:| 泰國生態村的成功模式 \n拜訪泰國Pun Pun生態村時， \n印象最深的，就是每個人臉上都帶著笑容。 \n生活慢下來了， \n有許多時間可以用來想：怎麼更開心、有什麼更好玩的計畫。 \n常常結束上午的工作之後， \n下午大家會一起唱歌、去泡溫泉、或是一起做生日蛋糕。 \n| The Successful Model of Thai Eco-Villages \nVisiting the Pun Pun Eco-Village in Thailand\, \nthe most striking impression is the smiles on everyone’s faces. \nLife slows down here\, \nallowing ample time to ponder: what brings more joy\, what fun projects can be pursued. \nAfter finishing morning chores\, \nthe afternoons are often spent singing together\, soaking in hot springs\, or baking birthday cakes as a group. \n \nLife is so easy and fun.「生活是如此簡單快樂」\n從Pun Pun回來的人們，臉上和心上都洋溢著快樂。 \n在Pun Pun，一天工作5個小時， \n邊哼歌邊整理菜園、或邊聊天邊做菜、或一起到池裡游泳抓魚， \n和大家一起吃飯聊天，早晨或傍晚一起做瑜珈或跳舞。 \n  \n人們來自四面八方，有的是老師、有的是音樂製作人、有的是學生， \n有的人來好幾次、有的第一次來、有的一年會來住上一陣子。 \n工作，不是一種交換或交易， \n而是一種交流、一種展現自己生命力的方式。 \n  \n這並不代表他們沒有煩惱，而是他們不會把煩惱當成生活的重心， \n面對困難，就一起拆解問題，找到辦法； \n困難對他們來說，不是一個需要用力克服的關卡，而是生活常軌中的風景。 \n\n\n\n\n\n\n\n\n\n\n\n\n\nFor those returning from Pun Pun\, radiating happiness on their faces and in their hearts. \nAt Pun Pun\, a day’s work spans 5 hours\, \ntending to the garden while humming tunes\, chatting while cooking\, or swimming in the pond to catch fish. \nSharing meals and conversations with everyone\, practicing yoga or dancing together in the morning or evening. \nPeople come from all walks of life: some are teachers\, some are music producers\, some are students. \nSome return multiple times\, some are visiting for the first time\, and some stay for a while each year. \nWork is not seen as a transaction\, \nbut rather as a form of expression\, a way to showcase one’s vitality. \nThis doesn’t mean they have no worries\, but rather that they don’t let worries dominate their lives. \nWhen facing difficulties\, they break down the problems together and find solutions; \nDifficulties are not hurdles to overcome but part of life’s landscape. \n \nJon Jandai曾說 \n『生活的本質是很簡單的，如果你覺得生活變得困難，那一定有地方出錯了。 \n這時我們需要暫停，把出錯的地方找出來修正後，再繼續。』 \n他的生活樣貌就跟這段話一樣，簡單、質樸、通透。 \n  \n然而二十年前， \nJon Jandai在曼谷市中心，困難的生活著。 \n每天努力奮鬥、簡單吃個麵就繼續埋頭工作，日復一日。 \n在遇到各種困難挫敗後，他重新意識到：生活哪有那麼難！ \nLife is so easy and fun. \n生活是如此簡單快樂 \n他帶著這樣的人生哲學， \n在Ted Talk裡談他如何實踐快樂生活。 \nJon Jandai once said\, \n“The essence of life is very simple. If you find life difficult\, something must be wrong. \nAt that moment\, we need to pause\, identify what’s wrong\, correct it\, and then continue.” \nHis lifestyle reflects this sentiment: simple\, humble\, and clear. \nHowever\, twenty years ago\, \nJon Jandai lived a difficult life in the heart of Bangkok. \nEvery day was a struggle\, and he would eat a simple bowl of noodles before burying himself in work\, day in and day out. \nAfter facing various hardships and setbacks\, he came to realize: Life isn’t that difficult! \nLife is so easy and fun. \nWith this philosophy in mind\, he shared in a Ted Talk how he practiced a happy life. \n\n \n樸谷和Jon Jandai的緣分，始於2013年。 \n我們想將這樣重新認識生活的簡單美好，移植到台灣。 \nThe connection between Pugu and Jon Jandai began in 2013. \nWe aim to transplant this rediscovery of the simple beauty of life to Taiwan. \n \n邀請泰國Pun Pun生態村創辦人Jon Jondai， \n這是他首次來台分享。 \n  \n對於他在教育、食農、衣帛、藥品、建築各方面的思考、 \n從一個人害怕擔憂到輕鬆養活一家人、創辦出一個成功的生態社群， \n一路的感受和故事，到底如何長成而感到好奇。 \nWe invite Jon Jandai\, the founder of Pun Pun Eco-Village in Thailand\, for his first visit to Taiwan to share his insights. \nCurious about his journey from personal fears and worries to effortlessly supporting a family and founding a successful ecological community\, we’re eager to hear about his thoughts on education\, agriculture\, clothing\, medicine\, architecture\, and his overall experiences and stories. \n實體分享 Physical Sharing \nJon Jandai英文演講 English Speech by Jon Jandai \n樸谷工坊 現場與會對談 Live Dialogue with Pugu \n覺醒荒原 Hema 即席翻譯 On-the-spot Translation by Hema from覺醒荒原 \n講座內容 Lecture Contents \n– Jon Jandai如何回到自己 Jon Jandai’s Journey Back to Himself \n– 在Pun Pun的生活模樣 Life at Pun Pun \n– 生態村如何被人們支持 How Eco-villages Gain Support \n– 一個社群的快樂和可能 Happiness and Potential in a Community \n– Pun Pun與樸谷工坊的生命對談 Dialogue between Pun Pun and Pugu \n– 秘密彩蛋 Secret Surprise \n講座資訊 Lecture Information \n日期 Date｜2024.06.06（四） (Thursday) \n時間 Time｜19:30-21:30 \n地點 Venue｜財團法人張榮發基金會 Chang Yung-fa Foundation（台北市中正區中山南路11號 No. 11\, Zhongshan S. Rd.\, Zhongzheng Dist.\, Taipei City） \n講座說明 Lecture Details \n費用 Fee｜NT$899 \n早鳥優惠 Early Bird Offer NT$699（前50名 for the first 50 participants） \n無開立發票 No Invoice Provided \n報名 To apply：https://www.accupass.com/eflow/ticket/2402081053071999367500 \n實體票券 Physical Ticket \n手工種子紙 Handmade Seed Paper｜可書寫或種植 Writable or Plantable \n將於四月初公布取得方式 Methods of obtaining tickets will be announced in early April \n與永續相連 Connected to Sustainability｜支持自然授粉的留種計畫 Supporting a seed-saving project that promotes natural pollination \n主辦方 Organizer \n樸谷工坊 Pugu \n好好生活，與土地，一起共生。 \n兩個大孩與三只小孩，在台東鹿野的永續生活實踐。 \n走了超過十年，在永續生活的路上持續看見自己與世界的關係。 \n回到生活的單純的本質，就能看見無限的可能性。 \nLiving well\, symbiotically with the land. \nTwo adults and three children practicing sustainable living in Luye\, Taitung. \nOver a decade on the path of sustainable living\, continuously discovering the relationship between oneself and the world. \nReturning to the simple essence of life reveals endless possibilities. \n更多認識 Learn more at｜https://www.facebook.com/pugutaiwan \n攝影出處 Photo Credit：Melanie Ruth Photography
URL:https://events.mcu.edu.tw/event/%e3%80%8c%e5%8f%b0%e5%8c%97%e6%bc%94%e8%ac%9b%e3%80%8d%e4%b8%80%e5%80%8b%e4%ba%ba%e5%88%b0%e4%b8%80%e7%be%a4%e4%ba%ba%e7%9a%84%e5%bf%ab%e6%a8%82%e7%94%9f%e6%b4%bb%ef%bd%9c%e6%b3%b0%e5%9c%8b%e7%94%9f/
LOCATION:財團法人張榮發基金會\, 中正區中山南路11號\, 台北市\, Taiwan
CATEGORIES:ACCUPASS,樸谷工坊
ATTACH;FMTTYPE=image/png:https://events.mcu.edu.tw/wp-content/uploads/2024/04/pic8.png
ORGANIZER;CN="%E6%A8%B8%E8%B0%B7%E5%B7%A5%E5%9D%8A":MAILTO:freefin@gmail.com
END:VEVENT
BEGIN:VEVENT
DTSTART;TZID=Asia/Taipei:20240601T090000
DTEND;TZID=Asia/Taipei:20240601T170000
DTSTAMP:20260422T121346
CREATED:20240422T034905Z
LAST-MODIFIED:20240422T034905Z
UID:10000179-1717232400-1717261200@events.mcu.edu.tw
SUMMARY:打造個人化數位品牌！銘傳大學辦高中職生影音體驗營 Creating Your Personalized Digital Brand! MCU hosts High School Multimedia Experience Camp
DESCRIPTION:影音時代當道，經營社群內容成為打造個人化數位品牌趨勢，銘傳大學影音新聞暨社群傳播學系（原新聞學系自113學年更名）推出「銘新影音探險隊」一日體驗營活動，6/1在台北校區舉行，歡迎全台高中職生報名參加。 \n113學年度正式更名成立的「銘傳大學影音新聞暨社群傳播學系」，主打新聞、影音、社群、傳播、網路媒體，最符合時下打造個人化數位品牌的流行趨勢，培養結合數位匯流、媒體整合、內容企劃與展望全球視野的新聞與新媒體人才。 \n「銘新影音探險隊」高中職生一日體驗營活動，6/1（六）09: 00-17:00在銘傳大學台北校區舉行，安排有主播人生經驗談、記者stand實地演練、電台錄播入門體驗等豐富課程，由專業講師帶領學員瞭解媒體奧秘，報名費只要400元，即日起受理報名，歡迎全台高中職生報名參加，線上報名https://myppt.cc/IoT7JC，詳細活動資訊請至「銘新影音探險隊 」Facebook專頁查詢。 \nThe era of multimedia is prevailing\, and managing social media content has become a trend in building personalized digital brands. Ming Chuan University’s Audiovisual Journalism and Social Media Communication (formerly known as the Department of Journalism since 2024) is launching 「銘新影音探險隊」 one-day experiential camp on June 1 at Taipei campus. High school students from all over Taiwan are welcome to join. \nEstablished officially in 2024\, “Ming Chuan University’s Audiovisual Journalism and Social Media Communication” focuses on news\, multimedia\, social media\, communication\, and online media. It aligns with the current trend of building personalized digital brands and cultivates talents in news and new media who integrate digital convergence\, media integration\, content planning\, and global perspective. \n「銘新影音探險隊」 one-day experiential camp for high school students will be held on June 1 (Saturday) from 09:00 to 17:00 at Taipei campus. The camp includes rich activities such as life experiences from anchors\, on-site reporting exercises\, and introductory experiences in radio recording. Led by professional instructors\, participants will gain insights into the mysteries of media. The registration fee is only NT$400\, and registration is now open. High school students from all over Taiwan are welcome to sign up. For online registration\, please visit https://myppt.cc/IoT7JC. For more detailed information about the event\, please refer to 「銘新影音探險隊」 Facebook page.
URL:https://events.mcu.edu.tw/event/%e6%89%93%e9%80%a0%e5%80%8b%e4%ba%ba%e5%8c%96%e6%95%b8%e4%bd%8d%e5%93%81%e7%89%8c%ef%bc%81%e9%8a%98%e5%82%b3%e5%a4%a7%e5%ad%b8%e8%be%a6%e9%ab%98%e4%b8%ad%e8%81%b7%e7%94%9f%e5%bd%b1%e9%9f%b3%e9%ab%94/
LOCATION:台北校區Taipei Campus\, 中山北路五段250號\, 台北市\, Taiwan
CATEGORIES:銘新影音探險隊
ATTACH;FMTTYPE=image/jpeg:https://events.mcu.edu.tw/wp-content/uploads/2024/04/銘新影音探險隊.jpeg
END:VEVENT
END:VCALENDAR