BEGIN:VCALENDAR
VERSION:2.0
PRODID:-//Events Calendar - ECPv6.8.1//NONSGML v1.0//EN
CALSCALE:GREGORIAN
METHOD:PUBLISH
X-WR-CALNAME:Events Calendar
X-ORIGINAL-URL:https://events.mcu.edu.tw
X-WR-CALDESC:Events for Events Calendar
REFRESH-INTERVAL;VALUE=DURATION:PT1H
X-Robots-Tag:noindex
X-PUBLISHED-TTL:PT1H
BEGIN:VTIMEZONE
TZID:Asia/Taipei
BEGIN:STANDARD
TZOFFSETFROM:+0800
TZOFFSETTO:+0800
TZNAME:CST
DTSTART:20240101T000000
END:STANDARD
END:VTIMEZONE
BEGIN:VEVENT
DTSTART;TZID=Asia/Taipei:20240526T130000
DTEND;TZID=Asia/Taipei:20240526T163000
DTSTAMP:20260424T121307
CREATED:20240521T081916Z
LAST-MODIFIED:20240521T082451Z
UID:10000271-1716728400-1716741000@events.mcu.edu.tw
SUMMARY:室內市集 Indoor Market｜網路創業 Online Entrepreneurship｜網購好物分享會 Online Shopping Goods Sharing Session
DESCRIPTION:※ 電商通路越來越難做？這裡有百萬業績店家無私分享營銷秘術！\n※ 中小企業在網路紅海只能削價競爭？我們這裡不玩這套！\n※ 小資族想要斜槓賺取更多業外收入？這裡有網路創業的機會！ \n不論您是有好商品要賣、或是正在找尋網路創業商機，都一定要來參加這場室內市集，北中南優質店家齊聚一堂，更有經營電商成功人士現身說法。 \n※ Struggling with e-commerce? Here are marketing secrets from stores with million-dollar sales!\n※ Small businesses facing price wars in the crowded online market? Not here!\n※ Looking to earn extra income on the side? Here are online entrepreneurship opportunities! \nWhether you have great products to sell or are seeking online business opportunities\, you must attend this indoor market. Top-quality vendors from across the country will gather\, and successful e-commerce entrepreneurs will share their insights. \n活動詳情 Event Details \n時間 Date & Time：2024/05/26（日） (Sunday) 13:00報到入場 Registration starts at 13:00 \n地點 Venue：台北市信義區基隆路一段153-1號1樓 1/F\, No. 153-1\, Sec. 1\, Keelung Rd.\, Xinyi Dist.\, Taipei City <萬世大樓 woo manpower女力空間> \n費用 Fee：每位參加者酌收100元場地清潔費，每間擺攤商家酌收500元場地清潔費 NT$100 per participant for venue cleaning\, NT$500 per vendor for venue cleaning \n室內有冷氣、有座椅，備有飲水機、廁所，不畏豔陽不怕下雨，給您全新舒適的市集擺攤/購物體驗！ The indoor venue is air-conditioned\, with seating\, water dispensers\, and restrooms available. Enjoy a comfortable market experience without worrying about the weather! \n報名 To apply：https://www.accupass.com/eflow/ticket/2405121451542010765512 \n流程參考 Schedule \n13:00-13:30 開放報到入場 Registration and entry\n13:30-13:35 主持人開場 Opening by the host\n13:35-13:50 最新電商趨勢與網路創業經驗分享 Latest e-commerce trends and online entrepreneurship experiences\n13:50-14:05 成功網路商家營銷秘訣分享 Marketing secrets from successful online businesses\n14:05-14:15 主持人簡介所有與會廠商 Introduction of all participating vendors by the host\n14:15-14:20 大合照、社群曝光 Group photo and social media exposure\n—-<上半場為講座形式，所有參加者需入座聆聽 The first half is a seminar format\, all participants must be seated and listen>—- \n—-<下半場為市集形式，與會廠商可擺攤展示商品 The second half is a market format\, where vendors can display their products>—-\n14:20-16:30 室內市集 商品分享交流時間 Indoor market and product sharing session\n16:30-17:00 場地收拾、離場 Clean up and departure \n市集擺攤、商家與現場網路團主分享自家商品 Vendor Booths\, Product Sharing\, and Networking with Online Group Leaders \n \n \n經營電商廠商/老闆上台 無私分享成功經驗 Successful E-Commerce Business Owners Sharing Experiences \n \n網路店主/團主 分享電商平台合作優勢 Online Store and Group Leaders Discuss Platform Advantages \n \n高雄場次活動紀錄影片 Video Recordings of Kaohsiung Session（其他地區場次活動流程、模式皆相同，可做參考 All regional events follow the same format and process\, making it an excellent reference） \n\n重要注意事項 Important Notes \n※ 因場地空間、名額有限，本活動採報名制，若未事先報名無法入場！ \n※ 初次參與的廠商僅能擺攤展示產品，不得於現場銷售！建議您首次先以新朋友身分報名參加（不擺攤），來學習並評估能否長期合作，感謝配合。 \n※ 下單並完成繳費後，如欲取消退費，請於活動前8日向ACCUPASS窗口辦理申請，逾期恕不受理。若需轉讓名額請於活動48小時前通知我們新參加者資料。若未於前8日前提出取消、或活動當天NoShow者，恕不退費。 \n※ Due to limited space and availability\, this event requires prior registration. No walk-ins allowed! \n※ First-time vendors can only display products and are not allowed to sell on-site. We recommend attending as a participant first to learn and evaluate potential long-term collaboration opportunities. \n※ If you need to cancel and request a refund\, please apply through ACCUPASS at least 8 days before the event. Late cancellations will not be accepted. If you need to transfer your spot\, notify us with the new participant’s information at least 48 hours before the event. No refunds for cancellations within 8 days of the event or no-shows on the event day.
URL:https://events.mcu.edu.tw/event/%e5%ae%a4%e5%85%a7%e5%b8%82%e9%9b%86-indoor-market%ef%bd%9c%e7%b6%b2%e8%b7%af%e5%89%b5%e6%a5%ad-online-entrepreneurship%ef%bd%9c%e7%b6%b2%e8%b3%bc%e5%a5%bd%e7%89%a9%e5%88%86%e4%ba%ab%e6%9c%83-online-s/
LOCATION:萬世大樓 woo manpower女力空間\, 信義區基隆路一段153之1號1樓\, 台北市\, Taiwan
CATEGORIES:ACCUPASS,酉時設計行銷工作室
ATTACH;FMTTYPE=image/png:https://events.mcu.edu.tw/wp-content/uploads/2024/05/25.png
END:VEVENT
END:VCALENDAR