BEGIN:VCALENDAR
VERSION:2.0
PRODID:-//Events Calendar - ECPv6.8.1//NONSGML v1.0//EN
CALSCALE:GREGORIAN
METHOD:PUBLISH
X-WR-CALNAME:Events Calendar
X-ORIGINAL-URL:https://events.mcu.edu.tw
X-WR-CALDESC:Events for Events Calendar
REFRESH-INTERVAL;VALUE=DURATION:PT1H
X-Robots-Tag:noindex
X-PUBLISHED-TTL:PT1H
BEGIN:VTIMEZONE
TZID:Asia/Taipei
BEGIN:STANDARD
TZOFFSETFROM:+0800
TZOFFSETTO:+0800
TZNAME:CST
DTSTART:20250101T000000
END:STANDARD
END:VTIMEZONE
BEGIN:VEVENT
DTSTART;TZID=Asia/Taipei:20250306T110000
DTEND;TZID=Asia/Taipei:20250310T173000
DTSTAMP:20260420T082453
CREATED:20250121T061205Z
LAST-MODIFIED:20250121T061205Z
UID:10000871-1741258800-1741627800@events.mcu.edu.tw
SUMMARY:2025 ART TAIWAN｜SKM PHOTO 攝影藝術博覽會
DESCRIPTION:年度最大攝影盛會－「2025 ART TAIWAN｜SKM PHOTO 攝影藝術博覽會」，匯聚來自國際與台灣的優秀影像攝影藝術家，透過鏡頭表達其獨特創作風格，包含由來自日本風景攝影師－小林伸幸 Nobuyuki Kobayashi 以及日本攝影藝術團體與藝廊／工作室－Photographic Art Asia (PAA)、Roonee 247 fine arts、Atelier Chataigne等，台灣知名攝影師／影像團隊－劉振祥、黃俊團、張智銘、林予晞、廖文瑄、潘怡帆、余梓勤、許愷中、張嘉輝、光影手工暗房工作室、Something Studio 三牲工作室、uPrint、光盒作用、絕版影像館、Avocado、國家攝影文化中心等超過50組參展單位共同展出；今年特別以「界線」為主題，探討攝影在表達與傳遞情感、觀點以及社會現象中的多重面向，揭示各種隱含的界線與界限。同期也將發表「2025 SKM PHOTO國際攝影大賽」、「2024 吳東興贊助計畫」得獎作品，展期現場每日舉辦多場攝影專題講座與活動，為攝影愛好者提供豐富的學習與交流平台。歡迎喜愛攝影影像藝術的您，可千萬不能錯過！邀您一同跨越界線、探索攝影創作的無限可能，共同見證台灣攝影藝術的新篇章！》詳情請上2025 SKM PHOTO活動官網查詢。 \nThe largest photography event of the year\, “2025 ART TAIWAN｜SKM PHOTO” brings together outstanding international and Taiwanese photographic artists. Through their lenses\, they showcase unique creative styles. Highlights include works by renowned Japanese landscape photographer Nobuyuki Kobayashi and Japanese photographic art groups and galleries/studios such as Photographic Art Asia (PAA)\, Roonee 247 fine arts and Atelier Chataigne. Featured Taiwanese artists and photography teams include Liu Chen-hsiang\, Huang Chun-tuan\, Chang Chih-ming\, Lin Yu-xi\, Liao Wen-xuan\, Pan Yi-fan\, Yu Zi-qin\, Hsu Kai-chung\, Chang Chia-hui\, Light and Shadow Handcrafted Darkroom Studio\, Something Studio\, uPrint\, Lightbox Effect\, Rare Image Gallery\, Avocado\, National Center of Photography and Images\, and more than 50 participating units. \nThis year’s theme\, “Boundary” explores the multifaceted role of photography in expressing emotions\, perspectives\, and social phenomena\, revealing hidden boundaries and limitations. The event will also feature the unveiling of 2025 SKM PHOTO International Photography Competition and 2024 Wu Tung-Hsing Sponsorship Program award-winning works. Daily photography lectures and activities will provide enthusiasts with an enriching platform for learning and exchange. \nIf you love photography and visual arts\, don’t miss this event! Join us in crossing boundaries and discovering the infinite possibilities of photographic creation. Witness the new chapter of Taiwanese photographic art. Visit 2025 SKM PHOTO Official Event Website for more details. \n📷 展覽地點 Venue：新光三越台北信義新天地A11 6F信義劇場 Xinyi Theater\, 6F\, Shin Kong Mitsukoshi Xinyi Place\, Building A11\, Taipei\n📷 展覽時間 Date：2025/03/06（四 Thursday）－2025/03/10（一 Monday）\n※ 每日開放時間依百貨營業時間為主；唯展期最後一天僅開放至18:00，最後入場時間為17:30。 Daily opening hours align with department store business hours; the last day (March 10) closes at 18:00\, with final admission at 17:30.\n📷 參展單位：\n參展藝術家 Participating Artists\n劉振祥｜小林伸幸 Nobuyuki Kobayashi｜黃俊團｜張智銘｜林予晞｜廖文瑄｜潘怡帆｜余梓勤｜許愷中｜張嘉輝｜楊承運｜張良一｜謝昕妮｜謝明澄｜曾凡寧｜吳宗軒｜張宸瑋｜莊智皓｜李毓琪｜彭家茵｜方好慧｜黃暘｜Jacek Cislo｜卓育均｜陳宇弘｜林冠廷｜魏忠誠｜李金芳｜陳俊延｜鍾鎮予｜蔡明倫｜張簡于頌｜張毅生 \n參展單位 Participating Units\n光影手工暗房工作室｜Photographic Art Asia（PAA）｜Roonee 247 fine arts｜Atelier Chataigne｜Something Studio 三牲工作室｜uPrint｜光盒作用｜絕版影像館｜Avocado｜國家攝影文化中心 \n客座講師 Guest Speakers\n小林伸幸 Nobuyuki Kobayashi｜白岩洋子 Yoko Shiraiwa｜林予晞｜曾凡寧｜劉傑中＆羅賓｜4Samantha 莎曼莎｜Yorko Summer 優口大叔 \n————　購 票 優 惠 Ticket Promotions　———— \n　!! 早鳥限定網路優惠套組．限時販售中 Early Bird Online Specials (Limited Time) !!    \n➥ 雙人套票組－全票買１送１ NT$200（原價NT$400）\n➥ 全會期套票－展期單人自由入場通行證 NT$350，加贈2025活動限定L夾（原價NT$1\,080）\n➥ 商品套票Ａ｜SKM PHOTO 帆布袋＋單人入場券 NT$400（原價NT$580）\n➥ 商品套票Ｂ｜2025 BOUNDARY 掛帶＋單人入場券 NT$250（原價NT$320）\n➥ 商品套票Ｃ｜2025 BOUNDARY 零錢包＋單人入場券 NT$400（原價NT$450）\n※ 票券隨買隨進，每日開放時間依百貨營業時間為主，唯03/10（一）最後入場時間為17:30。 \n➥ Duo Package: Buy 1 get 1 free full ticket at NT$200 (original price: NT$400)\n➥ All-Access Pass: Unlimited single-entry pass during exhibition dates at NT$350\, includes a 2025 exclusive folder (original price: NT$1\,080)\n➥ Package A: SKM PHOTO Tote Bag + Single Entry Ticket at NT$400 (original price: NT$580)\n➥ Package B: 2025 BOUNDARY Lanyard + Single Entry Ticket at NT$250 (original price: NT$320)\n➥ Package C: 2025 BOUNDARY Coin Pouch + Single Entry Ticket at NT$400 (original price: NT$450) \n※ Tickets can be used for immediate entry. Daily opening hours align with department store business hours; on March 10 (Mon)\, the last admission is at 17:30. \n \n🎟️ 現場購票 On-Site Tickets\n全　票 NT$200\n優待票 NT$150／憑在校學生證即享票價優惠，每人每證限購乙張（入場需驗證）\n全會期票 NT$350／展期單人自由入場通行證\n愛心票／領有身心障礙手冊之觀眾及其監護人或必要之陪伴者一人、持有低收入戶證明者、65歲(含)以上長者／未滿六歲孩童（入場需驗證）\n※ 票券隨買隨進，每日開放時間依百貨營業時間為主，唯03/10（一）最後入場時間為17:30。 \nGeneral Admission: NT$200 \nDiscounted Ticket: NT$150 (students with valid ID; one ticket per ID\, verified upon entry) \nAll-Access Pass: NT$350 (unlimited single-entry during exhibition dates) \nConcession Ticket: Free admission for visitors with disability ID and one companion\, low-income certificate holders\, seniors 65 years or older\, and children under six (verification required). \n報名 To apply：https://www.accupass.com/eflow/ticket/2501140801471191911046 \n注意事項及入場須知 Notes：\n① 憑本券可享展覽免費入場參觀乙次（除全會期套票），不得轉售或兌換現金。\n② 本券限上述期間使用，票券一旦遺失損毀，恕不補發，請妥善保管。\n③ 請遵守場內參觀指示，如遇人潮眾多，敬請依序排隊等候。\n④ 禁止攜帶外食，亦不提供寄放服務。\n⑤ 展場內禁止觸摸展品，如有損壞事宜，需照價賠償。\n⑥ 請遵守展覽現場參觀指示，共同維持參觀品質。\n⑦ 憑本票根可享新藝商號/販售區不限消費金額九折優惠。\n⑧ 上述事項若有未盡事宜，主辦單位保留活動之更改權利。\n（詳情請上活動官網：culture.skm.com.tw查詢） \n\nTickets allow single admission (except All-Access Pass) and are non-transferable or redeemable for cash.\nTickets are valid only during the specified period. Lost or damaged tickets will not be replaced.\nFollow venue instructions; during peak times\, queueing may be required.\nNo outside food or baggage storage services provided.\nDo not touch exhibits; any damage must be compensated.\nFollow exhibition rules to ensure a quality experience for all.\nPresent ticket stubs for a 10% discount at designated sales areas.\nOrganizers reserve the right to amend event details. For more information\, visit the official website: culture.skm.com.tw.\n\n▋ 主辦單位 Organizers：新光三越文教基金會、新光三越\n▋ 合作協辦 Co-Sponsors：EPSON、光影手工暗房工作室\n▋ 協力單位 Supporters：正成集團、SmallRig、湧蓮國際、Harlowe、FUJIFILM、Apacer、法雅客、uPrint\n▋ 特別感謝 Special Thanks：國立台灣美術館、國家攝影文化中心
URL:https://events.mcu.edu.tw/event/2025-art-taiwan%ef%bd%9cskm-photo-%e6%94%9d%e5%bd%b1%e8%97%9d%e8%a1%93%e5%8d%9a%e8%a6%bd%e6%9c%83/
LOCATION:新光三越台北信義新天地A11\, 信義區松壽路11號\, 台北市\, Taiwan
CATEGORIES:ACCUPASS,新光三越
ATTACH;FMTTYPE=image/png:https://events.mcu.edu.tw/wp-content/uploads/2025/01/9-1.png
END:VEVENT
BEGIN:VEVENT
DTSTART;TZID=Asia/Taipei:20250307T080000
DTEND;TZID=Asia/Taipei:20250310T200000
DTSTAMP:20260420T082453
CREATED:20250307T035615Z
LAST-MODIFIED:20250307T035615Z
UID:10000934-1741334400-1741636800@events.mcu.edu.tw
SUMMARY:攝影美學社 Photo Club｜攝影師陳冠翔Charles分享他的 Photographer Charles Chen—斜槓攝影師之路 The Journey of a Multi-Hyphenate Photographer
DESCRIPTION:喀嚓！按下快門的瞬間，想像成為攝影師應該是什麼樣子呢？台北校區攝影美學社「特邀講座-生命圖書館」將於3/10（一）18:00-20:00在E202音樂廳，邀請攝影師—陳冠翔Charles與大家分享他的【斜槓攝影師之路】，並與大家聊聊他在拍攝過程中的技巧與攝影觀念，以及他是如何透過鏡頭捕捉生命的故事。 \n攝影美學社【斜槓攝影師之路】報名時間自即日起至3/10（一），透過線上表單填寫報名，也可以掃描攝影美學社IG貼文中的QRcode完成報名或當日現場報名。攝影美學社的社員們皆能免費參加，非社員以及校外人員僅需繳交NT$50活動費即可參與講座。如果有任何疑問或需要進一步資訊，請洽台北校區攝影美學社的Instagram【mcu_photoclub】。 \n攝影美學社歡迎全校師生與外校同學的參與，講座將帶來與以往不同的攝影分享會，絕對會讓大家收穫滿滿。 \nClick! The moment you press the shutter\, have you ever imagined what it’s like to be a photographer? Taipei Campus Photo Club invites you to a special guest lecture – “Life Library”\, featuring photographer Charles Chen\, who will share his journey as a multi-hyphenate photographer. \n📅 Event Date: March 10 (Monday)\, 18:00 – 20:00📍 Location: E202 Music Hall \nCharles will discuss his photography techniques\, creative insights\, and how he tells compelling stories through his lens. Whether you’re an aspiring photographer or just curious about the craft\, this talk will offer valuable knowledge and inspiration. \n📌 How to Register? \n\nRegistration period: Now until March 10 (Monday)\nWays to sign up:\n\nFill out the online registration form\nScan the QR code on the Photo Club’s Instagram post\nOn-site registration on the event day\n\n\n\n🎟 Participation Fee: \n\nFree for Photo Club members\nNT$50 for non-members & external participants\n\nFor any inquiries or further details\, please contact Taipei Campus Photo Club via Instagram: @mcu_photoclub. \nThis exclusive photography talk will be unlike any other – come join us and gain new perspectives and inspiration!
URL:https://events.mcu.edu.tw/event/%e6%94%9d%e5%bd%b1%e7%be%8e%e5%ad%b8%e7%a4%be-photo-club%ef%bd%9c%e6%94%9d%e5%bd%b1%e5%b8%ab%e9%99%b3%e5%86%a0%e7%bf%94charles%e5%88%86%e4%ba%ab%e4%bb%96%e7%9a%84-photographer-charles-chen/
LOCATION:台北校區Taipei Campus\, 中山北路五段250號\, 台北市\, Taiwan
CATEGORIES:攝影美學社
ATTACH;FMTTYPE=image/jpeg:https://events.mcu.edu.tw/wp-content/uploads/2025/03/1226期攝影美學電子報配圖.jpg
END:VEVENT
BEGIN:VEVENT
DTSTART;TZID=Asia/Taipei:20250315T020000
DTEND;TZID=Asia/Taipei:20250315T040000
DTSTAMP:20260420T082453
CREATED:20250214T015526Z
LAST-MODIFIED:20250214T015526Z
UID:10000888-1742004000-1742011200@events.mcu.edu.tw
SUMMARY:影像跨界 Cross-Border Visuals｜台灣到紐約的攝影創作與市場機遇 Creative Photography & Market Opportunities from Taiwan to New York
DESCRIPTION:1. 紐約靈感分享 Inspiration from New York \n從紐約街頭到藝術畫廊，講者將展示其攝影作品背後的創作故事，並分享如何在紐約這座 城市中捕捉靈感與畫面。 \nFrom the vibrant streets of New York to its art galleries\, the speaker will showcase the stories behind their photography and share how they capture inspiration and imagery in this dynamic city. \n \n（攝影師洪婉瑜作品 Photography by Wan-Yu Hung） \n2. 台灣與紐約的市場對話 Taiwan & New York: A Market Dialogue \n探討台灣與紐約攝影市場的異同，剖析如何結合在地特色與國際視野，讓影像作品從創作走向市場。分享成功案例與實用策略，包括參與展覽、吸引品牌合作，以及拓展合作機會的方法。 \nThis session will explore the differences and similarities between the photography markets in Taiwan and New York. We will discuss how to blend local characteristics with a global perspective\, transforming creative works into marketable assets. The speaker will share successful case studies and practical strategies\, including:✅ Participating in exhibitions✅ Attracting brand collaborations✅ Expanding professional opportunities \n \n（攝影師洪婉瑜作品 Photography by Wan-Yu Hung） \n3. 個人品牌打造 Building a Personal Brand \n攝影師如何透過作品講述個人故事，建立專屬品牌形象，並在台灣與紐約兩地的藝術市場中獲得認可。 \nHow can photographers tell their personal stories through their work? This segment will focus on creating a unique brand identity and gaining recognition in the art markets of Taiwan and New York. \n \n（攝影師洪婉瑜作品 Photography by Wan-Yu Hung） \n4. 未來趨勢解析 Future Trends in Photography \n探討藝術市場的新趨勢，如數位藝術對攝影的影響，幫助參與者在創作與商業之間找到平衡。 \nWe will analyze emerging trends in the art market\, such as the impact of digital art on photography\, helping participants find a balance between creativity and commercial success. \n \n（攝影師周有煦作品 Photography by Yu-Hsu Chou） \n適合對象 Who Should Attend? \n📌 對攝影藝術有興趣，想進一步探索作品進入市場可能性的創作者。 \n📌 想了解如何在台灣與紐約兩地市場中開展攝影事業的攝影師。 \n📌 對藝術市場趨勢感興趣的藝術愛好者與學生。 \n📌 想提升個人品牌形象與商業價值的視覺創作者。 \n📌 Photographers seeking to explore market opportunities for their work. \n📌 Artists and creatives interested in developing their photography careers in Taiwan and New York. \n📌 Art enthusiasts and students who want to learn about emerging trends in the art market. \n📌 Visual creators looking to enhance their personal brand and commercial value. \n報名 To apply：https://www.accupass.com/eflow/ticket/2501221440071048840232?utm_campaign=accu_banner&utm_medium=home_north&utm_source=Web \n \n（攝影師周有煦作品 Photography by Yu-Hsu Chou）
URL:https://events.mcu.edu.tw/event/%e5%bd%b1%e5%83%8f%e8%b7%a8%e7%95%8c-cross-border-visuals%ef%bd%9c%e5%8f%b0%e7%81%a3%e5%88%b0%e7%b4%90%e7%b4%84%e7%9a%84%e6%94%9d%e5%bd%b1%e5%89%b5%e4%bd%9c%e8%88%87%e5%b8%82%e5%a0%b4%e6%a9%9f/
LOCATION:綠豆蒜製研所\, 中正區南陽街38巷2號\, 台北市\, Taiwan
CATEGORIES:ACCUPASS,攝影獵人製造所
ATTACH;FMTTYPE=image/png:https://events.mcu.edu.tw/wp-content/uploads/2025/02/5.png
END:VEVENT
BEGIN:VEVENT
DTSTART;TZID=Asia/Taipei:20250316T103000
DTEND;TZID=Asia/Taipei:20250316T163000
DTSTAMP:20260420T082453
CREATED:20250313T020018Z
LAST-MODIFIED:20250313T020018Z
UID:10000952-1742121000-1742142600@events.mcu.edu.tw
SUMMARY:攝影美學社 Photo Club、占星社 Astrology Study Club｜攝影美學外拍前進板橋 占星校內撲克牌占卜 Photography Outing in Banqiao & On-Campus Poker Card Divination
DESCRIPTION:台北校區充滿濃厚的藝術與神秘氛圍，從攝影美學3/15（六）14:00古風攝影外拍，到占星社3/15（六）10:30撲克牌占卜活動，各式特色活動接連登場，邀請同學們一同探索光影與命運的奧秘，在課業之餘，沉浸於攝影與占卜帶來的奇幻體驗。 \n攝影美學社將於3/16（六）下午舉辦「古風之旅」外拍活動，特別邀請周兆志CCC老師親臨指導，帶領社員前往板橋林家花園，學習人像攝影與建築構圖技巧。園內亭台樓閣錯落，光影交錯之間，捕捉古典之美。活動時間為14:00-16:30，社員參加費NT$50，非社員NT$100，報名截止於3/13（四）22:00。 \n同一天，占星社則於10:30-17:30在B404教室舉辦「撲克牌占卜」活動，帶領同學們透過卡牌窺探愛情、事業與未來的可能性。翻牌之際，未知的命運緩緩揭曉，為參與者帶來驚喜與省思。此次占卜收費標準依身份而異：社員NT$450，非社員NT$600，校外人士NT$1\,000，報名與繳費方式請洽社團Instagram。 \n無論是想捕捉古風意境，還是透過占卜窺見未來，這場光影與命運交織的週末，誠摯邀請大家共襄盛舉！更多活動詳情請關注各社團Instagram。 \nTaipei campus is infused with both artistic charm and mystical energy. On Saturday\, March 15\, two unique events will take place: a classical-style photography outing (14:00) hosted by Photo Club\, and a Poker Card Divination session (10:30) organized by Astrology Study Club. These activities invite students to explore the wonders of light\, shadow and fate\, offering a magical escape from academic life. \nPhoto Club | “Journey Through Classical Elegance” Photography Outing \nOn March 16 (Saturday) from 14:00 to 16:30\, the Photo Club will host an on-location photography session at Lin Family Mansion and Garden in Banqiao\, led by renowned instructor CCC. Participants will learn portrait photography and architectural composition techniques\, capturing the timeless beauty of classical structures and serene landscapes. \n\nParticipation Fee: NT$50 (members) | NT$100 (non-members)\nRegistration Deadline: March 13 (Thursday) 22:00\n\nAstrology Study Club | Poker Card Divination \nOn the same day\, from 10:30 to 17:30 in Room B404\, the Astrology Study Club will guide participants through Poker Card Divination\, offering insights into love\, career and the future. As the cards are revealed\, the unknown will slowly unfold\, bringing surprises and deep reflection. \n\nDivination Fee: NT$450 (members) | NT$600 (non-members) | NT$1\,000 (external guests)\nRegistration & Payment: Please check the club’s Instagram for details.\n\nWhether you wish to capture classical aesthetics or uncover your destiny through divination\, this weekend of light and fate awaits you! Follow the clubs’ Instagram pages for more event details.
URL:https://events.mcu.edu.tw/event/%e6%94%9d%e5%bd%b1%e7%be%8e%e5%ad%b8%e7%a4%be-photo-club%e3%80%81%e5%8d%a0%e6%98%9f%e7%a4%be-astrology-study-club%ef%bd%9c%e6%94%9d%e5%bd%b1%e7%be%8e%e5%ad%b8%e5%a4%96%e6%8b%8d%e5%89%8d%e9%80%b2/
LOCATION:台北校區Taipei Campus\, 中山北路五段250號\, 台北市\, Taiwan
CATEGORIES:占星社,攝影美學社
ATTACH;FMTTYPE=image/jpeg:https://events.mcu.edu.tw/wp-content/uploads/2025/03/1226期社團電子報配圖.jpg
END:VEVENT
END:VCALENDAR