BEGIN:VCALENDAR
VERSION:2.0
PRODID:-//Events Calendar - ECPv6.8.1//NONSGML v1.0//EN
CALSCALE:GREGORIAN
METHOD:PUBLISH
X-WR-CALNAME:Events Calendar
X-ORIGINAL-URL:https://events.mcu.edu.tw
X-WR-CALDESC:Events for Events Calendar
REFRESH-INTERVAL;VALUE=DURATION:PT1H
X-Robots-Tag:noindex
X-PUBLISHED-TTL:PT1H
BEGIN:VTIMEZONE
TZID:Asia/Taipei
BEGIN:STANDARD
TZOFFSETFROM:+0800
TZOFFSETTO:+0800
TZNAME:CST
DTSTART:20240101T000000
END:STANDARD
END:VTIMEZONE
BEGIN:VEVENT
DTSTART;TZID=Asia/Taipei:20241129T193000
DTEND;TZID=Asia/Taipei:20241208T213000
DTSTAMP:20260425T110152
CREATED:20241107T024740Z
LAST-MODIFIED:20241107T024740Z
UID:10000640-1732908600-1733693400@events.mcu.edu.tw
SUMMARY:綠光世界劇場 Green Ray Theatre《當妳轉身之後 After You Turn Away》
DESCRIPTION:人生的最後一支獨舞 \n無預警的生命響鐘 \n女教授褪下光環外衣 \n轉身，也無風雨也無晴 \n醍醐灌頂的生命篇章 \n擁抱難以直視的真相 \nThe Final Solo Dance of Life \nAn unexpected ringing of life’s final bell. \nA literature professor sheds her academic aura. \nTurning away\, she finds neither rain nor shine—only the quiet of reality. \nA poignant chapter awakens her spirit\, \nEmbracing truths too painful to confront directly. \n故事簡介 Story Synopsis \n一位教學一絲不苟、略顯不近人情的文學女教授，無意間發現自己罹患卵巢癌。生命的消逝迫使她褪下教授的光環，只能躺在病床上，毫無尊嚴地接受各種化療。當她發現主治醫生竟是自己以前的學生，更讓她尷尬不已。隨著生命旅程接近尾聲，她開始對人生和自我展開不同的反思與對話。 \nA disciplined\, somewhat unapproachable literature professor discovers\, quite by accident\, that she has ovarian cancer. The impending end of life forces her to shed her prestigious image\, leaving her vulnerable and confined to a hospital bed\, subjected to harsh chemotherapy with no dignity left to guard. Her discomfort only deepens when she realizes that her attending doctor was once her student. As her journey nears its close\, she begins an introspective dialogue\, reflecting on life\, self\, and the nature of her existence. \n報名 To apply：https://www.opentix.life/event/1821078100145139712?srsltid=AfmBOoqKr5pUXUCQslW8smSA7tuN597_8j8OujTXt-9oWX__eirbhbHg
URL:https://events.mcu.edu.tw/event/%e7%b6%a0%e5%85%89%e4%b8%96%e7%95%8c%e5%8a%87%e5%a0%b4-green-ray-theatre%e3%80%8a%e7%95%b6%e5%a6%b3%e8%bd%89%e8%ba%ab%e4%b9%8b%e5%be%8c-after-you-turn-away%e3%80%8b/
LOCATION:臺北市藝文推廣處城市舞台\, 松山區八德路三段25號\, 台北市\, Taiwan
CATEGORIES:城市舞台,臺北市藝文推廣處
ATTACH;FMTTYPE=image/jpeg:https://events.mcu.edu.tw/wp-content/uploads/2024/11/2-scaled.jpg
END:VEVENT
END:VCALENDAR