BEGIN:VCALENDAR
VERSION:2.0
PRODID:-//Events Calendar - ECPv6.8.1//NONSGML v1.0//EN
CALSCALE:GREGORIAN
METHOD:PUBLISH
X-WR-CALNAME:Events Calendar
X-ORIGINAL-URL:https://events.mcu.edu.tw
X-WR-CALDESC:Events for Events Calendar
REFRESH-INTERVAL;VALUE=DURATION:PT1H
X-Robots-Tag:noindex
X-PUBLISHED-TTL:PT1H
BEGIN:VTIMEZONE
TZID:Asia/Taipei
BEGIN:STANDARD
TZOFFSETFROM:+0800
TZOFFSETTO:+0800
TZNAME:CST
DTSTART:20250101T000000
END:STANDARD
END:VTIMEZONE
BEGIN:VEVENT
DTSTART;TZID=Asia/Taipei:20250428T090000
DTEND;TZID=Asia/Taipei:20250502T005000
DTSTAMP:20260424T060213
CREATED:20250410T023646Z
LAST-MODIFIED:20250410T023646Z
UID:10001003-1745830800-1746147000@events.mcu.edu.tw
SUMMARY:114級畢業週市集 開放攤主報名徵集 2025 Graduation Week Market – Vendor Registration Now Open!
DESCRIPTION:隨著畢業季腳步逼近，為了讓應屆畢業生在離校前留下難忘回憶，桃園校區畢聯會舉辦「114級畢業週市集」，即日起開放攤主報名徵集。活動不僅提供販售二手寶物、手作良品與創意商品的平台，也期望透過交流，讓學生之間的回憶與物品延續新的價值。 \n市集活動將於4/28（一）至5/1（四）每日09:00-17:00，以及5/2（五）09:00-12:50在明園熱鬧登場。活動設有每日16個攤位，每位參與者須於報名成功後繳交保證金NT$500，並列印與簽署租賃契約書，於4/21-25中午12:10至12:40至體育館四樓畢聯會辦公室完成繳費。現場基本提供半個歐棚空間作為攤位，若有需要可申請整棚（兩攤位），應屆畢業生享有優先報名資格。 \n報名即日起至4/20（日）23:59截止，採限額制方式受理，額滿為止。歡迎即將畢業的同學踴躍報名，透過市集留下與銘傳的最後連結。相關資訊與疑問可私訊畢聯會Instagram【mcu_taoyuan_gcaa】，報名表單請見：https://docs.google.com/forms/d/e/1FAIpQLScm4s9a2sz9_nRw_O9eqk35NoFGiKM_Lw8_zKPtYk5gcE9wgA/viewform \nAs graduation season approaches\, the Graduation Committee of Taoyuan Campus is organizing “2025 Graduation Week Market” to help this year’s graduates create lasting memories before leaving campus. Vendor registration is now officially open! \nThis event offers a vibrant platform for students to sell second-hand treasures\, handmade crafts and creative goods. More than just a marketplace\, it’s also a chance for students to exchange memories and give items new life and value. \n🗓 Market Dates & Time \n\n\nApril 28 (Mon) to May 1 (Thu) | 09:00–17:00 daily \n\n\nMay 2 (Fri) | 09:00–12:50📍 Venue: Ming Garden\, MCU Taoyuan Campus \n\n\n📌 Details \n\n\n16 booth spaces will be available each day. \n\n\nOnce accepted\, participants must pay a NT$500 deposit\, print and sign the booth rental agreement\, and complete payment in person at the Graduation Committee Office on the 4th floor of Gymnasium between April 21–25\, 12:10–12:40 PM. \n\n\nEach booth includes half a canopy (Europanel tent). Full canopy (two booths) applications are also accepted. \n\n\nGraduating students have priority registration. \n\n\n📝 Registration Deadline \n\n\nNow through April 20 (Sun)\, 23:59 \n\n\nLimited spots available – first come\, first served! \n\n\nWe warmly invite all soon-to-be graduates to sign up and create one last meaningful connection with MCU through this special event. \nFor more details or questions\, feel free to DM the Graduation Committee on Instagram: @mcu_taoyuan_gcaa \n🔗 Registration Formhttps://docs.google.com/forms/d/e/1FAIpQLScm4s9a2sz9_nRw_O9eqk35NoFGiKM_Lw8_zKPtYk5gcE9wgA/viewform
URL:https://events.mcu.edu.tw/event/114%e7%b4%9a%e7%95%a2%e6%a5%ad%e9%80%b1%e5%b8%82%e9%9b%86-%e9%96%8b%e6%94%be%e6%94%a4%e4%b8%bb%e5%a0%b1%e5%90%8d%e5%be%b5%e9%9b%86-2025-graduation-week-market-vendor-registration-now-open/
LOCATION:桃園校區Taoyuan Campus\, 龜山區德明路5號\, 桃園市\, Taiwan
CATEGORIES:應屆畢業生聯合會
ATTACH;FMTTYPE=image/jpeg:https://events.mcu.edu.tw/wp-content/uploads/2025/04/1230期桃園畢業週電子報配圖.jpg
END:VEVENT
BEGIN:VEVENT
DTSTART;TZID=Asia/Taipei:20250428T090000
DTEND;TZID=Asia/Taipei:20250502T125000
DTSTAMP:20260424T060213
CREATED:20250428T030013Z
LAST-MODIFIED:20250428T030013Z
UID:10001043-1745830800-1746190200@events.mcu.edu.tw
SUMMARY:畢業週市集 Graduation Week Market
DESCRIPTION:剛結束期中考，屬於畢業生的季節正式揭開序幕。114級畢業週市集將於4/28（一）在明園熱鬧登場，活動將連續舉行四天，每日09:00至17:00展開，最後一天5/2（五）則至12:50結束，邀請全校師生前來共襄盛舉。 \n本次畢業週市集每日安排16個攤位，匯聚文創手作、二手寶物及趣味小物等多元內容。不論是尋找獨特紀念品、挖掘物超所值的驚喜，還是單純來場課餘散步放鬆時光，皆能在這片小小市集中找到屬於自己的感動。 \n歡迎師生把握畢業週時光，來明園走走逛逛，留下屬於這段青春的溫暖回憶。 \nWith midterms just wrapped up\, the season dedicated to our graduates has officially begun! 2025 Graduation Week Market will kick off lively festivities on Monday\, April 28 at Ming Garden. The event will run for four consecutive days\, from 09:00 to 17:00 daily. On the final day\, Friday\, May 2\, the market will conclude at 12:50. All faculty and students are warmly invited to join and celebrate together. \nEach day\, the market will feature 16 booths\, offering a vibrant mix of handmade crafts\, secondhand treasures and fun trinkets. Whether you’re looking for a unique souvenir\, hoping to discover hidden gems at great value\, or simply wanting a relaxing stroll between classes\, this little market promises a special moment just for you. \nWe welcome all faculty and students to seize the opportunity during Graduation Week to visit Ming Garden\, take a leisurely walk and create warm memories of this youthful chapter.
URL:https://events.mcu.edu.tw/event/%e7%95%a2%e6%a5%ad%e9%80%b1%e5%b8%82%e9%9b%86-graduation-week-market/
LOCATION:桃園校區Taoyuan Campus\, 龜山區德明路5號\, 桃園市\, Taiwan
CATEGORIES:應屆畢業生聯合會
ATTACH;FMTTYPE=image/jpeg:https://events.mcu.edu.tw/wp-content/uploads/2025/04/1232期畢業週電子報配圖-.jpg
END:VEVENT
BEGIN:VEVENT
DTSTART;TZID=Asia/Taipei:20250505T103000
DTEND;TZID=Asia/Taipei:20250505T160000
DTSTAMP:20260424T060213
CREATED:20250505T072516Z
LAST-MODIFIED:20250505T072516Z
UID:10001066-1746441000-1746460800@events.mcu.edu.tw
SUMMARY:學生會 Student Association｜孝親週 Filial Piety Week
DESCRIPTION:母親節將至，為鼓勵銘傳人表達對母親的感謝之情，台北校區學生會於5/5-5/8一連四天舉辦「孝親週」系列活動，於每日10:30至16:00在自由廣場熱情登場。活動結合手作、遊戲與咖啡香，打造出兼具溫度與趣味的感恩週，邀請全校師生一同參與，向媽媽傳遞暖心心意。 \n今年活動以「讓愛不只是說說而已」為主軸，設置多個體驗攤位，包括手作「毛根花花」，同學可選擇現成花瓣或親手製作，最多組成五朵愛的花束，帶回家送給媽媽傳情達意。現場還有趣味十足的「家事大富翁」，與朋友或工作人員同場競賽，根據指令挑戰任務，率先抵達終點即可獲得限量雀巢KitKat巧克力早餐脆片。 \n除了主題攤位，學生會更邀請咖啡品茗社參與，讓香濃手沖咖啡散發溫馨氛圍，歡迎大家來品味一杯屬於孝親週的「好咖啡」。此外，完成指定任務還有機會獲得KitKat巧克力早餐脆片一盒，好康又好玩。 \n學生會孝親週，邀請大家把感謝化作具體行動，踴躍走出教室，親手做花、挑戰遊戲、喝杯咖啡，把愛帶回家。 \nWith Mother’s Day just around the corner\, the Student Association of Taipei Campus is organizing a four-day “Filial Piety Week” from May 5 to May 8\, to encourage Ming Chuan students to express gratitude to their mothers. The event will take place daily from 10:30 to 16:00 at Liberty Square\, bringing together crafts\, games and the aroma of fresh coffee to create a warm and fun-filled appreciation week. All faculty and students are invited to join in and share heartfelt messages with their moms. \nThis year’s theme\, “Let Love Be More Than Just Words”\, will be showcased through various interactive booths. At the “Pipe Cleaner Flower” station\, students can either assemble pre-made petals or craft their own to create a bouquet of up to five blossoms\, ready to take home as a thoughtful gift. There’s also the fun-filled “Household Chores Monopoly” game\, where participants compete with friends or staff\, complete tasks based on prompts\, and race to the finish line to win a box of Nestlé KitKat Chocolate Cereal—available in limited quantity! \nIn addition to the themed activities\, the Specialty Coffee Club has been invited to brew hand-drip coffee on-site\, filling the area with a warm and inviting aroma. Everyone is welcome to stop by and enjoy a special “Filial Piety Week” cup of coffee. Complete the designated tasks\, and you may even take home a box of KitKat cereal—fun and rewarding! \nJoin us for Filial Piety Week\, where gratitude becomes action—make a flower by hand\, take on a challenge\, sip a cup of coffee and bring your love home.
URL:https://events.mcu.edu.tw/event/%e5%ad%b8%e7%94%9f%e6%9c%83-student-association%ef%bd%9c%e5%ad%9d%e8%a6%aa%e9%80%b1-filial-piety-week/
LOCATION:台北校區Taipei Campus\, 中山北路五段250號\, 台北市\, Taiwan
CATEGORIES:學生會
ATTACH;FMTTYPE=image/jpeg:https://events.mcu.edu.tw/wp-content/uploads/2025/05/1234期學生會孝親週電子報配圖.jpg
END:VEVENT
BEGIN:VEVENT
DTSTART;TZID=Asia/Taipei:20250505T103000
DTEND;TZID=Asia/Taipei:20250508T160000
DTSTAMP:20260424T060213
CREATED:20250505T080355Z
LAST-MODIFIED:20250505T080355Z
UID:10001067-1746441000-1746720000@events.mcu.edu.tw
SUMMARY:福智青年社 Bliss Wisdom Youth Club｜「母親節卡片傳情」活動 “Mother’s Day Card of Gratitude” Event
DESCRIPTION:為了迎接2025年母親節，福智青年社於即日起至5/8（四）12:00舉辦「母親節卡片傳情」的免費活動，鼓勵同學親手書寫卡片，將對母親、家人或重要他人的感謝心意透過文字傳遞出去，讓心意隨著紙筆遠傳。 \n活動設有無人與實體卡片站。無人卡片站已設於圖書館與課指組旁，實體卡片站將設於5/8（四）12:00至13:00在圖書館前廣場，在實體卡片站完成指定條件即可參加一次趣味戳戳樂，就有機會獲得精美小禮物。走過路過千萬別錯過了！ \n同時也有提供國外寄送卡片服務，只需在卡片上註明清楚的國家與地址，即可將卡片寄往海外，將感謝傳達給遠方的家人與親友。不僅是紙筆之間的心意流動，更是重新與內心情感連結的重要時刻。歡迎全校師生踴躍參與，停下腳步，將愛與感謝寫下，用一張卡片說出你未曾說出口的愛與感謝。 \nTo celebrate Mother’s Day 2025\, Bliss Wisdom Youth Club is hosting a free “Mother’s Day Card of Gratitude” event starting now until Thursday\, May 8 at 12:00. Students are encouraged to write heartfelt cards by hand to express their gratitude and appreciation for their mothers\, family members or important loved ones—sending love and gratitude through pen and paper. \nThe event includes both unmanned and in-person card stations. Unmanned card stations are now available near the library and the Curriculum and Instruction Section. A live card station will be set up on Thursday\, May 8 from 12:00 to 13:00 at the library plaza. Those who complete the designated tasks at the in-person station can participate in a fun lucky draw game for a chance to win delightful small gifts—don’t miss it! \nThe event also offers international mailing services. Simply write the correct country and address on the card\, and we’ll help send your message across the globe to loved ones far away. This activity is not only a chance to express your gratitude on paper\, but also an opportunity to reconnect with your inner emotions. \nWe warmly invite all faculty and students to take part—pause for a moment\, put your love and appreciation into words\, and let a simple card speak the affection you’ve always meant to say.
URL:https://events.mcu.edu.tw/event/%e7%a6%8f%e6%99%ba%e9%9d%92%e5%b9%b4%e7%a4%be-bliss-wisdom-youth-club%ef%bd%9c%e3%80%8c%e6%af%8d%e8%a6%aa%e7%af%80%e5%8d%a1%e7%89%87%e5%82%b3%e6%83%85%e3%80%8d%e6%b4%bb%e5%8b%95-mother/
LOCATION:台北校區Taipei Campus\, 中山北路五段250號\, 台北市\, Taiwan
CATEGORIES:福智青年社
ATTACH;FMTTYPE=image/jpeg:https://events.mcu.edu.tw/wp-content/uploads/2025/05/1234期孝親週電子報配圖-.jpg
END:VEVENT
BEGIN:VEVENT
DTSTART;TZID=Asia/Taipei:20250512T100000
DTEND;TZID=Asia/Taipei:20250523T160000
DTSTAMP:20260424T060213
CREATED:20250514T065210Z
LAST-MODIFIED:20250514T065210Z
UID:10001089-1747044000-1748016000@events.mcu.edu.tw
SUMMARY:設計學院 School of Design｜設計月 Design Month—苦盡肝來 Bittersweet Liver Chronicles
DESCRIPTION:設計學院主辦《設計月—苦盡肝來》系列活動於5/12-23在桃園校區明園熱鬧登場。本次活動以「設計人的人生肝肝相照」為主題，透過創意市集、音樂演出、精美週邊與趣味小遊戲，邀請全校師生走進設計人的日常，體驗那些苦中作樂、笑中帶肝的青春時光。 \n活動期間，明園搖身一變成為設計人的「肝苦談」交流地，不僅有學生自製的原創商品，更有多樣限量週邊等你帶回家，件件可愛到令人懷疑人生；還有「草音轟趴」音樂演出，邀請多個社團快閃獻唱，讓明園草地充滿音浪驚喜；另外也設有「抽抽樂」遊戲活動，花小錢就有機會抽中設計月週邊或驚喜大獎。 \n不論是想逛市集尋好物，或是想捕捉設計創意的靈感，都歡迎師生在5/12-23前往桃園校區明園，親身感受設計人的苦甜人生。更多活動詳情可洽設計學院instagram。 \nHosted by School of Design\, the “Design Month — Bittersweet Liver Chronicles” series of events will take place from May 12 to 23 at Ming Garden\, Taoyuan Campus. Centered around the theme “The Daily Grind of Designers\, Bonded by Liver and Laughter”\, the event invites all students and faculty to step into the everyday world of design students—filled with creativity\, joy amid hardship and a humorous take on the sleepless design life. \nDuring this period\, Ming Garden will transform into a vibrant hub for designers to share their “liver tales”. Expect to find a creative market with original student-made goods\, exclusive limited-edition merchandise so adorable they’ll make you question reality\, and “Lawn Sound Party” live music performances featuring spontaneous pop-up acts by various student clubs. The grass field will be pulsing with sound and surprises! \nThere will also be a lucky draw game—spend a little for a chance to win Design Month merchandise or surprise grand prizes. \nWhether you’re browsing for unique items or seeking a spark of design inspiration\, we welcome all faculty and students to visit Ming Garden at Taoyuan Campus from May 12 to 23 and experience the bittersweet yet colorful life of design students. \nFor more event details\, please check School of Design’s Instagram.
URL:https://events.mcu.edu.tw/event/%e8%a8%ad%e8%a8%88%e5%ad%b8%e9%99%a2-school-of-design%ef%bd%9c%e8%a8%ad%e8%a8%88%e6%9c%88-design-month-%e8%8b%a6%e7%9b%a1%e8%82%9d%e4%be%86-bittersweet-liver-chronicles/
LOCATION:桃園校區Taoyuan Campus\, 龜山區德明路5號\, 桃園市\, Taiwan
CATEGORIES:設計學院
ATTACH;FMTTYPE=image/jpeg:https://events.mcu.edu.tw/wp-content/uploads/2025/05/設計月電子報配圖-.jpg
END:VEVENT
BEGIN:VEVENT
DTSTART;TZID=Asia/Taipei:20250530T190000
DTEND;TZID=Asia/Taipei:20250608T210000
DTSTAMP:20260424T060213
CREATED:20250529T010238Z
LAST-MODIFIED:20250529T010238Z
UID:10001258-1748631600-1749416400@events.mcu.edu.tw
SUMMARY:2025桃園管樂嘉年華 Taoyuan Band Festival
DESCRIPTION:「2025桃園管樂嘉年華」邀請何康國博士擔任策展人，以「愛與和平」為策展主題，希望透過音樂節慶平台傳達美好與希望。 \n預計於2025年5月30日至6月8日辦理系列活動，包含5場次大型戶外音樂會（假桃園藝文廣場）及1場次室內售票音樂會（假桃園展演中心展演廳）。 \n國際節目由日本著名指揮家下野竜也（Tatsuya Shimono）大師帶領國際知名的廣島管樂團（Hiroshima Wind Orchestra）首度來台演出，特別委託知名作曲家鍾耀光教授以畢卡索名畫為2025桃園管樂嘉年華打造全新音樂篇章，帶來難得精彩且不可多的精彩演出；為增強節慶氣氛並增添藝文活動層次，會場周邊安排了管樂小舞台暨文創市集，讓民眾能在欣賞小編製的現場管樂表演之餘，還能在文創市集裡享受手工珍品市集的豐富多元，創造一場令人愉悅且身臨其境的音樂體驗之旅。 \n2025 Taoyuan Band Festival proudly invites Dr. Ho Kang-Kuo as curator\, with the theme “Love and Peace”. Through this musical celebration\, the festival aims to share messages of hope and beauty via the universal language of music. \nThe festival will run from May 30 to June 8\, 2025\, featuring a series of events including five large-scale outdoor concerts at Taoyuan Arts Plaza and one indoor ticketed concert at Taoyuan Exhibition Center Performance Hall. \nA highlight of the international lineup includes the first-ever Taiwan performance by the world-renowned Hiroshima Wind Orchestra\, conducted by acclaimed Japanese maestro Tatsuya Shimono. In a special commission for the festival\, esteemed composer Prof. Chung Yiu-Kwong will create a brand-new musical work inspired by Picasso’s masterpieces\, promising a rare and spectacular performance experience. \nTo enrich the festive atmosphere and add cultural depth\, the venue will also feature a Wind Music Mini Stage and a Creative Market\, where visitors can enjoy small ensemble performances and browse a variety of handcrafted goods\, offering an immersive and joyful journey through music and art. \n｜節目表 Program Schedule｜ \n戶外大型音樂會 Outdoor Concerts　地點 Venue：桃園藝文廣場 Taoyuan Arts Plaza（自由入場 Free Admission） \n5/30（五 Fri）19:00 開幕 Opening Concert\n全國社區樂團「桃園群英薈II」 Taoyuan Heroes II – National Community Bands Showcase\n龍潭愛樂管弦樂團／指揮 Conductor：郭聯昌 Kuo Lien-Chang \n5/31（六 Sat）19:00\n指揮大師Bostock × 愛與和平音樂會：「 從桃園擁抱世界 From Taoyuan to the World」\n艾默士管樂團／指揮 Conductor：Douglas Bostock \n6/1（日 Sun）19:00\n亞洲青年管樂匯演「愛與和平之聲 Voices of Love and Peace」\n桃園聯隊+沖繩美東中學吹奏樂部／指揮 Conductor：葉樹涵 Yeh Shu-Han \n6/7（六 Sat）19:00 國際亮點II International Spotlight II\n廣島管樂團「桃園戶外音樂會 Taoyuan Outdoor Concert」\n指揮 Conductor：下野竜也 Tatsuya Shimono \n6/8（日 Sun）19:00 閉幕 Closing Concert\n「時空台灣 Timeless Taiwan」\n桃園交響管樂團／指揮 Conductor：陳玟蓉 Chen Wen-Jung
URL:https://events.mcu.edu.tw/event/2025%e6%a1%83%e5%9c%92%e7%ae%a1%e6%a8%82%e5%98%89%e5%b9%b4%e8%8f%af-taoyuan-band-festival/
LOCATION:桃園藝文廣場\, 桃園區中正路1188號\, 桃園市\, Taiwan
CATEGORIES:桃園市政府文化局
ATTACH;FMTTYPE=image/png:https://events.mcu.edu.tw/wp-content/uploads/2025/05/cb4ab2bf-7577-4221-8629-497a54320a61.png
END:VEVENT
END:VCALENDAR