BEGIN:VCALENDAR
VERSION:2.0
PRODID:-//Events Calendar - ECPv6.8.1//NONSGML v1.0//EN
CALSCALE:GREGORIAN
METHOD:PUBLISH
X-WR-CALNAME:Events Calendar
X-ORIGINAL-URL:https://events.mcu.edu.tw
X-WR-CALDESC:Events for Events Calendar
REFRESH-INTERVAL;VALUE=DURATION:PT1H
X-Robots-Tag:noindex
X-PUBLISHED-TTL:PT1H
BEGIN:VTIMEZONE
TZID:Asia/Taipei
BEGIN:STANDARD
TZOFFSETFROM:+0800
TZOFFSETTO:+0800
TZNAME:CST
DTSTART:20240101T000000
END:STANDARD
END:VTIMEZONE
BEGIN:VEVENT
DTSTART;TZID=Asia/Taipei:20241228T190000
DTEND;TZID=Asia/Taipei:20241229T200000
DTSTAMP:20260420T213614
CREATED:20241216T084940Z
LAST-MODIFIED:20241216T084940Z
UID:10000787-1735412400-1735502400@events.mcu.edu.tw
SUMMARY:《春眠 Sleep in Spring》StudioQ藝術展演計畫 StudioQ Art Performance Project
DESCRIPTION:「你覺得，我多久會忘了這句話？」\n美心的記憶逐漸消退，故事自麗心準備將她送往安養院開始。內斂的麗心和愛捉弄人的美心，這對互補的伴侶，在面對失智症的挑戰中，關係會走向何方？麗心總是想知道，美心何時是真心，何時是在逗弄他；而美心則努力抓住生活中每一個美好瞬間，不願讓那些珍貴的回憶隨風飄散。 \n劇本改編自同名劇本—簡莉穎《春眠》；\n在冬季到來之前，讓我們相聚於此，共同進入一場「春眠」，一同探索記憶與生命的旅程。 \n“How long do you think it will take me to forget this sentence?”\nAs Meixin’s memory gradually fades\, the story begins with Lixin preparing to send her to a care home. The reserved Lixin and the mischievous Meixin\, a complementary couple\, face the challenges of dementia together. What will become of their relationship? Lixin always wonders when Meixin is genuine and when she is teasing him\, while Meixin strives to hold on to every beautiful moment\, unwilling to let those precious memories drift away. \nThe script is adapted from the original play\, Sleep in Spring\, by Jian Li-Ying.\nBefore winter arrives\, let us gather here to enter this “Sleep in Spring” and explore the journey of memory and life together. \n報名 To apply：https://www.accupass.com/eflow/ticket/2411041532378073664570?utm_campaign=accu_theme&utm_medium=home_north&utm_source=Web \n【演出製作團隊 Production Team】 \n劇本改編 Script Adaptation｜洪思語、彭維維 \n導演 Director｜呂婕箏 \n行銷 Marketing｜李沛瑤、洪莯芮 \n製作 Production｜林采融 \n演員 Cast｜李沛瑤、林采融、洪莯芮、彭維維（依姓氏筆畫排序） \n指導老師 Advising Instructor｜王瑋廉 \n指導助教 Assistant Instructor｜蕭新亭 \n  \n舞台設計 Stage Desig｜李沛瑤、呂婕箏 \n舞台技術執行 Stage Technology Execution｜吳冠毅 \n特別感謝 Special Thanks｜王小棣導演、安哲毅導演 \n  \n演出單位 Performance Unit｜維維十七路劇團 \n指導暨主辦單位 Supervised and Organized by｜StudioQ 表演教室
URL:https://events.mcu.edu.tw/event/%e3%80%8a%e6%98%a5%e7%9c%a0-sleep-in-spring%e3%80%8bstudioq%e8%97%9d%e8%a1%93%e5%b1%95%e6%bc%94%e8%a8%88%e7%95%ab-studioq-art-performance-project/
LOCATION:StudioQ表演教室\, 大安區四維路182巷17號\, 台北市\, Taiwan
CATEGORIES:ACCUPASS,StudioQ
ATTACH;FMTTYPE=image/png:https://events.mcu.edu.tw/wp-content/uploads/2024/12/11-1.png
END:VEVENT
BEGIN:VEVENT
DTSTART;TZID=Asia/Taipei:20241227T193000
DTEND;TZID=Asia/Taipei:20241229T170000
DTSTAMP:20260420T213614
CREATED:20241213T025653Z
LAST-MODIFIED:20241213T025653Z
UID:10000773-1735327800-1735491600@events.mcu.edu.tw
SUMMARY:媽，別鬧了！ MOM\, DON’T DO THAT!
DESCRIPTION:改編自同名影集《媽，別鬧了！》與作家陳名珉原著《我媽的異國婚姻》。 \n「女人的婚姻就是事業，離婚就當作資遣，老公掛了就當公司倒閉，沒有人可以阻止我中年就業！」 \n媽媽，泡在熟齡交友網站狂發性感自拍照，積極尋找黃昏之戀； \n妹妹，人稱「渣男收割機」的輕熟女，替爛男友背上鉅額卡債； \n姊姊，身為大齡剩女的言情小說家，看似平靜，思緒卻總停滯在爸爸的最後一天…… \n在失去生命中最重要的男人——丈夫／爸爸之後，母女三人學著勇敢追愛，一起療傷，在成長和戀愛的課題裡，把「自己」找回來。 \n故事工廠2013年，由林佳鋒與黃致凱共同成立。 \n一個堅持說臺灣原創故事的劇團，致力培養專業劇場人才、落實戲劇教育，希冀將一篇篇好故事，帶進臺灣各個角落。 \n在這裡，我們製造感動，製造驚喜，製造有生命的故事。 \nAdapted from the original series Mom\, Don’t Do That! and Chen Ming-Min’s book My Mom’s Intercontinental Marriage. \n“Marriage for women is a career. Divorce is just severance pay\, and if your husband dies\, think of it as the company going bankrupt. No one can stop me from re-entering the workforce in middle age!” \n\nMom: Obsessed with mature dating websites\, she floods them with sultry selfies\, eagerly seeking love in her golden years.\nYounger sister: Known as the “player magnet”\, this modern single woman is stuck paying off her deadbeat boyfriend’s enormous credit card debt.\nOlder sister: A romance novelist and “leftover woman”\, she seems composed but is emotionally frozen\, dwelling on her father’s final day.\n\nAfter losing the most important man in their lives—husband and father—the trio embarks on a journey to rediscover love and heal. Together\, they tackle the challenges of growth and relationships\, ultimately finding themselves. \nFounded in 2013 by Lin Jia-Feng and Huang Zhi-Kai\, Story Works is a theater company devoted to telling Taiwan’s original stories. Committed to developing professional theater talent and fostering drama education\, the group aims to bring moving and vibrant stories to every corner of Taiwan. Here\, we create inspiration\, surprise and stories full of life. \n購票連結 Ticket Link：https://tixfun.com/UTK0201_?PRODUCT_ID=Q01AC520
URL:https://events.mcu.edu.tw/event/%e5%aa%bd%ef%bc%8c%e5%88%a5%e9%ac%a7%e4%ba%86%ef%bc%81-mom-dont-do-that/
LOCATION:臺北市藝文推廣處城市舞台\, 松山區八德路三段25號\, 台北市\, Taiwan
CATEGORIES:城市舞台,臺北市藝文推廣處
ATTACH;FMTTYPE=image/png:https://events.mcu.edu.tw/wp-content/uploads/2024/12/2-1.png
END:VEVENT
END:VCALENDAR