BEGIN:VCALENDAR
VERSION:2.0
PRODID:-//Events Calendar - ECPv6.8.1//NONSGML v1.0//EN
CALSCALE:GREGORIAN
METHOD:PUBLISH
X-WR-CALNAME:Events Calendar
X-ORIGINAL-URL:https://events.mcu.edu.tw
X-WR-CALDESC:Events for Events Calendar
REFRESH-INTERVAL;VALUE=DURATION:PT1H
X-Robots-Tag:noindex
X-PUBLISHED-TTL:PT1H
BEGIN:VTIMEZONE
TZID:Asia/Taipei
BEGIN:STANDARD
TZOFFSETFROM:+0800
TZOFFSETTO:+0800
TZNAME:CST
DTSTART:20240101T000000
END:STANDARD
END:VTIMEZONE
BEGIN:VEVENT
DTSTART;TZID=Asia/Taipei:20241009T183000
DTEND;TZID=Asia/Taipei:20241009T200000
DTSTAMP:20260426T111920
CREATED:20241008T022303Z
LAST-MODIFIED:20241008T022303Z
UID:10000562-1728498600-1728504000@events.mcu.edu.tw
SUMMARY:原住民聯誼社 Indigenous Students Club｜聚會 Gathering
DESCRIPTION:原住民青年們身處外鄉感到孤獨嗎？好朋友就是疲憊生活中的解藥啦！桃銘原住民聯誼社於10／9（三）以及10／23（三）的月亮時間18:30-20:00舉辦聚會，一起來吃喝聊天吧！體育一館韻律教室，忘卻憂愁，先來再說吧！ \nFeeling lonely as an indigenous youth far from home? Good friends are the best remedy for a tiring life! Join Indigenous Students Club for a gathering on Wednesday\, October 9 and Wednesday\, October 23\, from 18:30 to 20:00\, during the “moonlight hours”. Come eat\, drink\, and chat at the Rhythmic Gym Room in the Gym Building 1. Forget your worries\, just show up and enjoy! \n社團 Club Instagram【mcu_ty.isc】
URL:https://events.mcu.edu.tw/event/%e5%8e%9f%e4%bd%8f%e6%b0%91%e8%81%af%e8%aa%bc%e7%a4%be-indigenous-students-club%ef%bd%9c%e8%81%9a%e6%9c%83-gathering/
LOCATION:桃園校區Taoyuan Campus\, 龜山區德明路5號\, 桃園市\, Taiwan
CATEGORIES:原住民聯誼社
ATTACH;FMTTYPE=image/png:https://events.mcu.edu.tw/wp-content/uploads/2024/10/20.png
END:VEVENT
END:VCALENDAR