BEGIN:VCALENDAR
VERSION:2.0
PRODID:-//Events Calendar - ECPv6.8.1//NONSGML v1.0//EN
CALSCALE:GREGORIAN
METHOD:PUBLISH
X-WR-CALNAME:Events Calendar
X-ORIGINAL-URL:https://events.mcu.edu.tw
X-WR-CALDESC:Events for Events Calendar
REFRESH-INTERVAL;VALUE=DURATION:PT1H
X-Robots-Tag:noindex
X-PUBLISHED-TTL:PT1H
BEGIN:VTIMEZONE
TZID:Asia/Taipei
BEGIN:STANDARD
TZOFFSETFROM:+0800
TZOFFSETTO:+0800
TZNAME:CST
DTSTART:20250101T000000
END:STANDARD
END:VTIMEZONE
BEGIN:VEVENT
DTSTART;TZID=Asia/Taipei:20250822T092000
DTEND;TZID=Asia/Taipei:20250822T160000
DTSTAMP:20260425T190250
CREATED:20250729T071834Z
LAST-MODIFIED:20250729T071834Z
UID:10001359-1755854400-1755878400@events.mcu.edu.tw
SUMMARY:3D BASECAMP｜SketchUp 年度國際論壇
DESCRIPTION:報名 To apply：https://www.accupass.com/eflow/ticket/2507141301281272236990
URL:https://events.mcu.edu.tw/event/3d-basecamp%ef%bd%9csketchup-%e5%b9%b4%e5%ba%a6%e5%9c%8b%e9%9a%9b%e8%ab%96%e5%a3%87/
LOCATION:臺北文創大樓\, 信義區菸廠路88號\, 台北市\, Taiwan
CATEGORIES:ACCUPASS,光聯國際股份有限公司
ATTACH;FMTTYPE=image/png:https://events.mcu.edu.tw/wp-content/uploads/2025/07/13.png
END:VEVENT
END:VCALENDAR