BEGIN:VCALENDAR
VERSION:2.0
PRODID:-//Events Calendar - ECPv6.8.1//NONSGML v1.0//EN
CALSCALE:GREGORIAN
METHOD:PUBLISH
X-WR-CALNAME:Events Calendar
X-ORIGINAL-URL:https://events.mcu.edu.tw
X-WR-CALDESC:Events for Events Calendar
REFRESH-INTERVAL;VALUE=DURATION:PT1H
X-Robots-Tag:noindex
X-PUBLISHED-TTL:PT1H
BEGIN:VTIMEZONE
TZID:Asia/Taipei
BEGIN:STANDARD
TZOFFSETFROM:+0800
TZOFFSETTO:+0800
TZNAME:CST
DTSTART:20250101T000000
END:STANDARD
END:VTIMEZONE
BEGIN:VEVENT
DTSTART;TZID=Asia/Taipei:20250322T090000
DTEND;TZID=Asia/Taipei:20250412T120000
DTSTAMP:20260421T180145
CREATED:20250317T041018Z
LAST-MODIFIED:20250317T041018Z
UID:10000962-1742634000-1744459200@events.mcu.edu.tw
SUMMARY:2025 DITL Open House：開啟，設計創新！ Unlocking Design Innovation!
DESCRIPTION:DITL研究室由台科大唐玄輝教授領導，專注於服務設計、用戶體驗與設計創新，致力於將設計思維融入產業應用與社會創新，推動設計的實踐與影響力。 \n研究團隊曾與台灣多家指標性企業與公部門機構合作，執行實務導向的研究與設計專案，成員皆擁有豐富的業界實戰經驗。畢業生遍布科技、金融、商業顧問等領域，DITL以培養兼具設計專業與商業思維的即戰力人才為目標，助力成員提升國際競爭力。 \n如果你是… \n\n想要一窺設計實務，了解設計師在真實場域中的專案經驗與設計過程\n期望提升自我能力，具備與時俱進的設計競爭力\n對新科技發展有興趣，想了解AI革新及其對設計師的影響\n\n不論是學生、設計師，還是UX研究員，都很適合參與這次2025 DITL系列講座！每場講座均包含 講師分享 + 唐玄輝教授QA環節，並提供不限次數的回放觀看，讓你能反覆學習、深入吸收！ \n本次Open House，唐教授與DITL團隊將帶來 體驗設計、體驗戰略、服務創新、AI創新的實戰成果與深度反思。內容涵蓋知名代理商品牌 & 建設公司服務研究案、動物收容所與展演設計案，以及AI在設計應用、體驗策略框架與CX管理的核心洞察。 \nThe DITL Lab\, led by Professor Hsuan-Hui Tang from NTUST\, focuses on service design\, user experience and design innovation. The lab is dedicated to integrating design thinking into industry applications and social innovation\, driving practical design impact. \nOur research team has collaborated with leading Taiwanese enterprises and public sector institutions on industry-driven research and design projects. Team members have extensive hands-on experience\, and our graduates are widely employed in technology\, finance and business consulting industries. At DITL\, we aim to nurture professionals who combine design expertise with business acumen\, equipping them with global competitiveness. \nWho Should Join? \nIf you are…🔹 Interested in real-world design practices\, gaining insights into projects and processes in actual work environments🔹 Looking to enhance your skills and develop competitive design capabilities🔹 Curious about new technologies and eager to explore AI-driven innovations and their impact on designers \nWhether you’re a student\, designer or UX researcher\, the 2025 DITL Lecture Series is perfect for you! Each session includes: \n\nExpert Talks + Live Q&A with Professor Tang\nUnlimited Replay Access for in-depth learning\n\nIn this Open House\, Professor Tang and the DITL team will present insights on experience design\, experience strategy\, service innovation and AI-driven innovation. Case studies include: \n\nBrand & Construction Company Service Research Projects\nAnimal Shelter & Exhibition Design Cases\nAI in Design Applications\, Experience Strategy Frameworks & CX Management\n\n▎ 講座場次資訊 Lecture Sessions \n \n體驗設計：從公共服務到民間企業，體驗設計如何驅動創新且創造價值？ Experience Design: Driving Innovation & Creating Value in Public & Private Sectors \n日期 Date｜3/22（六 Sat） 09:00 – 12:00\n講者 Speakers｜吳子誼 Wolsey、朱家瑤 Jocelyn \nIssue 1. 先釐清「為什麼」再設計，從零到一的全國公共系統設計 Innovating AI Products through Workshops—Case Analysis & Applications\n分享設計團隊如何在前期透過4場需求訪談釐清系統目標、定義關鍵功能，在後期透過驗證訪談進行迭代，最終與資訊廠商協作完成系統開發。 \n\nInsights from DITL’s real-world AI product development workshops\nWorkshop methodologies\, challenges and solutions in AI-driven projects\n\nIssue 2. 從用戶洞察到創新解方：如何透過工作坊引領利害關係人共創突破？ Designer’s Survival Guide in the AI Era—Will AI Replace Us or Make Us Stronger?\n以團隊協助國內指標性企業的兩大創新專案為例，分享設計團隊如何在用戶痛點幾乎不存在的情況下，透過深入的研究洞察與共創工作坊，引導利害關係人實現創新突破，為品牌創造新的價值與可能性。 \n\nHow AI is disrupting the design workflow\nHow AI enhances rapid prototyping and boosts efficiency with no-code tools\nUnderstanding the limits and legal boundaries of AI in design\n\n \nAI創新：設計師如何與AI協作，拓展專業能力邊界？ AI Innovation: How Can Designers Collaborate with AI to Expand Their Expertise? \n日期 Date｜3/29（六 Sat） 09:00 – 12:00\n講者 Speakers｜李淇墉 Alan、蔡岱芸 Alissa \nIssue 1. 從工作坊思考AI產品的創新：案例解析與應用 Define the “Why” Before Designing—From Scratch to a Nationwide Public System\n以DITL團隊協助企業開發的AI產品工作坊實際專案為例，介紹在工作坊中使用的方法、面臨的挑戰以及解決之道。 \n\nHow did the design team conduct four rounds of user research to clarify system goals and define key functions?\nHow did they iterate designs through validation interviews and collaborate with IT vendors for final system development?\n\nIssue 2. AI時代的設計師生存指南：AI會取代我們？還是使我們更強大？ From User Insights to Innovation—How Can Workshops Drive Breakthroughs?\n了解AI如何顛覆設計流程，從快速提案到搭配No Code工具提升專案效率，並深入解析AI在設計領域的極限與法規紅線，助你成為未來設計專業的領航者。 \n\nCase studies of two major innovation projects for leading Taiwanese enterprises\nHow did the design team discover pain points in seemingly problem-free user experiences?\nHow did co-creation workshops help stakeholders break through innovation barriers and create new brand value?\n\n \n體驗戰略：設計如何創造企業價值與市場影響力？ Experience Strategy: How Design Creates Business Value & Market Impact \n日期 Date｜4/12（六 Sat） 09:00 – 12:00\n講者 Speakers｜呂玉惠 Sammi、賴鑫治 Hsin Chih \nIssue 1. 策略構想到設計實踐：設計在服務創新中的實踐之道 From Strategy to Design Implementation—The Role of Design in Service Innovation\n深入探討如何從企業策略轉化為具體的體驗戰略，分享傳統產業識別內外部痛點和發掘服務創新機會，以及如何建立推進設計落地的步驟與方法並取得營收績效。 \n\nHow businesses identify pain points and discover service innovation opportunities\nA step-by-step approach to turning strategy into actionable design solutions\nCase studies of traditional industries leveraging design for revenue growth\n\nIssue 2. 顧客體驗管理的構建與實踐 Building & Implementing Customer Experience (CX) Management\n顧客體驗是企業成長的關鍵，能提升品牌競爭力與顧客忠誠度，講座將透過策略規劃、旅程分析、資料整合和指標設計，建立全面的顧客體驗管理架構，並分享導入CDP初期需要考慮的要點。 \n\nHow CX enhances brand competitiveness and customer loyalty\nStrategic planning\, journey analysis\, data integration and key metric design\nKey considerations for implementing CDP (Customer Data Platform) in businesses\n\n▎ 活動議程 Event Schedule \n08:50 – 09:00  進場 Entry & Check-in \n09:00 – 09:05  活動開場 Opening Remarks \n09:05 – 09:30  演講主題概述 — 唐玄輝 教授 Keynote by Prof. Hsuan-Hui Tang \n09:30 – 10:20  Issue 1. 講座 Lecture \n10:20 – 10:30  中場休息 Break \n10:30 – 11:20  Issue 2. 講座 Lecture \n11:20 – 11:50  總結、Q&A — 唐玄輝 教授 Summary & Q&A with Prof. Tang \n11:50 – 12:00  活動結束 Closing \n報名 To apply：https://www.accupass.com/eflow/ticket/2502230809371730413853 \n▎ 活動參與方式 How to Participate? \n\n本活動為線上舉行，購票後可在票券頁獲取會議室連結。\n活動開始前，請前往報名時填寫的信箱查收您的會議室密碼，以便進入會議室參與活動。\n\n\nThis is an online event. Upon ticket purchase\, you will receive a meeting link on your ticket page.\nBefore the event starts\, check your registered email for the meeting password to join.
URL:https://events.mcu.edu.tw/event/2025-ditl-open-house%ef%bc%9a%e9%96%8b%e5%95%9f%ef%bc%8c%e8%a8%ad%e8%a8%88%e5%89%b5%e6%96%b0%ef%bc%81-unlocking-design-innovation/
LOCATION:線上 Online
CATEGORIES:ACCUPASS,DITL
ATTACH;FMTTYPE=image/png:https://events.mcu.edu.tw/wp-content/uploads/2025/03/11-1.png
END:VEVENT
BEGIN:VEVENT
DTSTART;TZID=Asia/Taipei:20250327T140000
DTEND;TZID=Asia/Taipei:20250327T160000
DTSTAMP:20260421T180145
CREATED:20250325T080238Z
LAST-MODIFIED:20250325T080238Z
UID:10000982-1743084000-1743091200@events.mcu.edu.tw
SUMMARY:世界遊輪環球文旅沙龍 World Cruise Global Cultural Salon
DESCRIPTION:以文藝氛圍濃厚的世界咖啡館為靈感，【世界遊輪環球文旅沙龍】邀請您踏上一場跨越文化與心靈的五感旅程！ \n每月聚焦不同主題，讓您穿梭於各國的旅遊故事與世界文藝體驗的溫暖之中， \n感受遊輪旅遊的獨特魅力，並開啟全新的旅行視野。 \n3月特別活動：漫遊維也納與多瑙河:建築、音樂、藝術與美酒之旅 \n本月主題沙龍，特別邀請到 張凱迪博士，帶領大家探索奧地利的文化與藝術，從歷史悠久的多瑙河沿岸，到音樂與建築交織的維也納，讓您沉浸於歐洲藝術的黃金時代！ \nInspired by the rich literary and artistic ambiance of world-famous cafés\, the World Cruise Global Cultural Salon invites you on a multisensory journey across cultures and beyond! \nEach month\, we focus on a unique theme\, immersing you in global travel stories and cultural experiences\, unveiling the charm of cruise travel and broadening your travel perspectives. \nMarch Special Event: A Journey Through Vienna & the Danube – Architecture\, Music\, Art & Fine Wine \nThis month’s thematic salon features a special guest\, Dr. Kai-Ti Chang\, who will guide us through the cultural and artistic treasures of Austria. From the historic banks of the Danube to Vienna’s grand symphony of music and architecture\, prepare to immerse yourself in the Golden Age of European art! \n內容亮點 \n多瑙河的瓦豪河谷（Wachau）：世界文化遺產的神秘魅力 \n\n史前文化：探索威倫多夫的維納斯石像，見證2.8萬年前的藝術瑰寶\n葡萄酒文化：品味瓦豪河谷的綠維特利納白酒（Grüner Veltliner），體驗奧地利最具代表性的酒莊風情\n建築美學：欣賞巴洛克風華的 梅爾克修道院，走進最美圖書館與教堂建築\n\n維也納與「藍色多瑙河」：帝國、音樂與藝術的交匯 \n\n環城大道（Ringstraße）：漫步奧匈帝國的輝煌建築，感受歐洲皇室的歷史軌跡\n音樂之都：追隨莫札特、貝多芬、約翰史特勞斯的足跡，走進維也納的音樂殿堂\n黃金時代的藝術：解讀克林姆特的經典畫作《吻》，體驗19世紀維也納藝術的顛峰\n\nEvent Highlights \nWachau Valley on the Danube: The Mystical Charm of a UNESCO World Heritage Site \n\n\nPrehistoric Culture: Discover the Venus of Willendorf\, a 28\,000-year-old artistic masterpiece. \n\n\nWine Heritage: Taste the renowned Grüner Veltliner\, Austria’s signature white wine and experience the charm of Wachau Valley’s vineyards. \n\n\nArchitectural Splendor: Admire the Baroque magnificence of Melk Abbey\, home to one of the world’s most stunning libraries and churches. \n\n\nVienna & “The Blue Danube”: The Intersection of Empire\, Music & Art \n\n\nRingstraße (Ring Road): Stroll along the architectural marvels of the Austro-Hungarian Empire\, tracing the legacy of European royalty. \n\n\nCity of Music: Follow in the footsteps of Mozart\, Beethoven\, and Johann Strauss\, and step into Vienna’s legendary music halls. \n\n\nArt of the Golden Age: Explore Gustav Klimt’s masterpiece\, The Kiss\, and experience the artistic pinnacle of 19th-century Vienna. \n\n\n主講者 Featured Speaker｜張凱迪博士 Dr. Kai-Ti Chang \n• 學歷 Education \n維也納應用藝術大學博士、維也納大學藝術史碩士 \n\n\nPh.D.\, University of Applied Arts Vienna \n\n\nM.A. in Art History\, University of Vienna \n\n\n• 現任 Current Roles \n國立台灣藝術大學美術系 & 工藝系兼任助理教授、阿波羅畫廊負責人、中華民國畫廊協會副理事長、藝術產經研究室鑑定鑑價委員、奧地利國家導遊 \n\n\nAdjunct Assistant Professor\, Department of Fine Arts & Crafts\, National Taiwan University of Arts \n\n\nDirector\, Apollo Gallery \n\n\nVice Chairperson\, Taiwan Gallery Association \n\n\nArt Appraisal & Authentication Committee Member\, Art Industry Research Lab \n\n\nCertified National Tour Guide of Austria \n\n\n沉浸式旅行體驗 Immersive Travel Experience \n這場講座不只是知識的饗宴，更是一場心靈的藝術巡禮，讓您在未來的遊輪旅行中，以更深刻的視角感受維也納與多瑙河的文化底蘊。 \nThis lecture is not just a feast of knowledge\, but a profound artistic journey\, allowing you to experience Vienna & the Danube with a deeper cultural perspective on your future cruise adventures. \n活動資訊 Event Details \n活動日期 Date & Time：2025/3/27（四 Thur）14:00-16:00\n活動地點 Venue：台北市 三創生活館 11F Star Rocket咖啡館 Star Rocket Café\, 11/F\, SYNTREND\n活動費用 Fee：每場因座位名額有限，每位酌收特惠價NT$300/person（含下午茶 limited seats available\, includes afternoon tea） \n報名完成請截圖回傳至官方 LINE回傳「327已報名」，才算報名成功！ \n\n\nComplete your registration and take a screenshot. \n\n\nSend the screenshot via official LINE with the message “327 Registered” to confirm your spot! \n\n\n立即加入【世界遊輪聯盟】官方LINE Join the [World Cruise Alliance] official LINE now：https://lin.ee/D3cK1Jm \n這場充滿歐洲文化藝術魅力的沙龍，將帶您展開一場與維也納&多瑙河的深度對話，讓我們一起走進音樂與藝術交織的黃金時代！ \nThis enchanting European cultural salon will take you on a deep exploration of Vienna & the Danube\, diving into the Golden Age of music and art. \n立即報名，一同踏上維也納的文化藝術之旅吧！ \nRegister now and embark on a cultural and artistic journey through Vienna! \n報名 To apply：https://www.accupass.com/eflow/ticket/2502260713181542678523
URL:https://events.mcu.edu.tw/event/%e4%b8%96%e7%95%8c%e9%81%8a%e8%bc%aa%e7%92%b0%e7%90%83%e6%96%87%e6%97%85%e6%b2%99%e9%be%8d-world-cruise-global-cultural-salon/
LOCATION:Star Rocket咖啡館\, 中正區市民大道三段2號11樓\, 台北市\, Taiwan
CATEGORIES:ACCUPASS,世界遊輪聯盟
ATTACH;FMTTYPE=image/png:https://events.mcu.edu.tw/wp-content/uploads/2025/03/30.png
END:VEVENT
BEGIN:VEVENT
DTSTART;TZID=Asia/Taipei:20250329T140000
DTEND;TZID=Asia/Taipei:20250329T170000
DTSTAMP:20260421T180145
CREATED:20250325T061657Z
LAST-MODIFIED:20250325T061657Z
UID:10000980-1743256800-1743267600@events.mcu.edu.tw
SUMMARY:IP經營實戰分享 台日專案經驗談 IP Business Strategies: Insights from Japan and Taiwan
DESCRIPTION:講座介紹 Seminar Introduction \n從日本到台灣：IP經濟如何打造跨文化娛樂產業？ \n在全球內容產業蓬勃發展的時代，如何將創意轉化為具商業價值的IP（智慧財產權），已成為創作者、品牌經營者及企業關注的關鍵議題。 \n日本透過完整的IP產業鏈，成功將動漫、遊戲、音樂、電影等娛樂內容擴展至全球，創造出每年超過20兆日圓的消費市場。 \n然而台灣的創作者與品牌如何借鏡日本的成功模式，找到適合自身發展的IP變現與市場拓展策略？ \n本場講座將結合 《IP 經濟時代：日本娛樂產業進化論》 的核心內容，邀請Fandora共同創辦人 陳勁宇 與 創角數位執行長 羅際明，深入解析 日本IP授權市場的運作模式，並探討台灣在IP商業化、授權市場、營收模式上的機會與挑戰。 \n透過兩位產業專家的實戰經驗，帶領聽眾掌握從創作到商業化、從內容到市場的核心策略。 \nFrom Japan to Taiwan: How Does the IP Economy Shape Cross-Cultural Entertainment Industries? \nIn the thriving global content industry\, transforming creativity into commercially valuable IP (Intellectual Property) has become a key focus for creators\, brand managers and enterprises. \nJapan has successfully expanded its entertainment content—including anime\, games\, music and movies—into a global market through a well-established IP ecosystem\, generating over 20 trillion yen in annual consumer spending. \nBut how can Taiwanese creators and brands learn from Japan’s successful model and develop their own IP monetization and market expansion strategies? \nThis seminar will be based on the key insights from The Era of the IP Economy: The Evolution of Japan’s Entertainment Industry and feature Fandora Co-founder Jin-Yu Chen and Create Digital CEO Jimmy Lo. Together\, they will analyze Japan’s IP licensing market\, explore Taiwan’s opportunities and challenges in IP commercialization\, licensing\, and revenue models\, and share practical industry experiences to help attendees navigate the journey from content creation to commercialization. \n★購票參與活動者可以獲得試閱本電子版 Attendees who purchase a ticket will receive a complimentary digital preview of the book. \n活動資訊 Event Details \n。主辦 Organizers：台灣泛二次元研究學會、識御者 \n。協辦 Co-organizers：出版魯蛇碎碎念、第九星系 \n。活動時間 Date & Time：2025.03.29（六 Sat）14:00－17:00（13:30開放報到 Check-in starts at 13:30） \n。活動地點 Venue：台北市松山區南京東路四段120巷11號8樓 8/F\, No. 11\, Ln. 120\, Sec. 4\, Nanjing E. Rd.\, Songshan Dist.\, Taipei City（台北小巨蛋4號出口 步行5分鐘 5-minute walk from Taipei Arena MRT Station Exit 4） \n報名 To apply：https://www.accupass.com/eflow/ticket/2503041418145895746300?utm_campaign=accu_theme&utm_medium=home_north&utm_source=Web \n活動流程 Event Schedule \n\n\n\n13:30 – 14:00\n報到 Check-in\n\n\n14:00 – 14:05\n開場＆大合照 Opening Remarks & Group Photo\n\n\n14:05 – 14:45\n第一場主講 Session 1: Keynote Speaker\n\n\n14:50 – 15:30\n第二場主講 Session 2: Keynote Speaker\n\n\n15:30 – 15:40\n休息 Break\n\n\n15:40 – 16:40\n講者議題對談 Panel Discussion\n\n\n16:40 – 17:00\nQ & A\n\n\n\n  \n \n講師介紹 About Speakers \n \n陳勁宇｜Fandora共同創辦人 Co-founder of Fandora \n捲毛，本名陳勁宇。邏輯左腦養成於成大物理系，感性右腦養成於成大工設所，漫畫動畫電玩重度愛好者。現為Fandora Shop IP週邊商品變現平台共同創辦人，為知名YT「老高與小茉」的IP化，打造出「五歲抬頭」「抬頭星人」「力Qii」三個IP ，為獨家運營商及代理商。 \nChen Chin-Yu has a background in Physics (National Cheng Kung University) and Industrial Design. A devoted fan of anime\, manga and video games\, he co-founded Fandora Shop\, a leading IP merchandise monetization platform. \nHis expertise includes the IP branding and commercialization of the famous YouTube creators 老高與小茉\, establishing original IPs such as “五歲抬頭”\, “抬頭星人” and “力Qii” as their official operator and agent. \n \n羅際明 Jimmy Lo｜十代目破沙羅 CEO of Create Digital \n創角數位股份有限公司CEO，元角川國際動漫副總、百川計畫12部原創漫畫總編、原創動畫《巫人神傳說》《超限獵兵凱能》編劇導演分鏡師、《網球王子》《我們這一家》《SOUL EATER》旅日手繪動畫師、大宇資訊遊戲企劃、遊戲橘子美術設計、師大附中模動社十代目美工。 \n從小由動漫畫陪伴成長，從故事中的角色教會自己永不放棄的勇氣和找尋夥伴的信念、立志創作出感動自己一樣感人、一樣激勵人心的熱血故事和角色。至今仍致力原創IP的創作開發、矢志不渝。 \n最喜歡的一句話： \n「お前を信じろ、オレが信じるお前でもない、お前が信じるオレでもない、お前が信じるお前を信じろ！！」 \n「相信你自己，不是我相信著的你，也不是你相信著的我，相信那相信你自己的你吧！！」 \nAlso known as Jūdai-me Basara (The 10th Generation Basara)\, Jimmy Lo is a former VP of Kadokawa International Anime and a chief editor of 12 original comics under the Baichuan Project. \nHe has extensive experience in original anime production\, serving as the scriptwriter and storyboard artist for The Legend of Wu Ren Shen and Overlimit Hunter Kanan. Additionally\, he has worked as a hand-drawn animation artist for Prince of Tennis\, Atashin’chi\, SOUL EATER and more. \nHaving grown up with anime and manga\, he was deeply inspired by the characters and their values of perseverance and camaraderie. His lifelong mission is to create original IPs that are as moving and inspirational as the ones that shaped him. \nFavorite Quote: \n\n“Believe in yourself. Not in the ‘you’ that I believe in. Not in the ‘me’ that you believe in. Believe in the ‘you’ that believes in yourself!” \n\n與談人介紹 Panel Moderator \n \n曾慶平 Tseng Ching-Ping（大熊） \n專業文化類活動主持人，擅長記者會、音樂會、簽名會、沙龍講座、脫口秀、映後座談、角色扮演比賽活動主持，也曾擔任競技比賽主播、音樂會導聆…等。擅長漫畫、動畫、電玩、小說、電競、電影、文化領域。 \nA professional host specializing in cultural events\, Tseng has hosted press conferences\, music concerts\, book signings\, salons\, talk shows\, film discussions\, cosplay competitions and esports tournaments. His expertise spans anime\, manga\, video games\, literature\, esports\, film and cultural industries. \n主題書介紹 Featured Book \n \n《IP經濟時代，日本娛樂產業進化論 A Brief History of Entertainment Business》 \n這是一本詳細紀錄並分析過去50年來，日本的娛樂產業是如何透過各種競爭與合作，創造出每年產值超過20兆日元的消費市場。作者以自己身跨產官學的經歷，試圖為日本娛樂產業的智慧財產權發展歷史，做下完整的歷史記錄，並且深入分析其中的成功緣由。 \n這本書中，作者針對「公演」、「電影」、「音樂」、「出版」、「漫畫」、「電視」、「動漫」、「遊戲」和「體育」等9個領域，各別梳理出他們的發展歷史，並詳細解析各個產業是由怎麼樣的人們，在什麼環境被創造發展。並且深入分析，它們是如何建立自身的IP價值與獲利的商業模式。 \nThis book provides a comprehensive analysis of how Japan’s entertainment industry has developed over the past 50 years\, transforming into a 20-trillion-yen market through competition and collaboration. \nThe author\, with experience in both public and private sectors\, thoroughly documents the evolution of Japan’s IP industry\, detailing nine key sectors: \n\nLive performances\nMovies\nMusic\nPublishing\nManga\nTelevision\nAnime\nGaming\nSports\n\nEach chapter explores who built these industries\, how they evolved\, and how they created IP value and revenue models. \n購書請洽 Get Your Copy \n\n誠品線上 Eslite Online：https://pse.is/7256r2\n博客來網路書店 Books.com.tw：https://bookstw.link/725725\n金石堂 Kingstone：https://pse.is/725797
URL:https://events.mcu.edu.tw/event/ip%e7%b6%93%e7%87%9f%e5%af%a6%e6%88%b0%e5%88%86%e4%ba%ab-%e5%8f%b0%e6%97%a5%e5%b0%88%e6%a1%88%e7%b6%93%e9%a9%97%e8%ab%87-ip-business-strategies-insights-from-japan-and-taiwan/
LOCATION:台北市松山區南京東路四段120巷11號8樓\, 松山區南京東路四段120巷11號8樓\, 台北市\, Taiwan
CATEGORIES:ACCUPASS,識御者
ATTACH;FMTTYPE=image/png:https://events.mcu.edu.tw/wp-content/uploads/2025/03/28.png
END:VEVENT
END:VCALENDAR