BEGIN:VCALENDAR
VERSION:2.0
PRODID:-//Events Calendar - ECPv6.8.1//NONSGML v1.0//EN
CALSCALE:GREGORIAN
METHOD:PUBLISH
X-WR-CALNAME:Events Calendar
X-ORIGINAL-URL:https://events.mcu.edu.tw
X-WR-CALDESC:Events for Events Calendar
REFRESH-INTERVAL;VALUE=DURATION:PT1H
X-Robots-Tag:noindex
X-PUBLISHED-TTL:PT1H
BEGIN:VTIMEZONE
TZID:Asia/Taipei
BEGIN:STANDARD
TZOFFSETFROM:+0800
TZOFFSETTO:+0800
TZNAME:CST
DTSTART:20250101T000000
END:STANDARD
END:VTIMEZONE
BEGIN:VEVENT
DTSTART;TZID=Asia/Taipei:20250628T143000
DTEND;TZID=Asia/Taipei:20250628T163000
DTSTAMP:20260420T221714
CREATED:20250612T064026Z
LAST-MODIFIED:20250612T064026Z
UID:10001303-1751121000-1751128200@events.mcu.edu.tw
SUMMARY:綦宗涵 Chyi Tsung-Han《風景畫與心靈療癒 Landscape Painting and Inner Healing》
DESCRIPTION:風景畫不僅是藝術表達，更是一種內在療癒的過程。 \n透過觀察與描繪自然，人們能夠放慢步調，專注於當下，減少焦慮與壓力。 \n色彩的選擇與筆觸的流動，能影響情緒並帶來平靜感。無論是戶外寫生還是室內創作，風景畫都是與大自然連結的一種方式，讓人在視覺與心理層面獲得療癒與啟發。 \nLandscape painting is not only a form of artistic expression but also a process of inner healing. \nBy observing and portraying nature\, individuals can slow down\, stay present\, and ease feelings of anxiety and stress. The choice of colors and the flow of brushstrokes can influence emotions and bring a sense of calm. Whether painting en plein air or indoors\, landscape art offers a way to reconnect with nature—providing both visual and emotional healing and inspiration. \n日期 Date：2025/6/28 14:30~16:30 \n費用 Fee：免費 Free
URL:https://events.mcu.edu.tw/event/%e7%b6%a6%e5%ae%97%e6%b6%b5-chyi-tsung-han%e3%80%8a%e9%a2%a8%e6%99%af%e7%95%ab%e8%88%87%e5%bf%83%e9%9d%88%e7%99%82%e7%99%92-landscape-painting-and-inner-healing%e3%80%8b/
LOCATION:一樓演藝廳\, 松山區八德路三段25號\, 台北市\, Taiwan
CATEGORIES:臺北市藝文推廣處,藝文大樓
ATTACH;FMTTYPE=image/jpeg:https://events.mcu.edu.tw/wp-content/uploads/2025/06/images.jpg
END:VEVENT
BEGIN:VEVENT
DTSTART;TZID=Asia/Taipei:20250628T150000
DTEND;TZID=Asia/Taipei:20250628T170000
DTSTAMP:20260420T221714
CREATED:20250624T072038Z
LAST-MODIFIED:20250624T072038Z
UID:10001328-1751122800-1751130000@events.mcu.edu.tw
SUMMARY:筆觸進化論 The Evolution of Brushstrokes──書法的未來 Ink Beyond Ink
DESCRIPTION:如果沒有了紙墨，書法是否還存在？ If ink and paper no longer exist\, can calligraphy still survive? \n書法，作為東方文化中最具美學深度的書寫藝術，歷經千年紙墨歲月，如今正面臨一場又一場的媒介轉譯浪潮。在數位時代快速變化的創作現場裡，我們應該如何理解「筆觸」？離開實體毛筆與宣紙後，其筆法、節奏、氣韻，是否還能被保留下來？ \nCalligraphy\, one of the most aesthetically profound forms of writing in Eastern culture\, has flourished for centuries through the medium of ink and paper. But today\, it faces wave after wave of media transformation. In an era of rapidly evolving digital creation\, how should we interpret the concept of the “brushstroke”? Without a physical brush or rice paper\, can techniques\, rhythm and expressive energy still be preserved? \n \n \n \n本次講座邀請跨足書法藝術與品牌設計的創作者 簡伯諭，分享他多年來在數位書法領域上的研究與創作經驗，深入探討筆刷的研發邏輯、技術演算背後的筆法基礎，以及那些真實毛筆難以實現的驚人筆跡。 \nThis talk invites Boyu Chien\, a creator bridging calligraphic art and brand design\, to share his years of experience in the field of digital calligraphy. He will explore the development logic behind digital brushes\, the technical algorithms grounded in traditional brush techniques\, and the strikingly expressive strokes made possible by tools beyond the limits of real brushes. \n \n包括數位筆刷如何被應用於藝術計劃與品牌設計中，透過與設計公司合作的應用案例，將書法的法度與節奏，重構為一種在數位媒介中依舊真實可感的書寫體驗。 \n在這個紙本與像素共存、文化與技術互動的時代裡，書法，不只是被保存的遺產，它也正在新生。 \n如果你也熱愛書法，如果你好奇它的下一站會在哪裡，如果你相信，書法的未來比你想的更自由，歡迎一起來探討與交流。 \nThe session will also showcase how digital brushes have been applied to art projects and brand design\, using collaborative case studies with design firms to demonstrate how the structure and rhythm of calligraphy can be reimagined into a digital medium — creating writing experiences that remain authentic and tangible. \nIn this age where paper coexists with pixels\, and culture engages technology\, calligraphy is more than a preserved heritage — it is being reborn. \nIf you love calligraphy\, if you’re curious about where it’s headed next\,if you believe the future of calligraphy is freer than we think —join us for an evening of dialogue and exploration. \n♦♦♦♦♦♦♦♦♦♦♦♦♦♦♦♦♦♦♦♦♦♦♦♦♦♦♦♦♦♦♦♦♦♦♦♦♦ \n \n講者介紹 Speaker Bio\n簡伯諭 Boyu Chien \nB VISION LAB 視平線 創辦人 Founder of B VISION LAB\n身兼藝術家、平面設計師、室內設計師多重身份，作品橫跨平面、空間乃至數位媒體，藝術領域上。多次為我國總統府春聯書法題字，並致力於探索當代書法與新媒介藝術的融合。 \nBoyu Chien is a multidisciplinary creator whose practice spans fine art\, graphic design and interior design. His work extends across print\, spatial and digital media. He has been commissioned multiple times by Taiwan’s Presidential Office to create calligraphy for Lunar New Year couplets and is devoted to exploring the fusion of contemporary calligraphy and new media art. \n♦♦♦♦♦♦♦♦♦♦♦♦♦♦♦♦♦♦♦♦♦♦♦♦♦♦♦♦♦♦♦♦♦♦♦♦♦ \n本場活動適合書法愛好者、設計師、數位創作者，以及對傳統美學與科技交會議題感興趣的觀眾參與，一起從另一個角度認識書法，思考它在當代與未來所能開展的更多可能。 \nThis event is perfect for calligraphy enthusiasts\, designers\, digital creators\, and anyone interested in the intersection of traditional aesthetics and modern technology. Discover calligraphy from a new angle — and reflect on the possibilities it can unfold in the present and the future. \n報名 To apply：https://www.accupass.com/eflow/ticket/2506080754177827725220?utm_campaign=accu_theme&utm_medium=home_north&utm_source=Web
URL:https://events.mcu.edu.tw/event/%e7%ad%86%e8%a7%b8%e9%80%b2%e5%8c%96%e8%ab%96-the-evolution-of-brushstrokes%e2%94%80%e2%94%80%e6%9b%b8%e6%b3%95%e7%9a%84%e6%9c%aa%e4%be%86-ink-beyond-ink/
LOCATION:薄霧書店\, 中正區羅斯福路三段302號3樓\, 台北市\, Taiwan
CATEGORIES:ACCUPASS,薄霧書店
ATTACH;FMTTYPE=image/png:https://events.mcu.edu.tw/wp-content/uploads/2025/06/6-1.png
END:VEVENT
END:VCALENDAR