BEGIN:VCALENDAR
VERSION:2.0
PRODID:-//Events Calendar - ECPv6.8.1//NONSGML v1.0//EN
CALSCALE:GREGORIAN
METHOD:PUBLISH
X-WR-CALNAME:Events Calendar
X-ORIGINAL-URL:https://events.mcu.edu.tw
X-WR-CALDESC:Events for Events Calendar
REFRESH-INTERVAL;VALUE=DURATION:PT1H
X-Robots-Tag:noindex
X-PUBLISHED-TTL:PT1H
BEGIN:VTIMEZONE
TZID:Asia/Taipei
BEGIN:STANDARD
TZOFFSETFROM:+0800
TZOFFSETTO:+0800
TZNAME:CST
DTSTART:20250101T000000
END:STANDARD
END:VTIMEZONE
BEGIN:VEVENT
DTSTART;TZID=Asia/Taipei:20251001T090000
DTEND;TZID=Asia/Taipei:20251017T213000
DTSTAMP:20260425T074551
CREATED:20251003T035932Z
LAST-MODIFIED:20251003T035932Z
UID:10001446-1759309200-1760736600@events.mcu.edu.tw
SUMMARY:占星社 Astrology Study Club｜手作魔法香氛蠟燭 DIY Magical Aromatherapy Candle Workshop
DESCRIPTION:台北校區占星社將於本學期推出第一個活動，在10/17（五）18:30-21:30於B404教室舉辦「魔法蠟燭」手作活動。活動結合精油香氛與星座屬性，邀請對香氛蠟燭感興趣的同學們一同動手實作，親手打造一顆專屬於自己的「All Pass」蠟燭，為新學期的學習時光帶來療癒與祝福。 \n此次「魔法蠟燭」手作活動不僅是單純的手作體驗，活動內容將包含香氛蠟燭的基礎知識介紹與實作環節，參與者可以依照個人需求，調配獨特的香味與蠟燭屬性。占星社希望透過香氛與星座屬性的結合，引導參加者在製作過程中探索自我、放鬆心靈，讓更多同學在繁忙的校園生活中找到片刻的寧靜與療癒，將溫暖的香氣與光影帶回日常。 \n本次活動費用包含蠟燭材料及講義，收費標準為：社員NT$650、非社員NT$800、校外人士NT$1\,000。占星社提醒，由於名額有限，報名於10/2（四）截止，請所有已報名的同學務必於10/16（四）前完成繳費，才算報名成功。同學們可透過社團提供的連結或QR code，掌握後續活動細節。 \n更多活動詳情，請洽占星社Instagram粉專【zhanxingshez】，報名表單請點此連結。 \nTaipei Campus Astrology Study Club is excited to launch its first event of the semester: the “Magical Candle” DIY Workshop. The event will take place on Friday\, October 17\, from 18:30 to 21:30 in B404. This hands-on workshop combines essential oil fragrances with zodiac attributes\, inviting students who are interested in aromatherapy candles to create their very own “All Pass” candle—a unique charm to bring healing and blessings for the new semester. \nThis workshop goes beyond a simple craft activity. Participants will be introduced to the basics of candle-making\, followed by a guided DIY session. Each student will be able to customize their candle with a fragrance blend and attributes tailored to their personal needs. By weaving together the power of scents and zodiac traits\, the Astrology Study Club hopes to guide participants in exploring themselves\, relaxing their minds\, and finding moments of calm amidst a busy campus life—carrying the warmth of light and fragrance back into their daily routines. \nThe activity fee covers all candle-making materials and workshop handouts. \n\n\nClub members: NT$650 \n\n\nNon-members: NT$800 \n\n\nOff-campus participants: NT$1\,000 \n\n\nAs spots are limited\, registration will close on Thursday\, October 2. Please note that only those who complete payment by Thursday\, October 16 will be considered successfully registered. Further event details will be shared through the club’s official link or QR code. \nFor more information\, please visit Astrology Study Club’s Instagram page: @zhanxingshez.Registration form: click here to sign up
URL:https://events.mcu.edu.tw/event/%e5%8d%a0%e6%98%9f%e7%a4%be-astrology-study-club%ef%bd%9c%e6%89%8b%e4%bd%9c%e9%ad%94%e6%b3%95%e9%a6%99%e6%b0%9b%e8%a0%9f%e7%87%ad-diy-magical-aromatherapy-candle-workshop/
LOCATION:台北校區Taipei Campus\, 中山北路五段250號\, 台北市\, Taiwan
CATEGORIES:占星社
ATTACH;FMTTYPE=image/jpeg:https://events.mcu.edu.tw/wp-content/uploads/2025/10/1246candles-.jpg
END:VEVENT
BEGIN:VEVENT
DTSTART;TZID=Asia/Taipei:20251003T090000
DTEND;TZID=Asia/Taipei:20251008T210000
DTSTAMP:20260425T074551
CREATED:20251003T064539Z
LAST-MODIFIED:20251003T064539Z
UID:10001450-1759482000-1759957200@events.mcu.edu.tw
SUMMARY:福智青年社 Bliss Wisdom Youth Club｜漫時光·靜心手作馬賽克杯墊 Serene Moments: DIY Mosaic Coaster Workshop
DESCRIPTION:在課業與生活的忙碌之間，多久沒有靜下心來感受片刻的安定？桃園校區福智青年社將於10/8（三）18:00在M402舉辦「漫時光·靜心手作馬賽克杯墊」活動，邀請同學一邊享用晚餐，一邊在19:00展開DIY手作課程，體驗放慢步調的輕鬆時光。 \n活動提供免費參與機會，並讓同學能親手完成一個專屬的馬賽克杯墊帶回收藏。透過拼貼創作的過程，參與者不僅能嘗試手作的樂趣，還能在過程中沉澱心靈，為忙碌的校園生活增添一份療癒與專注。 \n此外，名額有限，有興趣的同學須提前私訊福智青年社Instagram完成報名，以確保參與資格。這場特別的手作課程，不僅讓大家帶走獨一無二的作品，也希望每位參加者能收穫片刻的放鬆與心靈平靜。更多活動資訊請洽桃園銘傳福智青年社Instagram【bwy_ty_mcu】。 \nAmidst the busyness of classes and daily life\, when was the last time you truly paused and felt a sense of calm? Bliss Wisdom Youth Club at Taoyuan Campus warmly invites you to join our event\, “Serene Moments: DIY Mosaic Coaster Workshop”\, on Wednesday\, October 8\, at 18:00 in M402. Enjoy dinner together first\, and then at 19:00\, immerse yourself in a relaxing DIY session designed to help you slow down and unwind. \nThis event is free of charge and offers each participant the chance to create and bring home a personalized mosaic coaster. Through the process of piecing together your design\, you’ll not only experience the joy of handcrafting but also find a moment of mindfulness—adding a touch of calm and focus to your busy campus life. \nPlease note: Spots are limited! To secure your place\, make sure to register in advance by sending a DM to Bliss Wisdom Youth Club’s Instagram. \nThis special workshop isn’t just about creating a unique craft to take home—it’s also about giving yourself a well-deserved break and embracing a peaceful state of mind. \nFor more details\, visit our Instagram @bwy_ty_mcu.
URL:https://events.mcu.edu.tw/event/%e7%a6%8f%e6%99%ba%e9%9d%92%e5%b9%b4%e7%a4%be-bliss-wisdom-youth-club%ef%bd%9c%e6%bc%ab%e6%99%82%e5%85%89%c2%b7%e9%9d%9c%e5%bf%83%e6%89%8b%e4%bd%9c%e9%a6%ac%e8%b3%bd%e5%85%8b%e6%9d%af%e5%a2%8a-serene/
LOCATION:桃園校區Taoyuan Campus\, 龜山區德明路5號\, 桃園市\, Taiwan
CATEGORIES:福智青年社
ATTACH;FMTTYPE=image/jpeg:https://events.mcu.edu.tw/wp-content/uploads/2025/10/1246bwy.jpg
END:VEVENT
BEGIN:VEVENT
DTSTART;TZID=Asia/Taipei:20251004T210000
DTEND;TZID=Asia/Taipei:20251005T030000
DTSTAMP:20260425T074551
CREATED:20251002T025125Z
LAST-MODIFIED:20251002T025125Z
UID:10001443-1759611600-1759633200@events.mcu.edu.tw
SUMMARY:晶透月色 Crystal Moonlight｜Bar Chantèr 中秋節月餅手作 Mid-Autumn Snowy Mooncake Workshop
DESCRIPTION:冰晶月餅手作 Snowy Mooncake Making｜誰說月餅一定要配茶？配酒行不行 Who says mooncakes must go with tea? Why not pair them with cocktails? \n每年中秋，大家總是邊剝柚子邊配茶吃月餅。 \n但是，誰規定月餅只能配茶？ \n這次我們就來一點大膽的組合： \n冰晶月餅 × 調酒 \n在 Bar Chantèr 的手作課裡， \n你不只會親手做出晶瑩剔透、入口即化的冰皮月餅， \n還能現場搭配我們為中秋節設計給月餅的特製調酒， \n體驗「月餅 × 酒」的全新靈感組合。 \nEvery Mid-Autumn Festival\, we peel pomelos and sip tea while eating mooncakes.But who decided mooncakes can only go with tea? \nThis year\, let’s try something bold: \nSnowy Mooncakes × Cocktails \nAt Bar Chantèr’s hands-on workshop\,you won’t just learn how to make crystal-clear\, melt-in-your-mouth snowy mooncakes\,but also enjoy cocktails specially crafted to pair with them—a brand-new experience of mooncake × mixology. \n活動亮點 Event Highlights \n\n學會冰晶月餅製作技巧\n每位參加者都能做出專屬自己的口味與造型\n調酒師現場搭配月餅，顛覆你的味蕾印象\n中秋限定氛圍，最適合揪朋友、情侶一起參加\n\n\n\nLearn the art of making snowy mooncakes from scratch \n\n\nCreate your own unique flavors and designs \n\n\nTaste innovative pairings with cocktails crafted by our bartender \n\n\nMid-Autumn exclusive vibe—perfect for friends\, couples\, and festive gatherings \n\n\n活動資訊 Event Info \n地點 Venue｜Bar Chantèr_台南市中西區忠義路二段81號 No. 81\, Sec. 2\, Zhongyi Rd.\, West Central Dist.\, Tainan City \n日期 Date｜2025/10/4（六 Sat） \n時間 Time｜21:00-03:00（10/5） \n票價 Fee｜NT$300（含價值$320指定飲品一杯＋製作月餅全套材料 includes one designated drink worth NT$320 + full set of mooncake-making materials） \n報名 To apply｜https://www.accupass.com/eflow/ticket/2509160602341026005763 \n月餅不只是一口甜， \n更是分享的開始。 \n這次，讓我們舉杯，把中秋過得更浪漫、更好玩！ \n名額有限，歡迎預約報名～ \n喝酒請勿開車、未滿18歲請勿飲酒！ \nMooncakes are more than just a sweet bite—they’re the beginning of sharing. \nThis Mid-Autumn\, let’s raise our glasses and make the festival more romantic\, more fun!Spots are limited\, so be sure to reserve in advance! \nReminder: Don’t drink and drive. Alcohol is prohibited for those under 18. \n為什麼一定要來 Chantèr 手作月餅？ Why join Bar Chantèr’s Mooncake Workshop? \n\n在溫暖又有個性的酒吧氛圍裡，體驗節氣傳統\n把親手做的月餅帶回家，與親友分享\n享受價值超過票價的體驗\n手作交流＋微醺放鬆，結交同好新朋友\n小而美的溫馨場次，名額有限，錯過等明年（明年會不會有還不知道呢😂）\n\n\n\nExperience traditional culture in the cozy\, stylish atmosphere of a bar \n\n\nBring home mooncakes you’ve crafted yourself and share them with loved ones \n\n\nEnjoy a workshop worth more than the ticket price \n\n\nConnect with like-minded friends through hands-on making and relaxing drinks \n\n\nA warm\, intimate gathering with limited seats—miss it and you may have to wait until next year (if it even comes back 😂)
URL:https://events.mcu.edu.tw/event/%e6%99%b6%e9%80%8f%e6%9c%88%e8%89%b2-crystal-moonlight%ef%bd%9cbar-chanter-%e4%b8%ad%e7%a7%8b%e7%af%80%e6%9c%88%e9%a4%85%e6%89%8b%e4%bd%9c-mid-autumn-snowy-mooncake-workshop/
LOCATION:Bar Chantèr\, 中西區忠義路二段81號\, 台南市\, Taiwan
CATEGORIES:ACCUPASS,晨令娛樂
ATTACH;FMTTYPE=image/png:https://events.mcu.edu.tw/wp-content/uploads/2025/10/3.png
END:VEVENT
END:VCALENDAR