BEGIN:VCALENDAR
VERSION:2.0
PRODID:-//Events Calendar - ECPv6.8.1//NONSGML v1.0//EN
CALSCALE:GREGORIAN
METHOD:PUBLISH
X-WR-CALNAME:Events Calendar
X-ORIGINAL-URL:https://events.mcu.edu.tw
X-WR-CALDESC:Events for Events Calendar
REFRESH-INTERVAL;VALUE=DURATION:PT1H
X-Robots-Tag:noindex
X-PUBLISHED-TTL:PT1H
BEGIN:VTIMEZONE
TZID:Asia/Taipei
BEGIN:STANDARD
TZOFFSETFROM:+0800
TZOFFSETTO:+0800
TZNAME:CST
DTSTART:20240101T000000
END:STANDARD
END:VTIMEZONE
BEGIN:VEVENT
DTSTART;TZID=Asia/Taipei:20241015T090000
DTEND;TZID=Asia/Taipei:20241025T170000
DTSTAMP:20260425T074343
CREATED:20241014T081517Z
LAST-MODIFIED:20241014T081517Z
UID:10000580-1728982800-1729875600@events.mcu.edu.tw
SUMMARY:Cross Connections 2024交響國際設計聯展 世界巡迴台灣站在銘傳大學 International Exhibition & Competition of Visual Communication Design & Emerging Media Design
DESCRIPTION:全球設計學界最具影響力的跨國學術交流活動「Cross Connections 2024交響國際設計聯展」，世界巡迴展台灣站在銘傳大學，10／15-25在銘傳大學桃園校區設計大樓一樓中庭盛大開展，精選來自全球國際知名藝術與設計相關大學師生174件作品參展，包括100件平面設計印刷作品與74件互動數位影片作品，台灣與美洲、歐洲、亞洲各地無時差同步展出。 \n「Cross Connections 2024交響國際視覺傳播設計和新興媒體設計展覽和競賽」，由美國德克薩斯大學里奧格蘭德河谷分校（UTRGV）、國際藝術與科學博物館（IMAS）和布朗斯維爾美術館（BMFA）共同策劃主辦，匯集來自全球20所國際知名藝術與設計相關大學師生共525件作品參賽，經過一系列評選展覽、設計比賽，最終精選出174件作品展出，其中，銘傳大學數位媒體設計學系教師有8件作品入選，包括1件作品獲得銀獎4件作品獲得榮譽獎：鄧博澍老師《Mosasaur’s Killing Fields》榮獲設計比賽銀獎、評選展覽榮譽獎；詹仕鑑老師《Taoist Totem》及林東勇老師《Jiuyi Tribe》分別獲得評選展覽榮譽獎；黃思彧老師《Oblivion》獲設計比賽榮譽獎；此外，章耀勳、吳昭蓉、施美如、馬慈均等4位老師的作品亦獲得入選。 \nThe globally influential academic exchange event in the design world\, Cross Connections 2024 International Exhibition\, is making a stop in Taiwan at MCU. From October 15 to 25\, the exhibition will be held in the first-floor atrium of the Design Building on Taoyuan Campus\, showcasing 174 selected works from renowned art and design universities worldwide. The exhibition features 100 graphic design print works and 74 interactive digital video pieces\, synchronously displayed across Taiwan\, the Americas\, Europe\, and Asia. \nThe Cross Connections 2024 International Visual Communication Design and Emerging Media Design Exhibition and Competition is organized by University of Texas Rio Grande Valley (UTRGV)\, the International Museum of Art & Science (IMAS) and the Brownsville Museum of Fine Art (BMFA). It gathered 525 entries from students and faculty of 20 international art and design universities. After a rigorous selection process\, 174 works were chosen for the exhibition\, including eight works from faculty members of MCU’s Department of Digital Media Design. Among them\, Teng Poshu’s “Mosasaur’s Killing Fields” won a Silver Award and an Honorable Mention\, while four other works received Honorable Mentions. \n銘傳數媒系鄧博澍老師《Mosasaur’s Killing Fields》榮獲設計比賽銀獎、評選展覽榮譽獎 Professor Teng Poshu’s “Mosasaur’s Killing Fields” from MCU’s Digital Media Department won the Silver Award and an Honorable Mention in the design competition.\n全球設計學界的國際交流活動「Cross Connections 2024交響國際設計聯展」，今年邁入第四屆，展示來自全球20所國際設計院校師生的優秀作品，參與展覽與競賽國際院校，包括北美：美國加州州立理工大學、奧克拉荷馬州立大學、芝加哥藝術學院、德州農工大學科珀斯克里斯蒂分校、杜魯門州立大學、明尼蘇達大學雙城分校、德克薩斯大學阿靈頓分校、德克薩斯大學里奧格蘭德河谷分校、威斯康辛大學密爾沃基分校、墨西哥莫雷洛斯州自治大學、普埃布拉美洲大學；歐洲：葡萄牙卡瓦多與阿維理工學院、比利時LUCA藝術學院；亞洲：銘傳大學、國立台灣藝術大學、韓國漢陽大學、中國中央美術學院、魯迅美術學院、上海美術學院、四川美術學院。 \n本展覽除在德克薩斯州立大學里奧格蘭德河谷分校（UTRGV）、國際藝術與科學博物館（IMAS）和布朗斯維爾美術館（BMFA）實體展出外，世界巡迴聯展台灣站，10/15-25在銘傳大學桃園校區設計學院一樓中庭舉辦，並將於10／23（三）中午12點舉辦開幕儀式，歡迎喜歡欣賞藝術作品的民眾、銘傳大學師生一同出席開幕共享盛宴。 \nThe exhibition marks the fourth edition of Cross Connections\, featuring outstanding works from students and faculty of 20 international design schools. Participating institutions include prominent schools from North America\, Europe\, and Asia\, such as California State Polytechnic University\, Oklahoma State University\, The School of the Art Institute of Chicago\, Texas A&M University-Corpus Christi and LUCA School of Arts in Belgium\, as well as MCU\, National Taiwan University of Arts and Hanyang University in South Korea. \nIn addition to its physical exhibitions at UTRGV\, IMAS and BMFA\, the world tour of Cross Connections makes its Taiwan stop from October 15 to 25 at Taoyuan campus of MCU. An opening ceremony will be held on Wednesday\, October 23\, at 12:00. We warmly welcome art enthusiasts\, as well as MCU faculty and students\, to join us in celebrating this grand occasion!
URL:https://events.mcu.edu.tw/event/cross-connections-2024%e4%ba%a4%e9%9f%bf%e5%9c%8b%e9%9a%9b%e8%a8%ad%e8%a8%88%e8%81%af%e5%b1%95-%e4%b8%96%e7%95%8c%e5%b7%a1%e8%bf%b4%e5%8f%b0%e7%81%a3%e7%ab%99%e5%9c%a8%e9%8a%98%e5%82%b3%e5%a4%a7/
LOCATION:桃園校區Taoyuan Campus\, 龜山區德明路5號\, 桃園市\, Taiwan
CATEGORIES:新媒體暨傳播管理學系
ATTACH;FMTTYPE=image/jpeg:https://events.mcu.edu.tw/wp-content/uploads/2024/10/cc2024-拷貝-1400x600-1.jpg
END:VEVENT
BEGIN:VEVENT
DTSTART;TZID=Asia/Taipei:20241018T190000
DTEND;TZID=Asia/Taipei:20241018T203000
DTSTAMP:20260425T074343
CREATED:20240923T085918Z
LAST-MODIFIED:20240923T085918Z
UID:10000518-1729278000-1729283400@events.mcu.edu.tw
SUMMARY:設計交流之夜 Design Exchange Night｜從材料延展 Exploring Materiality feat. 偶然設計 曾令理、 向罕設計 許向罕
DESCRIPTION:設計交流之夜 ，我們從材料出發，與講者共同探索在不同領域中的可能性。本次邀請到曾令理 策展人 以及 許向罕 設計師，從不同的作品尺度、新竹到台灣，乃至國際社會上，不同領域的兩位講者，但卻在某些狀態下交叉，找到共通點。 \n精選過去作品，分享設計發想的脈絡以及創作過程的故事，透過一件件的作品，看見兩位講者眼中的材料性。 \nAt Design Exchange Night\, we will explore the possibilities of materiality across different fields with our guest speakers. We are excited to welcome Tseng Ling-Li\, curator and Hsu Hsiang Han\, designer\, to share insights into their works\, ranging from small-scale designs to large international projects. Although they come from different domains—Tseng from curatorial and spatial design\, and Hsu from industrial design—their work intersects in unique ways\, finding common ground in their approach to materiality. \nThrough a selection of their past works\, both speakers will delve into the creative processes and stories behind their designs\, giving us a glimpse of how they view the potential of materials. \n講者介紹 Speaker Introductions \n曾令理 Tseng Ling-Li 偶然設計Serendipity Studio 共同發起人 Co-founder of Serendipity Studio \n \n擅長空間創作與裝置藝術，作品風格與尺度不限。畢業於東海大學建築學系，先後在美國庫柏聯盟、哈佛大學完成建築與科技設計碩士學位。自2016年起與友人共同發起偶然設計，連結不同的創作者跨域共同協作。 \n現任國立陽明交通大學建築研究所助理教授，創作跨界於理工與藝術之間、夢幻與務實之際，致力於公共美學的啟發性。近年來多次策畫公共性展覽，「台灣文博會-花蓮館」與「新北山河陣」榮獲德國紅點最佳設計獎Best of the Best。2023年更代表台灣參加倫敦設計雙年展，從40多個國家單位中拿下年度最佳設計Best Design Medal的殊榮。 \nTseng Ling-Li is known for spatial creation and installation art with no set limitations in style or scale. After graduating from Tunghai University’s Department of Architecture\, she pursued further studies at Cooper Union and Harvard University\, earning a Master’s degree in Architecture and Technology. In 2016\, Tseng co-founded Serendipity Studio\, which facilitates cross-disciplinary collaborations with various creators. \nCurrently an assistant professor at National Yang Ming Chiao Tung University’s Institute of Architecture\, Tseng’s work straddles the fields of science and art\, as well as fantasy and practicality. She is dedicated to inspiring public aesthetics\, having curated numerous public exhibitions. Her curations\, such as “Hualien Pavilion at Taiwan Creative Expo” and “New Taipei Shan He Zhen” have won the prestigious Red Dot Best of the Best Award. In 2023\, she represented Taiwan at the London Design Biennale and was awarded the Best Design Medal among participants from over 40 countries. \n許向罕 Hsu Hsiang Han 向罕設計創辦人 Founder of Hsiang Han Design \n \n許向罕設計師來自工業設計背景，出生於台灣，工作室設立於台北。創作理念從自然中找尋靈感，透過探索設計、製程、材質之間的連結性，藉此創造設計物件與藝術創作的全新可能性與價值。 \n工作室多年來與國內外單位合作：義大利Cappellini、Caimi品牌、台灣W春池計畫、Unobject、琉園品牌、米蘭Rossana Orlandi藝廊、Rinascente百貨、杜林CRAG Home Gallery藝廊、台北Restaurant A餐廳、台中璞真建設勤美之森、工研院…等，藉由研究不同產業製程與材質：塑膠、3D列印、玻璃、金屬、布料、木、大理石、陶瓷、電子…等，來進行設計藝術創作，其領域包含家具、燈飾、工業產品、雕塑、藝術裝置。 \n作品曾參與米蘭設計週、米蘭三年館、ADI義大利工業設計博物館、巴黎Maison & Objet、德國KHALIL Design Week、日本DESIGNART Tokyo、台灣設計展、台灣文博會工藝館、新竹春室展、新竹玻璃設計藝術節展出，以及米蘭衛星展博物館永久館藏。 \n曾榮獲獎項：台灣金點設計獎、義大利RoPlastic Prize、A’Design Award、德國BraunPrize、iF Design Award、Red Dot Design Award、美國IDEA。 \nHsu Xiang-Han comes from an industrial design background and is based in Taipei. His creative philosophy draws inspiration from nature\, and his works explore the relationship between design\, processes\, and materials\, creating new possibilities and values for design objects and artistic creations. \nHis studio has collaborated with international and domestic brands\, including Italy’s Cappellini and Caimi\, Taiwan’s W Spring Pool Glass\, Unobject\, Liu Li Gong Fang\, Rossana Orlandi Gallery in Milan\, Rinascente Department Store\, CRAG Home Gallery in Turin\, Restaurant A in Taipei\, and various others. Hsu’s research into different industries and materials such as plastics\, 3D printing\, glass\, metals\, textiles\, wood\, marble\, ceramics\, and electronics\, informs his design and artistic creations across fields like furniture\, lighting\, industrial products\, sculpture\, and installations. \nHsu’s works have been featured at numerous exhibitions\, including Milan Design Week\, Maison & Objet in Paris\, KHALIL Design Week in Germany\, and DESIGNART Tokyo. His pieces have also been showcased in Taiwan’s Craft Pavilion at the Creative Expo\, and Hsinchu Glass Art Festival\, with some included in the permanent collection of the Milan Satellite Museum. \nHsu has received various awards\, including the Golden Pin Design Award\, RoPlastic Prize in Italy\, A’Design Award\, iF Design Award\, and the Red Dot Design Award. \n講座時地及須知 Lecture Details and Information \n❚日期及時間 Date & Time：10／18（五 Friday）19:00~20:30 \n❚地點 Venue：新竹市北區經國路二段100號11樓【森SPACE】 11/F\, No. 100\, Sec. 2\, Jingguo Rd.\, North Dist.\, Hsinchu City \n❚費用 Fee（包含講師、場地、飲品費用 includes lecturer\, venue\, and drinks）：NT$350／人 person \n❚報名注意事項 Registration Notice：主辦方有權改期或取消活動 The organizer reserves the right to reschedule or cancel the event \n❚停車資訊 Parking：正門口對面全聯樓上有公有停車場 Public parking is available above the PX Mart across the street from the main entrance \n❚講座參加注意事項 Photography and Video Notice：請注意，本次活動將會全程錄影拍照，如果您選擇參加活動即代表您，授權森學及其合作夥伴得以永遠於各種媒體上使用您的肖像權。 The event will be recorded and photographed. By attending\, you grant Sen SPACE and its partners the right to use your image across various media. \n報名 To apply：https://www.accupass.com/eflow/ticket/2409130150131391549189 \n活動相關問題洽詢，請加 For any inquiries regarding the event\, please contact 森SPACE LINE官方帳號 \n活動場地 About the Venue \n森SPACE \n「MUJI RENOVATION空間改造企劃」打造全台第一間共享辦公室 森SPACE is Taiwan’s first co-working space created under the “MUJI Renovation Project”. \n11F開放共享層以「口袋」概念來做空間的圍塑，提供軟性隔間窗簾，全部拉上就是獨立空間，若是打開則可開放多人共享，創造出各種不同的工作樣貌，改變共用空間，將新竹地方文化注入深厚的人文藝術DNA。 \nThe 11th-floor shared space is designed with a “pocket” concept\, allowing flexible use of the area. When curtains are drawn\, it transforms into individual spaces; when open\, it becomes a shared\, collaborative environment. The venue is infused with local Hsinchu culture\, creating a rich artistic atmosphere.
URL:https://events.mcu.edu.tw/event/%e8%a8%ad%e8%a8%88%e4%ba%a4%e6%b5%81%e4%b9%8b%e5%a4%9c-design-exchange-night%ef%bd%9c%e5%be%9e%e6%9d%90%e6%96%99%e5%bb%b6%e5%b1%95-exploring-materiality-feat-%e5%81%b6%e7%84%b6%e8%a8%ad%e8%a8%88/
LOCATION:森SPACE\, 北區經國路二段100號\, 新竹市\, Taiwan
CATEGORIES:森學
ATTACH;FMTTYPE=image/png:https://events.mcu.edu.tw/wp-content/uploads/2024/09/23-1.png
END:VEVENT
END:VCALENDAR