BEGIN:VCALENDAR
VERSION:2.0
PRODID:-//Events Calendar - ECPv6.8.1//NONSGML v1.0//EN
CALSCALE:GREGORIAN
METHOD:PUBLISH
X-WR-CALNAME:Events Calendar
X-ORIGINAL-URL:https://events.mcu.edu.tw
X-WR-CALDESC:Events for Events Calendar
REFRESH-INTERVAL;VALUE=DURATION:PT1H
X-Robots-Tag:noindex
X-PUBLISHED-TTL:PT1H
BEGIN:VTIMEZONE
TZID:Asia/Taipei
BEGIN:STANDARD
TZOFFSETFROM:+0800
TZOFFSETTO:+0800
TZNAME:CST
DTSTART:20250101T000000
END:STANDARD
END:VTIMEZONE
BEGIN:VEVENT
DTSTART;TZID=Asia/Taipei:20250516T210000
DTEND;TZID=Asia/Taipei:20250519T010000
DTSTAMP:20260425T074349
CREATED:20250225T062950Z
LAST-MODIFIED:20250225T062950Z
UID:10000922-1747429200-1747616400@events.mcu.edu.tw
SUMMARY:2025 Taipei Andaya Latin Festival 台北安達亞拉丁舞蹈節
DESCRIPTION:安達亞拉丁舞蹈節 2025：我們畢業了！ Andaya Latin Festival 2025: The Final Chapter! \n✨ 你想沉浸在最純粹、最真實的拉丁美洲與西班牙舞蹈文化嗎？\n✨ Do you want to immerse yourself in the pure\, unfiltered passion of Latin America and Spain?\n✨ 你渴望見證世界級舞者突破框架、挑戰極限的精彩演出嗎？\n✨ Are you eager to witness world-class Latin dance performances that push creative boundaries?\n✨ 你夢想向國際大師學習Salsa、Bachata，並與他們共舞一整夜嗎？\n✨ Do you dream of learning Salsa and Bachata from international masters and sharing the dance floor with artists who live for music? \n這將是安達亞拉丁舞蹈節的最終章！這不僅僅是一場Festival，更是一個時代的告別，也是Cheli Latinesa為台灣帶來拉丁文化夢想的圓滿落幕。 \nThis is the final chapter of Andaya Latin Festival! More than just an event\, it is a farewell to an era and the fulfillment of Cheli Latinesa’s dream of bringing Latin culture to Taiwan. \n🌟 世界級大師工作坊 Workshops with World-Class Instructors\n🎭 頂尖舞者的華麗演出 Spectacular Shows by Renowned Artists\n💃 與國際DJ共舞的社交舞會 Social Parties with Top DJs\n🔥 首場Salsa x Hip-Hop Battle The First-Ever Salsa Meets Hip-Hop Battle!\n🎉 舞蹈不只是表演，而是創作！這是一個文化與風格融合的藝術空間，讓我們共同創造獨特的舞蹈體驗！\n🎉 A Celebration of Dance as Art – Not Just a Show\, But a Creative Space Where Cultures and Styles Meet. \n活動行程 Festival Schedule \n5月16日（星期五） Friday\, May 16 \n\n21:00 – 02:00 | 開幕表演 & 舞會 / Opening Show & Social Party\n📍 場地 Venue：NU ZONE\n\n5月17日（星期六） Saturday\, May 17 \n\n11:00 – 18:00 | 國際大師Workshops / Workshops with World-Class Instructors\n📍 場地 Venue：烏梅劇院 & 果酒練舞室 （華山園區內） Umay Theater & Fruit Wine Dance Studio (inside Huashan Park)\n21:00 – 02:00 | 主秀 & 舞會 / Main Show & Social Party\n📍 場地 Venue：NU ZONE\n\n5月18日（星期日） Sunday\, May 18 \n\n11:00 – 18:00 | 國際大師Workshops / Workshops with World-Class Instructors\n📍 場地 Venue：烏梅劇院 & 果酒練舞室 （華山園區內） Umay Theater & Fruit Wine Dance Studio (inside Huashan Park)\n19:00 – 21:00 | Salsa x Hip-Hop Battle\n📍  場地 Venue：烏梅劇院（華山園區內） Umay Theater (inside Huashan Park)\n21:00 – 01:00 | After Party\n📍 場地 Venue：TBC\n\n報名 To apply：https://www.accupass.com/eflow/ticket/2406041431091258890670?utm_source=EventPage&utm_medium=AdCard&utm_campaign=accu_AdCard_2501291243461879156413 \n場館資訊 Venue information \n \n \nSalsa x Hip-Hop Battle 🔥 \n一場顛覆傳統的舞蹈對決！當Salsa舞者與街舞舞者相遇，會激盪出怎樣的火花？ \nA groundbreaking dance battle! When Salsa dancers meet Hip-Hop dancers\, what kind of sparks will fly? \n比賽規則 Battle Rules \n\n第一輪（選拔賽） 1st Round (Audition)：兩人對決，評審選出前8強 Two participants battle at a time. Judges select the Top 8.\n第二輪（準決賽） 2nd Round (Semi-Final)：8強進行1對1對決 Top 8 compete head-to-head.\n第三輪（決賽 – 4強對決） 3rd Round (Finals – Top 4 Battle)：最終王者誕生 The ultimate showdown!\n\n \n不僅僅是一場舞蹈節，更是一場文化盛宴！ More Than Just a Festival – A Cultural Celebration! \nAndaya不只是關於舞蹈，它是一場文化饗宴。我們集結來自世界各地的舞者、藝術家與音樂愛好者，共同分享對音樂、舞蹈與文化的熱情。 \nAndaya is not just about dance—it’s a cultural celebration. We bring together dancers\, artists\, and music lovers from around the world to share their passion for music\, dance and culture. \n✨ 突破框架 Breaking Boundaries：無論你的性別、種族、身份或舞蹈背景，這裡歡迎所有人！ No matter your gender\, race\, identity or dance background—everyone is welcome!\n✨ 文化交融 Multicultural Vibes：不同風格的舞者在這裡相遇、碰撞、創造！ Meet dancers from diverse styles and backgrounds in a unique fusion experience!\n✨ 性別平等 Gender Equality：我們支持LGBTQ+社群，並致力於打造安全、無性別歧視與騷擾的環境。 We support the LGBTQ+ community and are committed to a safe\, inclusive space free from discrimination and harassment. \n這場Festival體現了Cheli Latinesa的願景——將拉丁與台灣文化融合，讓舞蹈與音樂成為最真誠的創作表達。我們不追求商業化、不追隨主流，而是純粹用愛發電，希望為台灣帶來更豐富的Festival與文化，讓更多人愛上Salsa與拉丁音樂，也希望世界能看見台灣，這片亞洲最開放的土地。而我們的Artists不是商品、不是表演者，更是朋友——親切、充滿熱情，準備好與你一起享受這場盛宴！ \nThis festival embodies Cheli Latinesa’s vision—blending Latin and Taiwanese cultures\, making dance and music the most authentic form of artistic expression. We are not driven by commercial success or mainstream trends; we create purely out of love. Our goal is to bring richer festivals and cultural experiences to Taiwan\, inspire more people to fall in love with Salsa and Latin music\, and showcase Taiwan—one of the most open-minded places in Asia—to the world. Our artists are not products or performers; they are friends—warm\, passionate and ready to celebrate this incredible experience with you! \n這是Andaya拉丁舞蹈節的最後一屆，我們將用自己的方式慶祝它。如果你曾經感受過舞蹈的魅力，你將成為這場傳奇的一部分！ \nThis is the final edition of Andaya Latin Festival\, and we will celebrate it in our own way. If you have ever felt the magic of dance\, this is your last chance to be part of this legendary journey! \n所有行程將依序公布在Latinesa Studio IG.\nDetailed event/workshop schedule announced in Latinesa’s Official Instagram \n———————- \n我們的核心價值：溫暖而平等，熱情且多元！\n在這裡不管你是誰，想怎麼跳就怎麼跳！準備好跟安達亞一起嗨翻台北了嗎？\nOur Value: Warmth and equality; passion and diversity!\nNo matter who you are\, you can dance however you want!\nAre you ready to have fun in Taipei with Andaya? \n———————- \n發票相關事宜請主動聯繫主辦單位 For invoice-related matters\, please contact the organizer（開立發票限台灣國民 Invoice issuance is limited to Taiwan nationals） \n———————- \nRegistration Form Translation⬇️ 
URL:https://events.mcu.edu.tw/event/2025-taipei-andaya-latin-festival-%e5%8f%b0%e5%8c%97%e5%ae%89%e9%81%94%e4%ba%9e%e6%8b%89%e4%b8%81%e8%88%9e%e8%b9%88%e7%af%80/
LOCATION:NU ZONE\, 大安區市民大道三段198號2樓\, 台北市\, Taiwan
CATEGORIES:ACCUPASS,安達亞有限公司
ATTACH;FMTTYPE=image/png:https://events.mcu.edu.tw/wp-content/uploads/2025/02/34.png
END:VEVENT
BEGIN:VEVENT
DTSTART;TZID=Asia/Taipei:20250517T140000
DTEND;TZID=Asia/Taipei:20250525T210000
DTSTAMP:20260425T074349
CREATED:20250516T065349Z
LAST-MODIFIED:20250516T065349Z
UID:10001230-1747490400-1748206800@events.mcu.edu.tw
SUMMARY:2025台灣面具節 Taiwan Mask Festival
DESCRIPTION:面具，不只是戴在臉上的裝飾，而是一場穿越文化、歷史與個人情感的深層探索。 \nA mask is more than just a decoration worn on the face—it’s a profound journey through culture\, history and personal emotion. \n【2025台灣面具節】由光鍊劇團策劃執行，集結多位風格迥異的創作者，透過肢體、聲音、裝置與空間，建構16場不同主題、形式與感官設計的沉浸式面具演出。每場演出皆為原創內容，觀眾將近距離參與於變幻多端的表演中。 \n\n 每場僅開放30人，親密參與\n 表演形式涵蓋當代劇場、儀式行為、跨域創作、身體故事、環境演出等\n 4天限定演出，座位有限，敬請把握\n\nCurated and organized by Guang Lian Theatre\, 2025 Taiwan Mask Festival brings together diverse creators to present 16 immersive mask performances\, each with unique themes\, formats and sensory designs. Through the use of physical movement\, sound\, installation and space\, each original performance invites the audience into an intimate and ever-changing theatrical experience. \n\n\nOnly 30 seats per show — close and personal experience \n\n\nPerformance styles include contemporary theater\, ritual practices\, interdisciplinary works\, physical storytelling and site-specific performances \n\n\n4-day limited engagement — limited seats\, don’t miss out \n\n\n票價資訊 Ticket Information \n一般票 General Admission｜NT$850 \n全通行套票 All-Access Pass（無限場次 Unlimited Entries）｜NT$2\,200 \n敬老票 Senior Discount（65折 35% off）｜NT$550 → 如有需求，請洽『光鍊劇團』粉專 Please contact Guang Lian Theatre’s Facebook page for access \n學生票 Student Discount（8折 20% off）｜NT$680 → 如有需求，請洽『光鍊劇團』粉專 Please contact Guang Lian Theatre’s Facebook page for access \n※ 套票觀眾請於活動前完成指定場次登記 All-Access Pass holders must register for their selected performances in advance \n報名 To apply：https://www.accupass.com/eflow/ticket/2503070332562088365910?utm_campaign=accu_theme&utm_medium=home_north&utm_source=Web \n🎭 台灣面具節｜發源 Origins of Taiwan Mask Festival 🎭 \n2019年，疫情席捲全球，重創臺灣的藝文生態。在長達三年的時間裡，藝術創作者僅獲得有限的資源支持，文化產業陷入前所未有的寒冬。這樣的困境，不禁讓人聯想到歐洲黑死病時期，當社會瀕臨崩解，人們開始以「面具」來應對瘟疫與生存的焦慮。 \n正是在這樣的背景下，「台灣面具節」誕生。\n光鍊劇團希望透過「面具」，重新探索生命的意義，連結過去、當代與未來的文化精神。 \nIn 2019\, the pandemic struck the world\, severely impacting Taiwan’s cultural and performing arts landscape. For three years\, artists received minimal support\, and the cultural industry fell into an unprecedented crisis. This hardship echoes the time of Black Death in Europe\, when society neared collapse and people turned to “masks” as a way to cope with plague and the anxiety of survival. \nIt was in this context that the Taiwan Mask Festival was born.Through the symbol of the mask\, Guang Lian Theatre seeks to rediscover the meaning of life and connect cultural spirits of the past\, present and future. \n \n✨ 台灣面具節｜精神 Spirit of Taiwan Mask Festival ✨ \n面具，不僅是一種遮蔽，也是一種揭示 \n在人類歷史上，面具從來不只是裝飾——它是通往靈性世界的載體。無論是古代巫師的儀式、宗教祭典，還是戲劇與民俗文化，面具始終佔據著神聖且不可取代的位置。它象徵身份，也賦予個體保護與力量。 \n在當代社會，我們的生活看似與面具無關，卻早已與它息息相關 \n從職場角色到社會階層，我們不斷地在不同身份間轉換，無論是父親、教師、藝術家，甚至是社群媒體上的數位化身，都像是一張張面具，讓我們在現實與虛擬之間遊走。然而，當我們習慣戴上面具，我們是否也開始害怕真正的「自我」？ \n面具既是保護，也是探索 \n在表演藝術中，面具讓表演者迅速進入角色，突破內在的心理障礙，展現更自由的表達方式。在心理層面，面具則是一種媒介，幫助人們發現自身不曾察覺的一面，甚至療癒創傷，重新連結內心世界。 \n未來，我們正邁向一個虛實交融的時代 \n元宇宙的數位身分、社交媒體中的個人形象，皆是現代社會的「面具」。當我們透過科技塑造自我，是否仍能認識真正的自己？ \n「台灣面具節」的誕生，不僅是對傳統文化的致敬，更是對未來世界的提問 \n透過這場藝術盛會，我們希望讓人們重新思考「面具」的意義——它不僅是歷史的遺跡，更是未來探索自我的關鍵。 \n戴上面具，也許我們才能更真實地看見自己 \nA mask is not just a cover—it is also a revelation. \nThroughout human history\, masks have never been mere decoration—they are vessels to the spiritual world. From ancient shamans’ rituals and religious ceremonies to theater and folk culture\, masks have always held a sacred and irreplaceable role. They symbolize identity and offer protection and empowerment to the wearer. \nIn modern society\, while masks may seem distant from our daily lives\, they are\, in fact\, deeply embedded in our existence. \nFrom professional roles to social class\, we constantly shift between identities. Whether as a father\, a teacher\, an artist or even a digital persona on social media—each is like a mask we wear\, navigating between reality and the virtual. But as we become accustomed to wearing these masks\, do we also start to fear the true “self”? \nThe mask is both a shield and a path of discovery. \nIn the performing arts\, masks help performers enter character swiftly\, overcome inner barriers and express themselves more freely. On a psychological level\, masks serve as tools that allow people to uncover aspects of themselves they were previously unaware of\, sometimes even facilitating healing and reconnecting with their inner worlds. \nWe are stepping into an era where the virtual and the real intertwine. \nDigital identities in the metaverse and curated images on social media are today’s “masks”. As we shape ourselves through technology\, can we still truly know who we are? \nThe creation of Taiwan Mask Festival is not only a tribute to traditional culture—it is also a question posed to the future world. \nThrough this artistic celebration\, we hope to inspire people to reconsider the meaning of “masks”. They are not merely relics of the past but vital keys to self-exploration in the future. \nBy putting on a mask\, perhaps we can finally see ourselves more clearly.
URL:https://events.mcu.edu.tw/event/2025%e5%8f%b0%e7%81%a3%e9%9d%a2%e5%85%b7%e7%af%80-taiwan-mask-festival/
LOCATION:雁域文化中心\, 信義區福德街96號\, 台北市\, Taiwan
CATEGORIES:ACCUPASS,光鍊劇團
ATTACH;FMTTYPE=image/png:https://events.mcu.edu.tw/wp-content/uploads/2025/05/11.png
END:VEVENT
END:VCALENDAR