BEGIN:VCALENDAR
VERSION:2.0
PRODID:-//Events Calendar - ECPv6.8.1//NONSGML v1.0//EN
CALSCALE:GREGORIAN
METHOD:PUBLISH
X-WR-CALNAME:Events Calendar
X-ORIGINAL-URL:https://events.mcu.edu.tw
X-WR-CALDESC:Events for Events Calendar
REFRESH-INTERVAL;VALUE=DURATION:PT1H
X-Robots-Tag:noindex
X-PUBLISHED-TTL:PT1H
BEGIN:VTIMEZONE
TZID:Asia/Taipei
BEGIN:STANDARD
TZOFFSETFROM:+0800
TZOFFSETTO:+0800
TZNAME:CST
DTSTART:20250101T000000
END:STANDARD
END:VTIMEZONE
BEGIN:VEVENT
DTSTART;TZID=Asia/Taipei:20251206T133000
DTEND;TZID=Asia/Taipei:20251206T163000
DTSTAMP:20260421T214123
CREATED:20251125T031808Z
LAST-MODIFIED:20251125T031808Z
UID:10001529-1765027800-1765038600@events.mcu.edu.tw
SUMMARY:福智青年社 Bliss Wisdom Youth Club｜敬師感恩音樂會 Teacher Appreciation Concert
DESCRIPTION:由桃園校區福智青年社主辦的「水晶心花・敬師感恩音樂會」將於12/6（六）在P102溫暖登場，邀請師生在樂聲中暫時放慢步調，向一路陪伴的師長說一聲真心的感謝。活動希望以音樂傳遞平日難以啟齒的情意，讓感恩在校園裡被聽見、被記住。 \n本次音樂會將於13:30開放入場，14:00正式開始，並安排貴賓致詞與大合照。節目分為上、下半場，包括音樂饗宴、校園念恩分享與師長念恩時刻，讓學生與教師透過故事與旋律交流，描繪屬於銘傳的暖心記憶。整場活動預計於16:30溫馨落幕，為冬日午後增添一抹暖色。 \n今年活動以「一首樂曲，一份念恩」為核心理念，鼓勵師生在柔和而深刻的樂聲中留下動人的共同片段。有興趣的同學與師長可透過線上表單報名，一同感受校園中最真摯的感恩流動。 \nOrganized by Taoyuan Campus Bliss Wisdom Youth Club\, the “Crystal Heart Blossom・Teacher Appreciation Concert” will take place on December 6 (Sat) in P102\, inviting faculty and students to slow down for a moment and express heartfelt gratitude to teachers who have supported them along the way. The event aims to use music to convey emotions that are often difficult to put into words\, allowing gratitude to be heard and remembered across campus. \nDoors will open at 13:30\, and the concert will begin at 14:00\, followed by guest remarks and a group photo. The program is divided into two parts\, featuring musical performances\, gratitude-sharing moments from students\, and a special segment dedicated to honoring teachers. Through stories and melodies\, students and faculty will connect and create warm memories unique to MCU. The concert is expected to conclude warmly at 16:30\, adding a gentle touch to the winter afternoon. \nThis year’s theme\, “One Melody\, One Gratitude”\, encourages participants to create meaningful shared moments through tender and heartfelt music. Students and faculty who are interested may register through the online form and join in celebrating the sincerest expressions of appreciation on campus. \n報名表單 Registration form：https://forms.gle/Beid1AuP4gdXC2zZA
URL:https://events.mcu.edu.tw/event/%e7%a6%8f%e6%99%ba%e9%9d%92%e5%b9%b4%e7%a4%be-bliss-wisdom-youth-club%ef%bd%9c%e6%95%ac%e5%b8%ab%e6%84%9f%e6%81%a9%e9%9f%b3%e6%a8%82%e6%9c%83-teacher-appreciation-concert/
LOCATION:桃園校區Taoyuan Campus\, 龜山區德明路5號\, 桃園市\, Taiwan
CATEGORIES:福智青年社
ATTACH;FMTTYPE=image/jpeg:https://events.mcu.edu.tw/wp-content/uploads/2025/11/1253music2.jpg
END:VEVENT
BEGIN:VEVENT
DTSTART;TZID=Asia/Taipei:20251213T133000
DTEND;TZID=Asia/Taipei:20251213T150000
DTSTAMP:20260421T214123
CREATED:20251128T021126Z
LAST-MODIFIED:20251128T021126Z
UID:10001535-1765632600-1765638000@events.mcu.edu.tw
SUMMARY:管弦樂社 Orchestra Club｜聯合音樂會 Joint Concert
DESCRIPTION:台北校區管弦樂社將於12/13（六）13:30在台北市政府青年局（台北市中正區仁愛路一段17號）舉辦聯合音樂會，本次演出由管弦樂社 × 民聲樂團 × P薩豐薩克斯風樂團共同合作，打造專屬於校內社員與合作團隊的冬日舞台，邀請同學在期末前夕以樂聲放鬆心緒。活動於13:10開放入場，採索票方式進場。 \n本場聯合音樂會以多元曲風與跨團合作為亮點，從弦樂的細膩流動、管樂的溫暖渲染，到薩克斯風的獨特魅力，三方編制將透過不同音色交織出層次豐富的演出，期望把最真誠的音符送進每位聽眾的心裡。伴隨著冬日午後的柔和氛圍，整場節目將成為本學期最具質感的音樂盛會之一。 \n管弦樂社表示，活動雖免費參加，但需事先索票以利場地安排。欲索票者可私訊Instagram【mcu_orchestra_tp】洽詢；更多活動資訊亦將同步於社群公告。歡迎台北校區同學與樂迷一同走入音樂的世界，感受現場演奏帶來的節奏與溫度。 \nTaipei Campus Orchestra Club will hold a Joint Concert on Saturday\, December 13 at 13:30 at Taipei Youth Development Office (No. 17\, Sec. 1\, Ren’ai Rd.\, Zhongzheng Dist.\, Taipei City). This year’s performance is a collaboration between the Orchestra Club × Minsheng Philharmonic × P Safon Saxophone Ensemble\, creating a special winter stage for club members and partner groups. Students are invited to relax and unwind through music as the semester draws to a close. Doors open at 13:10\, and admission is by ticket collection. \nThe concert highlights diverse musical styles and cross-group collaboration. From the delicate flow of string music\, the warm resonance of wind instruments\, to the unique charm of the saxophone\, the three ensembles will weave together rich layers of sound through their distinct timbres. With the gentle ambiance of a winter afternoon\, the program is set to become one of the most refined musical events of the semester. \nAccording to the Orchestra Club\, admission is free\, but tickets must be reserved in advance to facilitate venue arrangements. Those wishing to reserve tickets may send a direct message to the club on Instagram mcu_orchestra_tp. Additional event updates will be announced on social media. Students from Taipei Campus and music lovers alike are warmly invited to step into the world of live performance and experience the rhythm and warmth brought by the musicians.
URL:https://events.mcu.edu.tw/event/%e7%ae%a1%e5%bc%a6%e6%a8%82%e7%a4%be-orchestra-club%ef%bd%9c%e8%81%af%e5%90%88%e9%9f%b3%e6%a8%82%e6%9c%83-joint-concert/
LOCATION:台北市政府青年局\, 中正區仁愛路一段17號\, 台北市\, Taiwan
CATEGORIES:管弦樂社
ATTACH;FMTTYPE=image/jpeg:https://events.mcu.edu.tw/wp-content/uploads/2025/11/1254musicjpg.jpg
END:VEVENT
BEGIN:VEVENT
DTSTART;TZID=Asia/Taipei:20251214T140000
DTEND;TZID=Asia/Taipei:20251214T160000
DTSTAMP:20260421T214123
CREATED:20251209T031418Z
LAST-MODIFIED:20251209T031418Z
UID:10001553-1765720800-1765728000@events.mcu.edu.tw
SUMMARY:布利歐管樂團 Brio Wind Band｜期末音樂會 End-of-Semester Concert
DESCRIPTION:冬季午後的桃園校園即將再次響起溫柔而飽滿的樂聲。布利歐管樂團將於12/14（日）14:00在體育一館一樓舉辦期末音樂會「晨曦序曲」，13:30開放入場，邀請全校師生在歲末時分一同走進音樂的世界，感受現場演奏帶來的療癒與溫度。 \n本次演出由林哲維老師擔任指揮，節目編排橫跨經典、現代與重奏曲目，展現多層次的音色與演繹。曲目包含《Memories of Friendship》、《Titanic-Medley》、《Fate of the Gods》、法國號重奏〈木星〉、薩克斯風重奏〈卡農〉、銅管五重奏〈情熱大陸〉，以及《希望假期》、《The Seventh Night of July》與〈花は咲く〉等作品。豐富的曲目呈現團員一學期的扎實訓練，也凝聚布利歐特有的細膩情感與厚實音韻。 \n布利歐提醒，活動採自由入場，歡迎同學依工作人員引導提早就座。對音樂充滿期待的朋友們，不妨在年末為自己預留一段午後時光，讓旋律陪伴心情慢慢沉澱。 \n更多活動資訊可至 Instagram【mcu_briowb】查詢。 \nAs winter settles in\, gentle and resonant melodies will once again drift across the Taoyuan Campus. The Brio Wind Band will present its end-of-semester concert\, “Dawn Overture”\, on Sunday\, December 14 at 14:00 in Sport Hall I\, 1/F. Doors will open at 13:30. All faculty and students are warmly invited to enter the world of live music at the close of the year and experience its healing warmth. \nThe concert will be conducted by Mr. Lin Che-Wei. The program spans classical\, contemporary\, and ensemble pieces\, showcasing a rich palette of tones and interpretations. Repertoire includes Memories of Friendship\, Titanic – Medley\, Fate of the Gods\, a French horn ensemble performance of Jupiter\, a saxophone ensemble performance of Canon\, a brass quintet performance of Jounetsu Tairiku\, as well as Holiday of Hope\, The Seventh Night of July\, and Hana wa Saku. The diverse program reflects the band members’ solid training throughout the semester and embodies Brio’s unique blend of refined emotion and full\, warm sound. \nThe band kindly reminds attendees that admission is free and open seating will be guided by staff on site. For those who look forward to the magic of music\, why not reserve a peaceful winter afternoon before the year ends\, letting melodies calm and uplift your heart. \nFor more information\, please visit Instagram: mcu_briowb.
URL:https://events.mcu.edu.tw/event/%e5%b8%83%e5%88%a9%e6%ad%90%e7%ae%a1%e6%a8%82%e5%9c%98-brio-wind-band%ef%bd%9c%e6%9c%9f%e6%9c%ab%e9%9f%b3%e6%a8%82%e6%9c%83-end-of-semester-concert/
LOCATION:桃園校區Taoyuan Campus\, 龜山區德明路5號\, 桃園市\, Taiwan
CATEGORIES:布利歐管樂團
ATTACH;FMTTYPE=image/jpeg:https://events.mcu.edu.tw/wp-content/uploads/2025/12/1255mcusic.jpg
END:VEVENT
END:VCALENDAR