BEGIN:VCALENDAR
VERSION:2.0
PRODID:-//Events Calendar - ECPv6.8.1//NONSGML v1.0//EN
CALSCALE:GREGORIAN
METHOD:PUBLISH
X-WR-CALNAME:Events Calendar
X-ORIGINAL-URL:https://events.mcu.edu.tw
X-WR-CALDESC:Events for Events Calendar
REFRESH-INTERVAL;VALUE=DURATION:PT1H
X-Robots-Tag:noindex
X-PUBLISHED-TTL:PT1H
BEGIN:VTIMEZONE
TZID:Asia/Taipei
BEGIN:STANDARD
TZOFFSETFROM:+0800
TZOFFSETTO:+0800
TZNAME:CST
DTSTART:20240101T000000
END:STANDARD
END:VTIMEZONE
BEGIN:VEVENT
DTSTART;TZID=Asia/Taipei:20241028T080000
DTEND;TZID=Asia/Taipei:20241111T235900
DTSTAMP:20260422T064915
CREATED:20241022T053958Z
LAST-MODIFIED:20241022T053958Z
UID:10000600-1730102400-1731369540@events.mcu.edu.tw
SUMMARY:圖書館 Library｜E書E語．推薦接力 即起開跑 E-books Relay Recommendation Contest Kicks Off Now
DESCRIPTION:銘傳大學作為臺灣學術電子書暨資料庫聯盟（TAEBDC）的成員館，配合聯盟舉辦「E書E語．推薦接力-113年度跨校推廣活動」。即日起至11／11（一），113年度TAEBDC聯盟學生與教職員，只要參與有獎徵答與電子書推薦，即有摸彩獲得豐富獎品的機會！ \n活動設有兩項獎勵——推薦獎與接力獎。參與「推薦獎」的同學只需填妥基本資料、依指示挑選並閱讀任一本聯盟電子書，並分享推薦內容，提交後經承辦單位審核通過，即可參加推薦獎抽獎。至於「接力獎」，則是延續推薦獎，每分享一本電子書內的精選短句並提交表單，通過審核後，即可加碼參加抽獎，每人最多可獲得五次抽獎機會，且需挑選不同冊的電子書進行分享。 \n參加活動的同學需注意幾點事項：活動參加者需授權投稿內容無償供主辦單位及聯盟合作學校推廣使用；投稿內容必須為原創，若有抄襲行為需自負法律責任。此外，獎品圖片僅供參考，實際款式以實物為準；若獲得超過新臺幣壹仟元之獎品，需列入當年度所得稅申報，外籍得獎人須繳交獎品價值20%稅金及居留證影本。獲獎者需至所屬圖書館領取獎項，並完成簽收。 \n圖書館活動多元且鼓勵閱讀，盼各位師生多加善用活動資源，閱讀豐富知識的同時，還能順便將豐富大獎帶回家。 \nAs a member library of the Taiwan Academic E-book and Database Consortium (TAEBDC)\, MCU is participating in the “E-books Relay Recommendation Contest – 2024 Cross-School Promotion Event”. From now until Monday\, November 11\, TAEBDC consortium students and faculty can participate in a prize draw by answering quiz questions and recommending e-books\, with a chance to win fantastic prizes! \nThe event features two awards: the Recommendation Award and the Relay Award. For the Recommendation Award\, participants simply need to fill in their basic information\, select and read any e-book from the consortium\, and share a brief recommendation. Once approved by the organizing committee\, participants will be entered into the prize draw. The Relay Award extends the Recommendation Award by allowing participants to share selected quotes from any e-book. For each approved submission\, they will earn an additional prize draw entry\, with a maximum of five entries per person. However\, each submission must be from a different e-book. \nA few important notes for participants: By entering the contest\, participants agree to grant the host and consortium partner schools the right to use the submitted content for promotional purposes. Submissions must be original; plagiarism will result in legal liability. Prize images are for reference only; actual styles may vary. If the prize exceeds NT$1\,000 in value\, it must be declared for tax purposes. Foreign winners are required to pay 20% tax on the prize value and submit a copy of their residence permit. Prizes must be claimed at the respective university library with a signed receipt. \nThe library encourages faculty and students to take advantage of this diverse event. Not only will you expand your knowledge through reading\, but you may also take home exciting prizes! \n更多活動詳情，歡迎至活動網頁查詢 For more event details\, please visit：https://reurl.cc/ky84Ed
URL:https://events.mcu.edu.tw/event/%e5%9c%96%e6%9b%b8%e9%a4%a8-library%ef%bd%9ce%e6%9b%b8e%e8%aa%9e%ef%bc%8e%e6%8e%a8%e8%96%a6%e6%8e%a5%e5%8a%9b-%e5%8d%b3%e8%b5%b7%e9%96%8b%e8%b7%91-e-books-relay-recommendation-contest-kicks-off-now/
CATEGORIES:圖書館
ATTACH;FMTTYPE=image/jpeg:https://events.mcu.edu.tw/wp-content/uploads/2024/10/1210期圖書館E書電子報配圖.jpg
END:VEVENT
BEGIN:VEVENT
DTSTART;TZID=Asia/Taipei:20241110T090000
DTEND;TZID=Asia/Taipei:20241110T170000
DTSTAMP:20260422T064915
CREATED:20241021T062449Z
LAST-MODIFIED:20241021T062449Z
UID:10000598-1731229200-1731258000@events.mcu.edu.tw
SUMMARY:羽球社 Badminton Club｜11/10三校羽球交流賽開打 Tri-School Badminton Exchange Tournament on 11/10
DESCRIPTION:桃園校區喜歡打羽球的同學看過來！桃銘羽球社與輔仁大學與長庚大學共同舉辦的羽球交流賽將於11／10（日）09:00-17:00登場，交流賽地點在長庚大學活一羽球室。本次交流賽報名對象為銘傳大學桃園校區全體學生及羽球社成員，比賽項目為男雙與女雙，會依據報名人數調整，比賽用球為RSL3號；獎品依據名次可獲得對應價值的等價商品（非現金），分別為第一名價值NT$700商品，第二名價值NT$500商品及第三名價值NT$300商品。 \n此次交流活動不僅包括上午的比賽，下午還設計了趣味賽，讓選手們在競技之外也能享受輕鬆愉快的比賽氛圍。趣味賽將採隨機組隊方式，來自三校的選手混合搭配進行淘汰賽，最終獲勝隊伍將贏得驚喜獎品，所有參賽者需完成趣味賽後才可離場，讓比賽更加充滿趣味與互動。 \n報名部分羽球社社員免報名費，非社員則需繳交NT$150報名費，報名連結可於社團首頁自介處找到：https://forms.gle/NXWkjdNat4ascF5s7，報名截止日期為10／20（日）23:59。參賽者需繳交NT$200保證金，於比賽當天全程參與可全額退還。若於報名截止後取消，保證金將不予退還。報名表請於社課時間或指定時間內到羽球社辦繳費確認。羽球社辦社辦位於體育館二樓，面對舞台的最左側角落，牆上有「羽球社」藍色標示。 \n實體繳費時間為10／7（一）、10／9（三）社課時間，至球場找幹部，10／11（五）、10／18（五）12:10-13:40，至羽球社辦，10／16（三）、10／17（四）19:00-21:00。相關詳情請洽桃銘羽球社專頁【mcubc113】，了解更多資訊。 \nCalling all badminton enthusiasts at Taoyuan Campus! The Taoyuan Campus Badminton Club\, in collaboration with Fu Jen Catholic University and Chang Gung University\, is hosting a Badminton Exchange Tournament on Sunday\, November 10\, from 09:00 to 17:00 at Chang Gung University’s badminton court (Gym 1). This tournament is open to all students of MCU’s Taoyuan Campus\, as well as members of Badminton Club. The competition will include men’s and women’s doubles\, with the match format adjusted based on the number of participants. The games will use RSL No. 3 shuttlecocks. Prizes will be awarded based on rankings\, with equivalent goods (non-cash) valued at NT$700 for first place\, NT$500 for second place\, and NT$300 for third place. \nIn addition to the morning competition\, a fun match will be held in the afternoon to create a more relaxed and enjoyable atmosphere. The fun match will be played in randomly assigned teams\, mixing players from all three schools for a knockout competition. The winning team will receive a surprise prize. All participants must complete the fun match before leaving\, ensuring that the event is full of interaction and excitement. \nFor registration\, members of the Badminton Club can join for free\, while non-members must pay a registration fee of NT$150. You can find the registration link in the club’s homepage bio: https://forms.gle/NXWkjdNat4ascF5s7. The registration deadline is 23:59 on Sunday\, October 20. Participants are also required to submit a NT$200 deposit\, which will be fully refunded upon full participation on the day of the event. If registration is canceled after the deadline\, the deposit will not be refunded. Payments can be confirmed in person during club activity hours or designated times at Badminton Club office. \nThe Badminton Club office is located on the second floor of the gymnasium\, in the far-left corner when facing the stage\, marked by a blue “Badminton Club” sign. \nIn-person payment times are as follows: \n\nClub hours on Monday 10/7 and Wednesday 10/9 on the courts.\nFriday 10/11 and 10/18 from 12:10-13:40 at Badminton Club office.\nWednesday 10/16 and Thursday 10/17 from 19:00-21:00.\n\nFor more details\, please visit the Taoyuan Campus Badminton Club’s official page 【mcubc113】 for updates and further information.
URL:https://events.mcu.edu.tw/event/%e7%be%bd%e7%90%83%e7%a4%be-badminton-club%ef%bd%9c11-10%e4%b8%89%e6%a0%a1%e7%be%bd%e7%90%83%e4%ba%a4%e6%b5%81%e8%b3%bd%e9%96%8b%e6%89%93-tri-school-badminton-exchange-tournament-on-11-10/
LOCATION:長庚大學\, 龜山區文化一路259號\, 桃園市\, Taiwan
CATEGORIES:羽球社
ATTACH;FMTTYPE=image/jpeg:https://events.mcu.edu.tw/wp-content/uploads/2024/10/1210期羽球賽電子報配圖.jpg
END:VEVENT
BEGIN:VEVENT
DTSTART;TZID=Asia/Taipei:20241112T090000
DTEND;TZID=Asia/Taipei:20241122T170000
DTSTAMP:20260422T064915
CREATED:20241111T005455Z
LAST-MODIFIED:20241111T005455Z
UID:10000648-1731402000-1732294800@events.mcu.edu.tw
SUMMARY:親善大使團 Goodwill Ambassador｜杜老爺甜筒大車拼 DuoLaoYe Ice Cream Cone Challenge
DESCRIPTION:好不容易度過了緊繃的期中考，就來吃個冰療育一下自己吧！台北和桃園的親善大使團將舉行的「杜老爺甜筒大車拼」，讓趣味競賽和吃甜筒結合，活動全程免費，參加此次活動可以獲得畢業門檻十力中的「群體力」，趕緊組隊報名參加這有趣的競賽。 \n桃園校區率先於11/21（四）12點於體育館一館3F（籃球場）舉行，以四人為一組的團體賽進行報名，四人中再細分成兩小組使用兩人三腳的方式行動，並抽取桌上卡片進行指定動作，兩組都完成後一起大喊「我愛銘傳，我愛杜老爺」即可通過，花費時間較短者獲勝，有興趣的人記得前往報名，名額有限，要報名要快！ \n台北校區則接棒於11/27（三）12點在逸仙堂舉行，四人一組再細分為兩小組，於出發前大喊「我愛銘傳，我愛杜老爺」，第一個小組利用「頭」夾取杜老爺小卡板跑至前方桌子後，換取杜老爺再跑回起點交棒；第二個小組利用「背」夾取杜老爺小卡板，同樣跑至前方桌子換取杜老爺再跑回起點全員蹲下，最短時間完成的隊伍即是最後的勝利者！本次除了擁有全新的冰淇淋口味外，還擁有親善大使準備的精彩表演，完成報名者務必準時參賽！ \nAfter the stress of midterms\, it’s time to treat yourself with some ice cream! The Taipei and Taoyuan Goodwill Ambassador teams are hosting the “DuoLaoYe Ice Cream Cone Challenge” – a fun competition combined with sweet treats\, and it’s completely free! Participating in this event will earn you “Group Dynamics” points towards your graduation requirements\, so sign up with your team and join the fun! \nThe Taoyuan Campus event kicks off on Thursday\, 11/21 at 12:00 on 3rd floor of Gymnasium 1 (Basketball Court). Teams of four will split into two pairs for a three-legged race\, completing assigned tasks drawn from a card on the table. Both pairs must shout “I love Ming Chuan\, I love DuoLaoYe” to finish. The team that completes the challenge in the shortest time wins! Be sure to register soon – spaces are limited! \nThe Taipei Campus will follow on Wednesday\, 11/27 at 12:00 in Sun Yat Sen Auditorium. Teams of four will again split into two pairs. Before starting\, everyone shouts\, “I love Ming Chuan\, I love DuoLaoYe”. The first pair will pick up a DuoLaoYe card using only their heads\, run to the table\, exchange it\, and run back to the starting point to tag in the next pair. The second pair will use their backs to carry the card\, repeat the process\, and then the whole team squats down together to finish. The team with the shortest time wins! This event will also feature an exclusive new ice cream flavor and performances by the Goodwill Ambassadors. Registered teams\, please arrive on time to participate! \n報名時間 Registration Period：即日起至11/22（五）晚上12點 From now until Friday\, 11/22\, midnight \n報名連結 Registration Link：台北校區 桃園校區
URL:https://events.mcu.edu.tw/event/%e8%a6%aa%e5%96%84%e5%a4%a7%e4%bd%bf%e5%9c%98-goodwill-ambassador%ef%bd%9c%e6%9d%9c%e8%80%81%e7%88%ba%e7%94%9c%e7%ad%92%e5%a4%a7%e8%bb%8a%e6%8b%bc-duolaoye-ice-cream-cone-challenge/
CATEGORIES:親善大使團
ATTACH;FMTTYPE=image/jpeg:https://events.mcu.edu.tw/wp-content/uploads/2024/11/1213期杜老爺電子報配圖.jpg
END:VEVENT
BEGIN:VEVENT
DTSTART;TZID=Asia/Taipei:20241115T090000
DTEND;TZID=Asia/Taipei:20241120T120000
DTSTAMP:20260422T064915
CREATED:20241115T074039Z
LAST-MODIFIED:20241115T074039Z
UID:10000673-1731661200-1732104000@events.mcu.edu.tw
SUMMARY:犯罪防治學系 Department of Criminal Justice｜班際盃 Interclass Cup
DESCRIPTION:熱情的體育賽事，犯罪防治學系接棒！113學年度犯防系班際盃即將於12/16-27熱血開賽，歡迎犯防系全體學生踴躍參加，此次班際盃設有男子五對五籃球、女子三對三籃球、男子排球與女子排球四大比賽項目，提供同學們展現運動風采的舞台。本次班際盃不僅為增進同學之間的友誼與凝聚力，更讓參賽者在運動場上體驗比賽的激情與挑戰。 \n即日起至11/20（三）12:00止，活動採紙本報名，請犯防系各班踴躍組隊參加，透過運動展現班級精神與團隊合作的力量，更多詳情請洽犯防系粉專【mcucj_113】，一起在賽場上相遇，為青春與熱情留下難忘回憶！ \nDepartment of Criminal Justice is taking the baton for an exciting series of sports events! The 2024 Academic Year Interclass Cup is set to ignite the spirit of competition from December 16 to 27. We warmly invite all students from Department of Criminal Justice to participate enthusiastically. This year’s tournament will feature four major events: Men’s 5-on-5 Basketball\, Women’s 3-on-3 Basketball\, Men’s Volleyball\, and Women’s Volleyball. These games offer a fantastic stage to showcase athletic skills\, foster friendships and build team spirit. \nRegistration is open now until Wednesday\, November 20\, at 12:00. Sign up through paper forms and encourage your class to form teams. Show off your class spirit and teamwork as we come together for this thrilling event. For more details\, follow the department’s official social media account @mcucj_113. Let’s meet on the court and create unforgettable memories filled with youth and passion!
URL:https://events.mcu.edu.tw/event/%e7%8a%af%e7%bd%aa%e9%98%b2%e6%b2%bb%e5%ad%b8%e7%b3%bb-department-of-criminal-justice%ef%bd%9c%e7%8f%ad%e9%9a%9b%e7%9b%83-interclass-cup/
LOCATION:桃園校區Taoyuan Campus\, 龜山區德明路5號\, 桃園市\, Taiwan
CATEGORIES:犯罪防治學系
ATTACH;FMTTYPE=image/jpeg:https://events.mcu.edu.tw/wp-content/uploads/2024/11/1214期犯防班際盃電子報配圖.jpg
END:VEVENT
BEGIN:VEVENT
DTSTART;TZID=Asia/Taipei:20241116T090000
DTEND;TZID=Asia/Taipei:20241130T170000
DTSTAMP:20260422T064915
CREATED:20241017T020932Z
LAST-MODIFIED:20241017T020932Z
UID:10000589-1731747600-1732986000@events.mcu.edu.tw
SUMMARY:攝影美學社 Photo Club｜新秀盃歡迎挑戰 首獎GoPro 12帶回家 Rising Star Cup - Take Home a GoPro 12 with First Prize
DESCRIPTION:喀嚓！看過來！銘傳大學台北校區攝影美學社將舉辦的第三屆「新秀盃」，本次徵件主題為「我是不是我的我」，透過相對抽象的題目，鼓勵大家拿起相機或手機，在拍攝過程中探索與思考「我」的意義，透過與鏡頭的對話，發現自我、重新認識自己。 \n攝影美學社公關長表示：相較於前兩屆的主題「情」與「共」，今年的比賽題目難度明顯升級，感謝校友張敦治及鄒立愷兩位學長的贊助，獎項也更加豐厚！比賽最終將選出首獎1名、金獎1名，以及優選與佳作各5名。首獎得主可獨得全新GoPro 12一台，金獎得主將獲得NT$5\,000獎金，優選與佳作則各有NT$1\,000獎金及金士頓256GB記憶卡一張。 \n比賽收件時間自11／1（五）起至期中考後11／30（六）止，不限校區，歡迎熱愛攝影的同學們踴躍參與，展現自己的創意與思考！比賽辦法及報名資訊請至攝影美學社Instagram【mcu_photoclub】查詢。攝影好手們！快快一起用鏡頭捕捉自我的多重面貌，讓精彩的作品呈現年輕創意！ \nSnap! Look over here! MCU Taipei Campus’s Photo Club is hosting its 3rd Rising Star Cup\, with this year’s theme: “Am I Myself?” Through this somewhat abstract topic\, participants are encouraged to pick up their cameras or smartphones and explore the meaning of “self” during the shooting process. Engage in a conversation with the lens\, discover yourself and reintroduce yourself to who you are. \nThe club’s PR manager mentioned that\, compared to the previous themes of “Emotion” and “Togetherness”\, this year’s challenge is notably more difficult. Thanks to the generous sponsorship from alumni Zhang Dunzhi and Zou Likai\, the prizes have also been upgraded! The competition will award one First Prize winner\, one Gold Prize winner\, and five Excellence and Merit Award winners each. The First Prize winner will take home a brand-new GoPro 12\, while the Gold Prize winner will receive a NT$5\,000 cash award. Excellence and Merit Award winners will each receive NT$1\,000 and a Kingston 256GB memory card. \nSubmission opens on Friday\, November 1 and closes after midterms on Saturday\, November 30. Students from all campuses are welcome to join! If you’re passionate about photography\, seize this opportunity to showcase your creativity and perspective. For competition rules and registration details\, please visit the Photo Club’s Instagram at 【mcu_photoclub】. Photography enthusiasts\, let’s capture the many facets of the self and present your youthful creativity through stunning works!
URL:https://events.mcu.edu.tw/event/%e6%94%9d%e5%bd%b1%e7%be%8e%e5%ad%b8%e7%a4%be-photo-club%ef%bd%9c%e6%96%b0%e7%a7%80%e7%9b%83%e6%ad%a1%e8%bf%8e%e6%8c%91%e6%88%b0-%e9%a6%96%e7%8d%8egopro-12%e5%b8%b6%e5%9b%9e%e5%ae%b6-rising-star-cup/
CATEGORIES:攝影美學社
ATTACH;FMTTYPE=image/jpeg:https://events.mcu.edu.tw/wp-content/uploads/2024/10/1209期新秀盃電子報配圖.jpg
END:VEVENT
BEGIN:VEVENT
DTSTART;TZID=Asia/Taipei:20241118T090000
DTEND;TZID=Asia/Taipei:20241120T170000
DTSTAMP:20260422T064915
CREATED:20241118T064444Z
LAST-MODIFIED:20241118T064444Z
UID:10000677-1731920400-1732122000@events.mcu.edu.tw
SUMMARY:羽球社 Badminton Club｜11/25-29新生盃羽球賽 Freshman Badminton Tournament
DESCRIPTION:台北校區羽毛球社將於11/25 – 11/29舉辦「北銘新生羽球盃」，本次羽球賽事專為大一新生設計，無論是羽球高手還是初學者，都歡迎踴躍參加，並在賽場上展現自我、挑戰極限。羽毛球這項運動，既能讓選手「羽」化飛翔，也能讓競技的「球」場充滿激情與活力。 \n比賽設有男子單打、男子雙打、女子雙打和混合雙打四個項目，滿足不同同學的需求和興趣，讓每位參賽者都能在擅長的項目中展現自我。比賽採用落地得分制，首達21分者獲勝。比賽時間安排在當週中午12:10至13:00，報名費用為每組NT$300，請於比賽當日現場繳交，並攜帶學生證以便身份確認。 \n此外，為進一步激勵大家的參賽熱情與競技精神，獲獎組別將有機會獲得獎狀和獎金。這場比賽將不僅是一次體育競技的角逐，更是一次增進友誼、共創回憶的絕佳機會。邀請每位大一新生來揮灑青春，讓台北校區的同學們能夠在變冷的季節仍充滿活力一展身手，與大家一起在羽球場上激盪出屬於北銘的榮耀！ \n最後，提醒此活動報名截止日為11/20（三）17:00前，請各位有興趣的同學把握機會，積極報名。完成報名後，賽程公告將於11/23（六）社團Instagram，請詳閱表單中的注意事項，若有任何問題請洽社團Instagram【mcbc113_tp】。 \nTaipei Campus Badminton Club is thrilled to announce the “Ming Chuan Freshman Badminton Tournament” taking place from November 25 to 29. This tournament is specially designed for first-year students\, whether you’re a seasoned badminton pro or a beginner looking to try something new. Come and showcase your skills\, push your limits\, and make the badminton court a lively stage for competition and camaraderie. \nThe tournament offers four categories: Men’s Singles\, Men’s Doubles\, Women’s Doubles and Mixed Doubles\, ensuring there’s something for everyone. Matches will follow a rally scoring system\, with the first player/team to reach 21 points declared the winner. Games will be held during lunchtime from 12:10 to 13:00 throughout the week. \nEntry fee: NT$300 per team\, payable on the day of your match. Participants are required to bring their student ID for verification at the venue. \nTo further motivate participants\, winners will receive certificates and cash prizes! Beyond the thrill of competition\, this tournament is a fantastic opportunity to make new friends\, create lasting memories\, and ignite school spirit. Even as the weather cools\, let’s keep the energy alive on the badminton court\, where freshmen can proudly represent the Taipei Campus. \nImportant: The registration deadline is Wednesday\, November 20\, by 17:00. Don’t miss your chance to participate! Match schedules will be announced on Saturday\, November 23\, via the club’s Instagram. Be sure to review the rules and guidelines provided in the registration form. For any questions\, feel free to contact us through Instagram at mcbc113_tp. \nSwing into action and let’s make this tournament one to remember!
URL:https://events.mcu.edu.tw/event/%e7%be%bd%e7%90%83%e7%a4%be-badminton-club%ef%bd%9c11-25-29%e6%96%b0%e7%94%9f%e7%9b%83%e7%be%bd%e7%90%83%e8%b3%bd-freshman-badminton-tournament/
LOCATION:台北校區Taipei Campus\, 中山北路五段250號\, 台北市\, Taiwan
CATEGORIES:羽球社
ATTACH;FMTTYPE=image/jpeg:https://events.mcu.edu.tw/wp-content/uploads/2024/11/1214期北銘羽球電子報配圖.jpg
END:VEVENT
BEGIN:VEVENT
DTSTART;TZID=Asia/Taipei:20241118T090000
DTEND;TZID=Asia/Taipei:20241129T170000
DTSTAMP:20260422T064915
CREATED:20241118T071158Z
LAST-MODIFIED:20241118T071158Z
UID:10000678-1731920400-1732899600@events.mcu.edu.tw
SUMMARY:圖書館 Library｜11/18-29智慧財產權線上有獎徵答 Protection of Intellectual Property Rights Online Giveaway Quiz
DESCRIPTION:為提升全校師生對智慧財產權的認知，並強化校園智慧財產權保護觀念，銘傳大學圖書館將於11/18-29舉辦「智慧財產權線上有獎徵答」活動。本次活動以線上填答的方式進行，參加者須回答10題與智慧財產權相關的問題，並全數答對方具有抽獎資格。每位得獎者將獲得星巴克飲料券（價值NT$100）一張，名單將於活動結束後公布。 \n本次徵答活動不限參加次數，每人每天限填答一次（當日多次填答也僅會計算一次），參與越多次，中獎機會越高。得獎名單將於12/2（一）在圖書館限時動態及網頁上公布，中獎人需於一週內至圖書館領取獎品，逾期視為放棄。此外，外籍中獎者需繳交獎品價值20%稅金並提供居留證影本。 \n誠摯邀請全校師生踴躍參加這場知識性與趣味性兼具的線上活動，透過填答不僅增進智慧財產權知識，更有機會贏取精美獎品！ \nTo enhance awareness of intellectual property rights (IPR) among faculty and students and promote better understanding of campus IPR protection\, MCU Library will host the “Protection of Intellectual Property Rights Online Giveaway Quiz” from November 18 to 29. This interactive activity invites participants to answer 10 IPR-related questions online. Those who achieve a perfect score will qualify for a prize draw. Winners will receive a Starbucks beverage coupon (worth NT$100)\, with the results announced after the event concludes. \nParticipants may join the quiz multiple times\, but submissions are limited to one per day per participant (only the first attempt each day will count). The more days you participate\, the higher your chances of winning. The winner list will be announced on Monday\, December 2\, via the library’s social media stories and website. Prizes must be claimed at the library within one week; otherwise\, they will be forfeited. For foreign winners\, a 20% tax on the prize value will be charged\, and a copy of the Alien Resident Certificate (ARC) is required. \nWe warmly invite all faculty and students to participate in this engaging and educational online event. Take this opportunity to expand your knowledge of intellectual property rights and win exciting prizes!
URL:https://events.mcu.edu.tw/event/%e5%9c%96%e6%9b%b8%e9%a4%a8-library%ef%bd%9c11-18-29%e6%99%ba%e6%85%a7%e8%b2%a1%e7%94%a2%e6%ac%8a%e7%b7%9a%e4%b8%8a%e6%9c%89%e7%8d%8e%e5%be%b5%e7%ad%94-protection-of-intellectual-property-rights-onlin/
CATEGORIES:圖書館
ATTACH;FMTTYPE=image/jpeg:https://events.mcu.edu.tw/wp-content/uploads/2024/11/1214期圖書館智權電子報配圖.jpg
END:VEVENT
BEGIN:VEVENT
DTSTART;TZID=Asia/Taipei:20241118T090000
DTEND;TZID=Asia/Taipei:20241201T170000
DTSTAMP:20260422T064915
CREATED:20241119T023248Z
LAST-MODIFIED:20241119T023248Z
UID:10000683-1731920400-1733072400@events.mcu.edu.tw
SUMMARY:圖書館 Library｜快來角逐入館達人 Compete to Become a Library Expert
DESCRIPTION:銘傳大學圖書館即將推出快閃活動「我要成為入館達人」，鼓勵同學多利用圖書館資源，活動分為兩週舉行：第一週為11/18至11/24，第二週為11/25至12/01。活動地點涵蓋台北與桃園校區，將分校區統計進館次數，兩週內分別選出進館次數最多的前五名同學。每位得獎者將獲得星巴克飲料券（價值NT$100）一張，名單將分別於11/27及12/04公布。 \n參加活動的方式簡單易行，符合資格的同學需於當週借閱實體書籍至少兩冊，並持學生證或掃描手機QR Code入館。注意！使用臨時入館證或進入台北自習室者不予計算。得獎名單將公布於圖書館粉專限時動態及網頁，得獎者需於名單公布後一週內領獎，逾期視為放棄資格。此外，外籍得獎者需繳交獎品價值20%稅金並提供居留證影本。 \n邀請全校同學熱情參與，爭當入館達人，讓閱讀成為生活的一部分，還有機會贏得精美獎品！ \nMCU Library is launching the exciting flash activity\, “Become a Library Expert” encouraging students to make full use of library resources. The activity spans two weeks: Week 1 (November 18–24) and Week 2 (November 25–December 1). It will be held at both the Taipei and Taoyuan Campuses\, with entry counts tallied separately for each campus. The top five students with the highest entry counts during each week will win a Starbucks beverage voucher (worth NT$100). Winners will be announced on November 27 and December 4 respectively. \nHow to Participate: \n\nEligible participants must borrow at least two physical books during the week.\nEntry must be logged by either presenting a student ID card or scanning the QR code via mobile upon entry.\nTemporary entry passes or visits to the Taipei self-study room will not count.\n\nWinners will be announced through the library’s social media stories and website. Prizes must be claimed within one week of the winner announcement\, or they will be forfeited. Foreign winners will need to pay a 20% tax on the prize value and provide a copy of their residence permit. \nAll students are warmly invited to join this activity. Compete to become a Library Expert\, enrich your life with reading\, and stand a chance to win amazing prizes!
URL:https://events.mcu.edu.tw/event/%e5%9c%96%e6%9b%b8%e9%a4%a8-library%ef%bd%9c%e5%bf%ab%e4%be%86%e8%a7%92%e9%80%90%e5%85%a5%e9%a4%a8%e9%81%94%e4%ba%ba-compete-to-become-a-library-expert/
LOCATION:台北校區Taipei Campus\, 中山北路五段250號\, 台北市\, Taiwan
CATEGORIES:圖書館
ATTACH;FMTTYPE=image/jpeg:https://events.mcu.edu.tw/wp-content/uploads/2024/11/1214期圖書館入達電子報配圖.jpg
END:VEVENT
BEGIN:VEVENT
DTSTART;TZID=Asia/Taipei:20241125T130000
DTEND;TZID=Asia/Taipei:20241206T180000
DTSTAMP:20260422T064915
CREATED:20241129T071146Z
LAST-MODIFIED:20241129T071146Z
UID:10000722-1732539600-1733508000@events.mcu.edu.tw
SUMMARY:應用日語學系 Department of Applied Japanese｜日語配音賽 Japanese Voice Acting Contest
DESCRIPTION:銘傳大學應用日語學系年度盛事「日語配音比賽」將於12/13（五）12:00在P102教室舉行，此次比賽不限科系，參賽隊伍需由4至6人組成，每人限報一隊，報名時間自11/25（一）13:00至12/06（五）18:00，參賽者已繳應日系學會費者可免費參賽，未繳者及外系學生需每人繳交NT$100報名費，觀眾則可免費入場。 \n本次活動為學生提供一個展現日語配音技巧與聲音魅力的舞台，參賽者將透過動畫、影視作品等經典橋段展現創意，並深度體驗日本文化中配音藝術的精髓。所有參賽資料需由隊伍代表透過報名表單上傳，請務必詳閱規定再行報名。若報名隊伍未滿三組，活動將取消；達三組（含）以上則如期舉行，請見諒。 \n喜愛配音或對日語文化有興趣的同學們，無論是參賽或觀賽，都歡迎一同來感受這場聲音與創意交織的盛會，共同留下美好回憶！ \nThe annual event hosted by Department of Applied Japanese\, Japanese Voice Acting Contest\, will be held on Friday\, December 13\, at 12:00 PM in P102. Participation is open to all departments\, with each team consisting of 4–6 members. Participants can only join one team. Registration is open from Monday\, November 25\, 13:00\, to Friday\, December 6\, 18:00. Students who have paid the Applied Japanese Department membership fee can participate for free. Others\, including students from other departments\, are required to pay a registration fee of NT$100 per person. Admission for the audience is free. \nThis event provides students with a platform to showcase their voice acting skills and charisma in Japanese. Participants will creatively perform iconic scenes from animations or films\, experiencing the art of Japanese dubbing and its cultural essence. All entry materials must be uploaded via the registration form by the team representative. Please carefully review the rules before registering. If fewer than three teams register\, the event will be canceled. If three or more teams register\, the event will proceed as scheduled. \nStudents passionate about voice acting or Japanese culture are encouraged to join this vibrant competition\, either as contestants or audience members and create unforgettable memories in this celebration of voice and creativity! \n報名連結 Registration Link：https://docs.google.com/forms/d/e/1FAIpQLSdQRNoOVatSDphy4Vz8OQrFXF5x1P5a48v-sl5-K3bPhRnoNQ/viewform
URL:https://events.mcu.edu.tw/event/%e6%87%89%e7%94%a8%e6%97%a5%e8%aa%9e%e5%ad%b8%e7%b3%bb-department-of-applied-japanese%ef%bd%9c%e6%97%a5%e8%aa%9e%e9%85%8d%e9%9f%b3%e8%b3%bd-japanese-voice-acting-contest/
LOCATION:桃園校區Taoyuan Campus\, 龜山區德明路5號\, 桃園市\, Taiwan
CATEGORIES:應用日語學系
ATTACH;FMTTYPE=image/jpeg:https://events.mcu.edu.tw/wp-content/uploads/2024/11/1216期日語配音電子報配圖.jpg
END:VEVENT
END:VCALENDAR