BEGIN:VCALENDAR
VERSION:2.0
PRODID:-//Events Calendar - ECPv6.8.1//NONSGML v1.0//EN
CALSCALE:GREGORIAN
METHOD:PUBLISH
X-ORIGINAL-URL:https://events.mcu.edu.tw
X-WR-CALDESC:Events for Events Calendar
REFRESH-INTERVAL;VALUE=DURATION:PT1H
X-Robots-Tag:noindex
X-PUBLISHED-TTL:PT1H
BEGIN:VTIMEZONE
TZID:Asia/Taipei
BEGIN:STANDARD
TZOFFSETFROM:+0800
TZOFFSETTO:+0800
TZNAME:CST
DTSTART:20240101T000000
END:STANDARD
END:VTIMEZONE
BEGIN:VEVENT
DTSTART;TZID=Asia/Taipei:20240905T093000
DTEND;TZID=Asia/Taipei:20240906T153000
DTSTAMP:20260425T091312
CREATED:20240826T030320Z
LAST-MODIFIED:20240826T030320Z
UID:10000432-1725528600-1725636600@events.mcu.edu.tw
SUMMARY:2024 DATE SUMMIT 數位商務大趨勢 Digital Business Megatrends｜國際匯壇 International Forum
DESCRIPTION:A decade of convergence\, guided by intelligence\, the DATE SUMMIT: Digital Business Megatrends | International Forum celebrates its 10th anniversary! In 2024\, under the theme “A Golden Decade: AI Leading Innovation Across Industries”\, we are bringing together 19 corporate leaders and thought leaders from 7 countries. The forum will feature diverse topics such as the digital economy value chain\, artificial intelligence\, cybersecurity\, cloud services\, smart manufacturing\, sustainable technology\, talent development\, and digital commerce. Participants will gain a global perspective on digital development trends and the technological transformations driving significant growth in the global digital economy. \n報名 To apply：https://www.accupass.com/eflow/ticket/2407100629363613327320?utm_campaign=accu_banner&utm_medium=home_north&utm_source=Web
URL:https://events.mcu.edu.tw/event/2024-date-summit-%e6%95%b8%e4%bd%8d%e5%95%86%e5%8b%99%e5%a4%a7%e8%b6%a8%e5%8b%a2-digital-business-megatrends%ef%bd%9c%e5%9c%8b%e9%9a%9b%e5%8c%af%e5%a3%87-international-forum/
LOCATION:台北國際會議中心\, 信義路五段1號\, 台北市\, Taiwan
CATEGORIES:ACCUPASS,經濟部國際貿易署
ATTACH;FMTTYPE=image/png:https://events.mcu.edu.tw/wp-content/uploads/2024/08/4-1.png
END:VEVENT
BEGIN:VEVENT
DTSTART;TZID=Asia/Taipei:20240914T093000
DTEND;TZID=Asia/Taipei:20240915T113000
DTSTAMP:20260425T091312
CREATED:20240912T065737Z
LAST-MODIFIED:20240912T065737Z
UID:10000488-1726306200-1726399800@events.mcu.edu.tw
SUMMARY:2024 國際健康綠色饗宴 International Green Party
DESCRIPTION:「2024 國際健康綠色饗宴」將於2024年9月14日至15日假華山文創園區西二館隆重登場！本屆主題為「AI解方：加速通往SDGs？」，旨在深入探討人工智慧（AI）在推動可持續發展目標（SDGs）中的巨大潛力和多樣化應用。隨著全球對可持續發展的需求日益增加，AI技術在解決環境、社會和經濟挑戰方面的應用變得尤為重要。本次會議將匯聚來自世界各地的專家學者，共同探討AI在健康、環境保護、社會公平等領域的創新應用。 \nThe “2024 International Green Party” will be grandly held from September 14 to 15\, 2024 at Huashan 1914 Creative Park\, W2 Building! This year’s theme\, “AI Solutions: Accelerating the Path to SDGs?”\, aims to explore the immense potential and diverse applications of Artificial Intelligence (AI) in advancing the Sustainable Development Goals (SDGs). As the global demand for sustainable development continues to grow\, AI has become crucial in addressing environmental\, social\, and economic challenges. This conference will bring together experts from around the world to discuss innovative AI applications in health\, environmental protection\, social equity\, and more. \n1、活動時間 Date & Time：2024/09/14（六 Saturday）- 09/15（日 Sunday），09:30開始報到 Check-in starts at 09:30 \n2、活動地點 Venue：華山文創園區西二館 W2 Building\, Huashan 1914 Creative Park（杭州北路審計部旁，具體路線可參閱下方之路線圖 route map below） \n3、活動議題 Key Topics \n(1) AI與健康：探討AI在醫療診斷、疾病預防和健康管理中的應用。 \n(2) AI與環境保護：討論AI在生物多樣性保護等方面的創新技術。 \n(3) AI與社會公平：探討如何通過AI技術促進社會公平、包容性增長和消除貧困。 \n(4) AI綠色行銷：品牌運用AI 的實例分享Case Studies，芳香綠意生活，健康久久饗宴！ \n\nAI and Health: Exploring AI’s applications in medical diagnosis\, disease prevention\, and health management.\nAI and Environmental Protection: Discussing innovative AI technologies for biodiversity protection and more.\nAI and Social Equity: Exploring how AI can promote social equity\, inclusive growth\, and poverty alleviation.\nAI Green Marketing: Case studies on brands using AI\, with themes of aromatic greenery and lasting health.\n\n4、活動亮點 \n本屆「2024 國際健康綠色饗宴」主題為「AI解方：加速通往SDGs？」，將邀請AI醫療、AI生物多樣性、AI教育、AI行銷、應用AI提升社會公平等多領域專家蒞臨現場進行演講分享，為大家提供一個互動交流的平台。現場還有AI醫療量測、健康諮詢、香氛贈品、萬用手冊等多重贈品，讓您在聆聽專業分享的同時，也共享健康綠色饗宴！ \nThis year’s theme\, “AI Solutions: Accelerating the Path to SDGs?”\, will feature experts from various fields including AI healthcare\, AI biodiversity\, AI education\, AI marketing\, and AI’s role in promoting social equity. The event provides a platform for interaction and exchange. Attendees can also enjoy AI health measurements\, health consultations\, fragrance giveaways\, multi-purpose notebooks\, and other gifts while listening to professional insights during the event! \n5、活動議程 Event Schedule \n\n\n\n2024年9月14日（六）\n\n\n    時 間 Time\n分鐘 Duration\n主 題 topic\n講 者 Speaker\n\n\n09:30-10:00\n30\n報到入場 Check-in\n\n\n10:00-10:05\n5\n開幕式 Opening Ceremony \n大會主席致詞\n\n\n10:05-10:15\n10\n開場表演  Opening Performance\n\n\n10:15-10:20\n5\n蔣市長萬安致詞 Speech by Taipei Mayor Chiang Wan-an\n\n\n10:20-10:25\n5\n嘉賓致詞 Guest Speech\n\n\n10:25-10:30\n5\n大合照 Group Photo\n\n\n10:30-11:00\n30\nKeynote speech I \nAI科技應用與包容性經濟發展：WLD在提升社會公平中的角色 \nAI Technologies and Inclusive Economic Development: WLD’s Role in Promoting Social Equity\n世界區塊鏈組織代理總幹事 \nYehoshua ‘Jack’ Westover\n\n\n11:00-11:30\n30\nKeynote speech II \nAI對倫理人權的衝擊 \nThe Impact of AI on Ethics and Human Rights\n臺灣創意經濟產業發展協進會 \n陳仁德理事長\n\n\n11:30-12:00\n30\nKeynote speech III \nAI如何重新定義學校的角色與教學方法 \nHow AI Redefines the Role of Schools and Teaching Methods\n台灣人工智能產業協會 \n林立傑理事長\n\n\n12:00-13:30\n90\n午餐時間 & AI量測體驗 Lunch Break & AI Measurement Experience\n\n\n13:30-14:00\n30\nKeynote speech IV \n人工智能架構在醫療領域中的可持續發展目標反思 \nReflections on AI Frameworks in the Healthcare Sector and Sustainable Development Goals\n台灣社會改造協會 \n蔡篤堅創會理事長\n\n\n14:00-14:30\n30\nKeynote speech V \n應用AI二級預防與健康管理APP促進SDGs-3健康與福祉 \nAI Applications in Secondary Prevention and Health Management APP for Promoting SDG-3 (Good Health and Well-being)\n世界國際健康管理學會 \n陳秋隆理事長\n\n\n14:30-15:00\n30\n中場休息 & AI量測體驗 Break & AI Measurement Experience\n\n\n15:00-15:30\n30\nKeynote speech VI \nAI生物多樣性 \nAI for Biodiversity\n大中華史懷哲協會 \n嚴子貿秘書長\n\n\n15:30-16:00\n30\nKeynote speech VII \n如何以AI-2.0 契動「我們本然的全真健康」: H3\, Holistic Hyper-personalized Health \nLeveraging AI-2.0 to Achieve Holistic Hyper-personalized Health (H3)\n智融全球有限公司 \n林祥傳執行長\n\n\n2024年9月15日（日）\n\n\n時 間 Time\n分鐘 Duration \n \n主 題 Topic\n講 者 Speaker\n\n\n09:30-10:00\n30\n報到入場 Check-in\n\n\n10:00-10:30\n30\nKeynote speech I \n品牌運用AI在綠色行銷的實例分享 \nCase Studies of Brands Using AI in Green Marketing\n新世紀形象學院 \n王福闓院長\n\n\n10:30-11:00\n30\nKeynote speech II \n芳香健康，綠意生活 \nAromatherapy and Green Living\n朵妮朵絲股份有限公司 \n謝佳欣講師\n\n\n11:00-11:20\n20\n抽獎活動 & AI量測體驗 Raffle & AI Measurement Experience\n\n\n11:20-11:30\n10\n閉幕式 Closing Ceremony\n\n\n\n  \n6、活動費用（可開立發票） \n各場次 Price per session：NT$500 \n豐富多彩的會議內容一定讓您不虛此行，心動不如行動，歡迎您報名參與，踴躍出席！ \nThis event promises a rich and rewarding experience. Don’t hesitate—register now and join us! \n報名 To apply：https://www.accupass.com/eflow/ticket/2409020824145408800650?utm_campaign=accu_theme&utm_medium=home_north&utm_source=Web \n交通信息 Transportation Information \n(1)自駕 By Car：停車場入口處在北平東路上，提供24小時停車服務。 The parking entrance is on Beiping East Road\, with 24-hour parking service. \n(2)捷運 By MRT：藍線善導寺站6號出口，步行約5分鐘。 Exit 6 at Shandao Temple Station (Blue Line)\, a 5-minute walk. \n(3)公車 By Bus：202、202區、205、212夜間公車、212直行忠孝東路、257、262、262區、276、299、600、605、605新台五線、1813D經中山區、1813E大武崙、1815、1815A、1815D、1815E、忠孝幹線(往忠孝新生)在華山文創園區站下車。 Several bus lines\, including 202\, 205\, 212\, 257\, 262\, and more\, stop at the Huashan 1914 Creative Park Station.
URL:https://events.mcu.edu.tw/event/2024-%e5%9c%8b%e9%9a%9b%e5%81%a5%e5%ba%b7%e7%b6%a0%e8%89%b2%e9%a5%97%e5%ae%b4-international-green-party/
LOCATION:華山文創園區西二館\, 中正區八德路一段1號\, 台北市\, Taiwan
CATEGORIES:ACCUPASS,臺灣創意經濟產業發展協進會
ATTACH;FMTTYPE=image/png:https://events.mcu.edu.tw/wp-content/uploads/2024/09/6.png
END:VEVENT
BEGIN:VEVENT
DTSTART;TZID=Asia/Taipei:20240918T140000
DTEND;TZID=Asia/Taipei:20240918T170000
DTSTAMP:20260425T091312
CREATED:20240827T074310Z
LAST-MODIFIED:20240827T074310Z
UID:10000440-1726668000-1726678800@events.mcu.edu.tw
SUMMARY:零基礎學AI生成式設計 AI-Generated Design from Scratch
DESCRIPTION:一、Canva基礎入門 \n\n介面認識與自訂義環境設定\n內建素材庫搜尋關鍵字與檔案管理方法\n\n二、Canva AI \n\n設計生成、文字生成、智慧影像編輯、智慧轉換\n視線引導的作法、構圖靈感與設計四大原則\n提高工作效率的小技巧\n\n三、品牌識別視覺一致性 \n\n品牌風格的識別與收斂\n透過Canva設計規範保持品牌一致性\n\n四、資源與回饋 \n\n免費資源提供\n課程回顧與重點筆記\n課後資源\n\n\nIntroduction to Canva Basics\n\nFamiliarizing with the interface and customizing the workspace\nSearching keywords in the built-in asset library and file management methods\n\n\nCanva AI\n\nAI-generated designs\, text generation\, smart image editing\, and smart transformations\nTechniques for guiding visual focus\, compositional inspiration\, and the four key principles of design\nProductivity tips to enhance workflow efficiency\n\n\nBrand Identity and Visual Consistency\n\nIdentifying and refining brand style\nMaintaining brand consistency through design standards in Canva\n\n\nResources and Feedback\n\nAccess to free resources\nCourse review and key takeaways\nPost-course resources\n\n\n\n \n \n \n \n\n\n\n早鳥優惠8折 Early Bird Discount\nNT$2\,000\n\n\n原價 Original Price\nNT$2\,500\n\n\n\n報名 To apply：https://www.accupass.com/eflow/ticket/2408130935128858089060
URL:https://events.mcu.edu.tw/event/%e9%9b%b6%e5%9f%ba%e7%a4%8e%e5%ad%b8ai%e7%94%9f%e6%88%90%e5%bc%8f%e8%a8%ad%e8%a8%88-ai-generated-design-from-scratch/
LOCATION:台北市中正區新生南路一段168-8號\, 中正區新生南路一段168-8號\, 台北市\, Taiwan
CATEGORIES:ACCUPASS,先行智庫
ATTACH;FMTTYPE=image/png:https://events.mcu.edu.tw/wp-content/uploads/2024/08/12-1.png
END:VEVENT
BEGIN:VEVENT
DTSTART;TZID=Asia/Taipei:20240927T090000
DTEND;TZID=Asia/Taipei:20241004T170000
DTSTAMP:20260425T091312
CREATED:20240909T063612Z
LAST-MODIFIED:20240909T063612Z
UID:10000471-1727427600-1728061200@events.mcu.edu.tw
SUMMARY:圖書館 Library｜新生探索實驗室：AI協力 全面啟動 Freshmen Exploration Lab: AI Collaboration Fully Launched
DESCRIPTION:銘傳大學圖書館攜手東吳大學、淡江大學圖書館，共同推出「新生探索實驗室：AI協力」系列活動，將於9/9(一)至11/22(五)隆重登場。本次活動包含三大主題，旨在帶領大家探索AI對生活的深遠影響，提升對AI時代的理解與適應力。 \n首先，系列活動之一的「優三圖書聯展書」將於9/9(一)至10/4(五)在圖書館展出，推薦多本與AI相關的精選書籍，內容涵蓋數位依賴、人際關係淺層化、注意力分散、隱私保護及心理健康等議題。透過這次書展，大家將有機會深入了解AI時代的挑戰與機會，並學習如何在迅速變化的數位環境中保持理性和平衡。 \n其次，「借閱活動」鼓勵大家借閱AI相關書籍並參加「AI探索實驗室」線上闖關遊戲。參加者完成闖關任務後即可兌換精美小禮物，並有機會參與抽獎。本次的獎品包括三明治機、蠟筆小新行李束帶、喜怒哀樂口袋托特包、統一集團禮券NT$300及NT$500、小電風扇等豐富好禮，讓大家在學習之餘有更多收穫。 \n此外，還有「新生集點任務 ㄨㄟ(A) ~i 注意喔！」將同步進行。新生只需完成特定集點任務，即可參加抽獎，還能贏得更多驚喜獎品。這項活動不僅期望吸引更多新生進入圖書館，也希望增進同學們之間的交流與學習熱情。 \n即日起可至圖書館查詢活動詳情及參與辦法，誠摯邀請全校師生一同參加，共同探索AI的無限可能，並在大學生活中留下豐富回憶！ \nMing Chuan University Library\, in collaboration with the libraries of Soochow University and Tamkang University\, proudly presents the “Freshmen Exploration Lab: AI Collaboration” series of events\, launching from Monday\, 9/9 to Friday\, 11/22. This event series covers three main themes\, aiming to guide participants in exploring the profound impact of AI on everyday life\, enhancing understanding and adaptability in the AI era. \nFirst\, the “AI-Themed Book Exhibition” will be held from Monday\, 9/9 to Friday\, 10/4 in the library\, showcasing a selection of AI-related books. These books delve into topics such as digital dependence\, the shallowing of human relationships\, attention distraction\, privacy protection\, and mental health. Through this exhibition\, attendees will gain insights into the challenges and opportunities of the AI era and learn how to maintain a balanced and rational approach in the rapidly changing digital landscape. \nSecond\, the “Borrowing Activity” encourages participants to borrow AI-related books and take part in the AI Exploration Lab online challenge game. Upon completing the tasks\, participants can exchange their points for exclusive gifts and enter a raffle. Prizes include sandwich makers\, luggage straps\, emotional tote bags\, Uni-President gift vouchers (valued at NT$300 and NT$500)\, mini fans\, and many more exciting rewards\, adding extra enjoyment to your learning experience. \nIn addition\, the “New Student Point Collection Mission X A~i Watch Out!!!” will also run concurrently. Freshmen who complete specific point collection tasks will qualify for a prize draw\, with chances to win even more surprise gifts. This activity is designed not only to attract more freshmen to visit the Library but also to foster interaction among students and boost their enthusiasm for learning. \nYou can now visit the Library to inquire about the event details and participation methods. All faculty and students are cordially invited to join in this exciting journey of AI exploration\, leaving lasting memories in your university life!
URL:https://events.mcu.edu.tw/event/%e5%9c%96%e6%9b%b8%e9%a4%a8-library%ef%bd%9c%e6%96%b0%e7%94%9f%e6%8e%a2%e7%b4%a2%e5%af%a6%e9%a9%97%e5%ae%a4%ef%bc%9aai%e5%8d%94%e5%8a%9b-%e5%85%a8%e9%9d%a2%e5%95%9f%e5%8b%95-freshmen-exploration-lab/
LOCATION:台北校區Taipei Campus\, 中山北路五段250號\, 台北市\, Taiwan
CATEGORIES:圖書館
ATTACH;FMTTYPE=image/jpeg:https://events.mcu.edu.tw/wp-content/uploads/2024/09/1024期圖書館電子報配圖.jpg
END:VEVENT
END:VCALENDAR