BEGIN:VCALENDAR
VERSION:2.0
PRODID:-//Events Calendar - ECPv6.8.1//NONSGML v1.0//EN
CALSCALE:GREGORIAN
METHOD:PUBLISH
X-ORIGINAL-URL:https://events.mcu.edu.tw
X-WR-CALDESC:Events for Events Calendar
REFRESH-INTERVAL;VALUE=DURATION:PT1H
X-Robots-Tag:noindex
X-PUBLISHED-TTL:PT1H
BEGIN:VTIMEZONE
TZID:Asia/Taipei
BEGIN:STANDARD
TZOFFSETFROM:+0800
TZOFFSETTO:+0800
TZNAME:CST
DTSTART:20240101T000000
END:STANDARD
END:VTIMEZONE
BEGIN:VEVENT
DTSTART;TZID=Asia/Taipei:20240803T160000
DTEND;TZID=Asia/Taipei:20240902T210000
DTSTAMP:20260420T211722
CREATED:20240710T024023Z
LAST-MODIFIED:20240710T024023Z
UID:10000359-1722700800-1725310800@events.mcu.edu.tw
SUMMARY:藏廊 Cang Gallery · 瑰麗奇幻的魔幻電影 Enchanting Fantasy Films · 電影主題創作展 Film Theme Creation Exhibition
DESCRIPTION:⋒ 藏廊 · 瑰麗奇幻的魔幻電影 · 電影主題創作展 Cang Gallery: Enchanting Fantasy Films – Film Theme Creation Exhibition ⋒\n展期 Duration | 2024／8／3 – 9／2\n地點 Location | 藏廊 Cang Gallery \n｜開幕茶會 Opening Reception｜\n8／3（六 Saturday）16:00-21:00（自由入場 Free Entry）\n8／4（日 Sunday）16:00-21:00（自由入場 Free Entry） \n此為免費展覽歡迎參觀，現場玩具、畫作及周邊皆有販售。 \nThis is a free exhibition\, and visitors are welcome.\nToys\, paintings\, and related merchandise will be available for purchase on-site. \n報名 To apply：https://www.accupass.com/eflow/ticket/2407032230321145387147 \n｜展覽介紹 Exhibition Introduction｜ \n你是否也喜歡那一部部扣人心弦的電影呢？\n而在眾多電影類型之中，\n瑰麗奇幻的魔法電影，\n又帶給了你什麼樣天馬行空的想像呢？ \n那些第一次看到如此超出現實的電影時的感動，\n那些帶給你跳脫框架不拘泥於世俗的勇氣，\n那些讓你充滿創作靈感的謬思~\n這些，\n我們都懂！ \n藏廊策展人 法諾，\n2023年底就開始籌備，\n以最最喜愛的魔幻電影為主軸，\n邀請共計18個創作品牌，\n其中有玩具設計師~\n也有插畫創作者~\n他們各自運用自己的風格與原創的角色IP，\n找出一部深感共鳴的電影，\n在長大成人的多年以後去致敬，\n那個過去帶給自己很多感動的電影​，\n究竟有哪些被致敬的電影呢​​？\n又是運用如何的方式來呈現在眾人的面前呢？\n耳熟能詳的知名魔幻電影，\n在一位位創作者的風格與靈感改造之後，\n又會變成怎樣的風貌呢？\n實體的每一件作品都充滿趣味與巧思，\n敬請期待親自到現場的實際觀賞體驗~ \nDo you also love those captivating movies?\nAmong the various film genres\, what kind of imaginative worlds do enchanting fantasy films bring to you? \nThe emotions felt when first encountering such extraordinary films\,\nThe courage to break free from conventions\,\nThe muse that fills you with creative inspiration~\nThese\, we understand! \nCurator Vano started preparing at the end of 2023\,\nFocusing on the beloved fantasy films\,\nHe invited 18 creative brands\, including toy designers and illustrators\,\nEach using their own style and original character IP\,\nTo find a movie that resonates deeply with them\,\nPaying tribute to the films that moved them so much in the past.\nWhich films are being honored?\nHow are they being presented to the audience?\nFamiliar fantasy films\,\nReimagined by various creators’ styles and inspirations\,\nWhat new forms will they take?\nEach piece is full of fun and ingenuity\,\nWe look forward to your personal visit to experience it~ \n \n* 特別備註 Special Note *\n本次展覽活動，\n有為每一位參展品牌進行品牌專訪，\n在接下來的整個七月，\n都會陸陸續續發布上線提供收聽，\n可以在Apple Podcasts\, Spotify與Youtube平台上搜尋[法諾氏深度呼吸]\n即可找到本次參展品牌的專訪節目。 \nFor this exhibition\, we have conducted exclusive interviews with each participating brand.\nThroughout July\, these interviews will be released one after another\, available for listening.\nYou can find these interviews on Apple Podcasts\, Spotify\, and YouTube\nby searching for [vanoshare]. \n| 參展品牌 Participating Brands | \n◆怪奇怖怖BlackBubu @black.bubu_studio\n◆鹽阡阡Salt Chien @c._.c39\n◆801八動妖801dongyao @801dongyao\n◆杉貓 @cedar.cats\n◆枯藤Kotem @kotem_handmade\n◆怪研所guai_yan_suo @guai_yan_suo\n◆咕咚咕嚕社務所 @gu_don.23.gu_lu\n◆小雞崴力Chicken Willie @tw.chicken\n◆Shadow @shadoowww__\n◆J個怪獸模型公仔工作室 @sculptor_monsterj\n◆慶兟QingSin @qing_sin_art\n◆唐葫蘆姑娘 @miss_tanghulu\n◆麻呱 @muggle_croak\n◆玩具殿ToyPalace @toypalace_gg\n◆酷拉拉Culala @culala_li\n◆ASU LAB阿粟實驗工坊 @asu_lab\n◆Bellterax 貝特拉 @bellterax\n◆瘟疫茉莉 Wen.Yi.Mo.Li @wen.yi.mo.li \n空間設計 | 法諾 Vano\n策展規劃 | 法諾 Vano\n概念攝影 | 亮亮 Shine @shinewang_\n視覺設計 | 球球 Jade @witchs.familiar\n展售空間 | 藏廊 Cang Gallery @Cang.Gallery
URL:https://events.mcu.edu.tw/event/%e8%97%8f%e5%bb%8a-cang-gallery-%c2%b7-%e7%91%b0%e9%ba%97%e5%a5%87%e5%b9%bb%e7%9a%84%e9%ad%94%e5%b9%bb%e9%9b%bb%e5%bd%b1-enchanting-fantasy-films-%c2%b7-%e9%9b%bb%e5%bd%b1%e4%b8%bb%e9%a1%8c%e5%89%b5/
LOCATION:台北市信義區永吉路30巷90號2樓\, 信義區永吉路30巷90號\, 台北市\, Taiwan
CATEGORIES:ACCUPASS,藏廊
ATTACH;FMTTYPE=image/png:https://events.mcu.edu.tw/wp-content/uploads/2024/07/19.png
END:VEVENT
BEGIN:VEVENT
DTSTART;TZID=Asia/Taipei:20240810T100000
DTEND;TZID=Asia/Taipei:20240825T150000
DTSTAMP:20260420T211722
CREATED:20240806T040632Z
LAST-MODIFIED:20240806T040632Z
UID:10000394-1723284000-1724598000@events.mcu.edu.tw
SUMMARY:知卡宣農村自然療癒體驗 Cikasuan Rural Natural Healing Experience
DESCRIPTION:開放時間 Opening Hours：週六及週日 Saturdays and Sundays\n活動地點 Venue：知卡宣綠森林親水公園內種子圖書館 Seed Library in Cikasuan Water Park\n體驗時段 Experience Sessions：10:00-11:00 / 14:00-15:00\n製作時間 Duration：依照課程而有所不同 Depends on the course \n場次介紹 Session Introduction \n【8月10日 August 10】 \n上午場 Morning Session 10:00-11:00 貓公部落 Maokong Tribe \n體驗課程 Experience Course：麻線杯袋 Hemp Rope Cup Bag\n課程介紹 Course Introduction：苧麻是貓公部落不可或缺的纖維材料之一，過去多用在織布及男子的工作衣，學習捻線的技法製作屬於自己的環保杯袋！ Ramie is one of the essential fiber materials of the Maokong Tribe\, traditionally used for weaving and men’s work clothes. Learn the technique of spinning yarn to make your own eco-friendly cup bag!\n報名費用 Fee：NT$200/人 person \n下午場 Afternoon Session 14:00-15:00 七星柴魚博物館 Chihsing Tan Katsuo Museum \n體驗課程 Experience Course：柴魚跳跳章魚燒 Katsuobushi Jumping Takoyaki\n課程介紹 Course Introduction：先以特製的刨片刀具將整條的柴魚塊透過雙手合力來進行刨片的體驗，完成之柴魚片可直接食用！或是攜回調製湯品、佐麵拌飯等等！再透過章魚燒器具與新鮮的食材，翻轉出挑逗味蕾的章魚燒丸子，最後淋上柴魚花與照燒醬汁，增添旅途的絕妙體驗感受。 Use a special shaving tool to shave a whole piece of katsuobushi with both hands. The shaved katsuobushi can be eaten directly or taken home to prepare soup\, noodles\, etc.! Then\, using takoyaki equipment and fresh ingredients\, create delicious takoyaki balls. Finally\, drizzle with katsuobushi flakes and teriyaki sauce for an extraordinary taste experience.\n報名費用 Fee：NT$250/人 person \n【8月11日 August 11】 \n上午場 Morning Session 10:00-11:00 干城社區 Gancheng Community \n體驗課程 Experience Course：創意貼石盆栽 Creative Potted Succulents\n課程介紹 Course Introduction：挑選自己喜愛的多肉植物栽種至盆栽內，並挑選不同形狀的小石頭拼貼出屬於你的創意多肉盆栽。 Choose your favorite succulent plant and pot it\, then pick different shapes of small stones to create your own creative succulent pot.\n報名費用 Fee：NT$200/人 person \n下午場 Afternoon Session 14:00-15:00 干城社區 Gancheng Community \n體驗課程 Experience Course：精靈種子樹 Elf Seed Tree\n課程介紹 Course Introduction：挑選各式各樣的種子及裝飾品，栽種至盆栽內，搭配空氣植物，製作自己的精靈種子樹吧！ Select various seeds and decorations\, plant them in a pot\, and pair them with air plants to create your own elf seed tree!\n報名費用 Fee：NT$200/人 person \n【8月17日 August 17】 \n上午場 Morning Session 10:00-11:00 廖快菸樓 Liao Kuai Tobacco Building \n體驗課程 Experience Course：豆腐乳DIY DIY Fermented Tofu\n課程介紹 Course Introduction：可是從黃豆耕種、板豆腐、醃曬成豆腐塊。 再加入自家發酵的米豆麴，經適當的配比，裝瓶熟成3個月以上，這樣的發酵製成的豆腐乳，可拉長保存的時間， 又可增添美味，更是古早老味的傳統作法唷！ From soybean cultivation\, making tofu\, to fermenting tofu cubes. Add homemade rice and bean koji\, mix properly\, and bottle for over three months to ferment. This traditional fermented tofu can be stored longer and tastes delicious.\n報名費用 Fee：NT$50/人 person\n（!!!因系統最低設定售價為NT$100，此場次報名費為NT$50，故報名此場次之參與者將於現場退還NT$50。 Note: Due to the system’s minimum price setting of NT$100\, participants of this session will be refunded NT$50 on-site.） \n下午場 Afternoon Session 14:00-15:00 廖快菸樓 Liao Kuai Tobacco Building \n體驗課程 Experience Course：金包銀紅龜粿 Golden-Silver Red Turtle Cake\n課程介紹 Course Introduction：台灣盛產稻米，人們除了以米為主食之外，也善於用米，製作各式糕粿，每逢拜神祭祖婚喪喜慶的時候，就用來當作供品。糕粿形狀多以「圓」為主，取團圓和諧之意。 古人說：喜則金包銀，忌銀包金，正確紅龜粿的作法是金包銀，是指外紅，內白之意思。 Taiwan produces a lot of rice\, and besides using it as a staple food\, people also make various cakes. These cakes are used as offerings during rituals and celebrations. The traditional “Golden-Silver” Red Turtle Cake is red outside and white inside.\n報名費用 Fee：NT$50/人 person\n​​​​​​​（!!!因系統最低設定售價為NT$100，此場次報名費為NT$50，故報名此場次之參與者將於現場退還NT$50。 Note: Due to the system’s minimum price setting of NT$100\, participants of this session will be refunded NT$50 on-site.） \n【8月18日 August 18】 \n上午場 Morning Session 10:00-11:00 花蓮縣原住民族野菜學校 Hualien Indigenous Wild Vegetable School \n體驗課程 Experience Course：祝福小米串 Blessing Millet String\n課程介紹 Course Introduction：用真的小米來製成一串串的吊飾，可以把吊飾掛在鑰匙圈或背包上象徵祝福跟在你身邊唷！ Use real millet to make a string decoration. You can hang it on your keychain or backpack as a symbol of blessing.\n報名費用 Fee：NT$150/人 person \n下午場 Afternoon Session 14:00-15:00 花蓮縣原住民族野菜學校 Hualien Indigenous Wild Vegetable School \n體驗課程 Experience Course：薏苡串珠 Job’s Tears Beads\n課程介紹 Course Introduction：薏苡是原住民傳統穀類，有驅邪的作用， 它表面天然的琺瑯質，有天然石的美，且依生長區域的不同而展現不同的形狀和顏色，其質地堅硬，因此常被串成裝飾用的手環及項鍊。 Job’s tears are a traditional grain with protective properties. They have a natural enamel surface\, resembling natural stones in various shapes and colors depending on their growing region. Their hard texture makes them suitable for making bracelets and necklaces.\n報名費用 Fee：NT$100/人 person \n【8月24日 August 24】 \n上午場 Morning Session 10:00-11:00 貓公部落 Maokong Tribe \n體驗課程 Experience Course：輪傘草杯墊 Umbrella Grass Coaster\n課程介紹 Course Introduction：將部落傳統草蓆縮小成迷你的，一起認識手作輪傘草杯墊的做法吧！ Learn to make mini traditional grass mats into umbrella grass coasters.\n報名費用 Fee：NT$200/人 person \n下午場 Afternoon Session 14:00-15:00 七星柴魚博物館 Chihsing Tan Katsuo Museum \n體驗課程 Experience Course：柴魚跳跳章魚燒 Katsuobushi Jumping Takoyaki\n課程介紹 Course Introduction：先以特製的刨片刀具將整條的柴魚塊透過雙手合力來進行刨片的體驗，完成之柴魚片可直接食用！或是攜回調製湯品、佐麵拌飯等等！再透過章魚燒器具與新鮮的食材，翻轉出挑逗味蕾的章魚燒丸子，最後淋上柴魚花與照燒醬汁，增添旅途的絕妙體驗感受。 Use a special shaving tool to shave a whole piece of katsuobushi with both hands. The shaved katsuobushi can be eaten directly or taken home to prepare soup\, noodles\, etc.! Then\, using takoyaki equipment and fresh ingredients\, create delicious takoyaki balls. Finally\, drizzle with katsuobushi flakes and teriyaki sauce for an extraordinary taste experience.\n報名費用 Fee：NT$250/人 person \n【8月25日 August 25】 \n上午場 Morning Session 10:00-11:00 東里社區 Dongli Community \n體驗課程 Experience Course：3D果凍花 3D Jelly Flower\n課程介紹 Course Introduction：果凍花是由海藻粉及蒟蒻粉成分，以粉水比例製作成晶瑩剔透的果凍，再從新鮮蔬果萃取天然顏色，並用工具及雕花的技巧反方向注入果凍內，最後以喜歡的食材口味做為封底，完成一體成形宛如水中花般的夢幻，手作過程是很有趣也很療癒，歡迎親子一起體驗果凍花。 Made from agar and konjac powder\, the jelly is crystal clear. Natural colors are extracted from fresh fruits and injected into the jelly using tools and flower carving techniques\, creating a stunning flower inside. The bottom layer is flavored to your liking\, making the process fun and therapeutic. This activity is suitable for parents and children.\n報名費用 Fee：NT$160/人 person \n下午場 Afternoon Session 14:00-15:00 東里社區 Dongli Community \n體驗課程 Experience Course：3D果凍花 3D Jelly Flower\n課程介紹 Course Introduction：果凍花是由海藻粉及蒟蒻粉成分，以粉水比例製作成晶瑩剔透的果凍，再從新鮮蔬果萃取天然顏色，並用工具及雕花的技巧反方向注入果凍內，最後以喜歡的食材口味做為封底，完成一體成形宛如水中花般的夢幻，手作過程是很有趣也很療癒，歡迎親子一起體驗果凍花。 Made from agar and konjac powder\, the jelly is crystal clear. Natural colors are extracted from fresh fruits and injected into the jelly using tools and flower carving techniques\, creating a stunning flower inside. The bottom layer is flavored to your liking\, making the process fun and therapeutic. This activity is suitable for parents and children.\n報名費用 Fee：NT$160/人 person \n報名 To apply：https://www.accupass.com/eflow/ticket/2407242321521877099583?utm_source=EventPage&utm_medium=AdCard&utm_campaign=accu_AdCard_2407170608519215368340
URL:https://events.mcu.edu.tw/event/%e7%9f%a5%e5%8d%a1%e5%ae%a3%e8%be%b2%e6%9d%91%e8%87%aa%e7%84%b6%e7%99%82%e7%99%92%e9%ab%94%e9%a9%97-cikasuan-rural-natural-healing-experience/
LOCATION:種子圖書館\, 973吉安鄉中正路二段299號\, 花蓮縣\, Taiwan
CATEGORIES:ACCUPASS,花蓮農村好生活
ATTACH;FMTTYPE=image/png:https://events.mcu.edu.tw/wp-content/uploads/2024/08/30.png
END:VEVENT
BEGIN:VEVENT
DTSTART;TZID=Asia/Taipei:20240810T140000
DTEND;TZID=Asia/Taipei:20240818T170000
DTSTAMP:20260420T211722
CREATED:20240801T071726Z
LAST-MODIFIED:20240801T071726Z
UID:10000386-1723298400-1724000400@events.mcu.edu.tw
SUMMARY:光羽田 Sunfield Art Studio｜手作課程 DIY Workshop｜角落小森林 空氣鳳梨裝飾畫 Little Forest in the Corner: Air Plant Art Painting
DESCRIPTION:▋ 活動日期 Date & Time \n2024/8/10（六 Saturday）14:00-17:00 \n2024/8/18（日 Sunday）14:00-17:00 \n▋ 對象 Target Audience：一般民眾 General Public \n▋ 人數 Participants：6-10人 people \n▋ 報名 To apply：https://www.accupass.com/eflow/ticket/2407081038299436239740?utm_source=EventPage&utm_medium=AdCard&utm_campaign=accu_AdCard_2406150556556634865460 \n報名成功傳詳細地址 \n鄰近板橋火車站 \n▋ 課程簡介 Course Introduction \n｜植物界的精靈 – 空氣鳳梨 Elves of the Plant World – Air Plants｜ \n \n覺得辦公室了無生氣嗎？好想養綠植卻擔心許多限制？別擔心，可以試試可愛又療癒的空氣鳳梨吧。 \n什麼是空氣鳳梨？相信大家都是初次聽見，它不需要土壤來吸取養份，大多數只要透過空氣得以生存，是世界上唯一完全生於空氣中的植物喔。 \n不用土壤與大量的水分，超適合植物新手入門，讓大家跟著老師一起進入空氣鳳梨的世界，將空間角落打造成屬於自己的小森林吧。 \nDo you find your office lifeless? Want to keep green plants but worry about the limitations? Don’t worry\, try the cute and soothing air plants! \nWhat are air plants? Many of you might be hearing this for the first time. They don’t need soil to absorb nutrients and can mostly survive through the air\, making them the only plant in the world that lives entirely in the air. \nWithout the need for soil and a lot of water\, they are perfect for beginner plant enthusiasts. Join the instructor to explore the world of air plants and turn your corner space into your own little forest. \n \n｜肌理與藝術 Textures and Art｜ \n藝術的表現不一定是具象，可以藉由媒材表現藝術家的心境與理念。試著使用不同類型的材料，如沙子、碎石或各類粉末等多樣複合媒材，可混合到顏料中，或是直接塗抹在畫布上，藉此創造出獨特的立體感和光影效果。 \n將藝術創作結合植物絕對是最獨特與創新的手作！在小小的桌面上，可用空間一定有限，把美感與儀式感融合，不僅提升空間利用率，更讓生活擁有滿滿的幸福感，適合喜愛藝術與植栽的你，可以自用，還能送禮，療癒又實用。 \nArt expression isn’t necessarily figurative. It can convey the artist’s mood and ideas through various media. Try using different materials like sand\, gravel\, or various powders\, which can be mixed into the paint or applied directly to the canvas\, creating unique three-dimensional and light-shadow effects. \nCombining artistic creation with plants is the most unique and innovative DIY! On a small desktop with limited space\, integrating aesthetics and a sense of ritual not only enhances space utilization but also fills life with happiness. Suitable for art and plant lovers\, it can be used personally or given as a gift\, therapeutic and practical. \n▋ 課堂內容 Class Content \n空氣鳳梨植物介紹 \n肌理技法示範 \n構圖與顏色調配 \n創作流程講解 \n作品完成及分享 \n\nIntroduction to Air Plants\nDemonstration of Texture Techniques\nComposition and Color Mixing\nExplanation of the Creation Process\nCompletion and Sharing of Works\n\n▋ 成品 Finished Product \n藝術肌理6吋畫框1個（尺寸約12.4×17.4公分）（包含空氣鳳梨×1） \nOne 6-inch textured art frame (approximately 12.4×17.4 cm) (includes one air plant) \n \n \n \n▋ 講師介紹 Instructor Introduction \n賴詩蓓（蓓兒老師） \n▋ 學歷 Education \n國立臺灣藝術大學 雕塑學系 學士 Bachelor’s in Sculpture\, National Taiwan University of Arts \n▋ 品牌 Brand \n蓓窩beiworld \nIG / beiworld.art \nFB / Beiworld蓓窩 \n▋ 經歷 Experience \n新北市自強國中美術社指導老師 \n基隆市陽明海洋文化藝術館流動畫親子課程教學 \n台北市久號流動畫與樹脂創作課程教學至今 \n2023高雄市夢時代百貨VIP獨享手作課程特聘老師 \n2024華岡興業基金會-華岡兒童冬/夏令營兼任老師 \n▋ 貼心小提醒 Friendly Reminders \n◆課堂為大家準備圍裙，讓您創作時再也不用擔心衣服的面子問題，盡情揮灑創作。 \n◆課程費用包含空氣鳳梨1株，如想攜帶自己的空氣鳳梨也沒問題。 \n◆課程成品為創作畫框，可放裝飾空間與牆面之外，還可以滿足養植物的心願，美觀又實用。 \n◆當天會提供養空氣鳳梨的小知識與注意事項，不用擔心自己是植物新手喔。 \n◆課程當天可以直接帶走作品，不用等待作品風乾，十分便利。 \n◆ Aprons will be provided in the classroom\, so you don’t have to worry about getting your clothes dirty and can create freely.\n◆ The course fee includes one air plant. You are welcome to bring your own air plant if you prefer.\n◆ The finished product is a creative art frame\, which can be used to decorate spaces and walls and satisfy your plant-growing desires. It’s both beautiful and practical.\n◆ The course will provide knowledge and care tips for air plants\, so don’t worry if you are a beginner with plants.\n◆ You can take your work home on the same day without waiting for it to dry\, which is very convenient. \n▋ 學員作品 Student Works
URL:https://events.mcu.edu.tw/event/%e5%85%89%e7%be%bd%e7%94%b0-sunfield-art-studio%ef%bd%9c%e6%89%8b%e4%bd%9c%e8%aa%b2%e7%a8%8b-diy-workshop%ef%bd%9c%e8%a7%92%e8%90%bd%e5%b0%8f%e6%a3%ae%e6%9e%97-%e7%a9%ba%e6%b0%a3%e9%b3%b3%e6%a2%a8/
CATEGORIES:ACCUPASS,光羽田
ATTACH;FMTTYPE=image/png:https://events.mcu.edu.tw/wp-content/uploads/2024/08/22.png
END:VEVENT
BEGIN:VEVENT
DTSTART;TZID=Asia/Taipei:20240810T140000
DTEND;TZID=Asia/Taipei:20240831T170000
DTSTAMP:20260420T211722
CREATED:20240808T004447Z
LAST-MODIFIED:20240808T004447Z
UID:10000399-1723298400-1725123600@events.mcu.edu.tw
SUMMARY:《古典時代的瘋狂史 A History of Madness in the Classical Age》×《明室 Camera Lucida》 ｜書蟲的夏季課 Bookworm's Summer Class
DESCRIPTION:法國哲學家傅柯（Michel Foucault\, 1926-1984）可說是二戰以來繼沙特（Jean-Paul Sartre\, 1905-1980）之後，最為人所知、思想也最為原創的法國哲學家之一。在其生命短短不到六十年的歲月裡，留下了《古典時代的瘋狂史》（Histoire de la folie à l’âge classique\, 1961）、《臨床的誕生》（Naissance de la clinique\, 1963）、《詞與物》（Les mots et les choses\, 1966）、《知識考古學》（L’archéologie du savoir\, 1969）、《話語的秩序》（L’ordre du discours\, 1971）、《監視與懲罰》（Surveiller et punir\, 1975）、四卷《性史》（Histoire de la sexualité I -IV），並留下數千篇中短論文與訪談，收錄在《文與言》（Dits et écrits I et II），還有在他過世後，門生故舊編纂的手稿等，諸如《主體的解釋學》（L’herméneutique du sujet\, 2001）、《非正常的人》（Les Anormaux\, 1999）等十四餘冊書籍。今年適逢其逝世四十週年，就讓我們以兩次的講座來引領讀者進入傅柯短暫又多彩的世界。 \nFrench philosopher Michel Foucault (1926-1984) is considered one of the most renowned and original thinkers in France since World War II\, following Jean-Paul Sartre (1905-1980). Despite his relatively short life of less than sixty years\, Foucault left behind significant works including Madness and Civilization (Histoire de la folie à l’âge classique\, 1961)\, The Birth of the Clinic (Naissance de la clinique\, 1963)\, The Order of Things (Les mots et les choses\, 1966)\, The Archaeology of Knowledge (L’archéologie du savoir\, 1969)\, The Order of Discourse (L’ordre du discours\, 1971)\, Discipline and Punish (Surveiller et punir\, 1975)\, and the four-volume History of Sexuality (Histoire de la sexualité I-IV). He also produced thousands of essays and interviews collected in Dits et écrits I et II\, as well as posthumously compiled manuscripts by his students and colleagues\, such as The Hermeneutics of the Subject (L’herméneutique du sujet\, 2001) and Abnormal (Les Anormaux\, 1999). This year marks the 40th anniversary of his passing\, and we invite readers to explore Foucault’s brief yet colorful world through a series of two lectures. \n《明室》講座介紹 Introduction to the Camera Lucida Lecture \n時隔將近三十年（1997-2024），羅蘭‧巴特的《明室》繁體中文新譯本，在今年春天現身了！喜愛巴特和攝影理論的讀者莫不欣喜期待，一邊持有舊版《明室》，一邊趨之若鶩奔赴新作。許綺玲老師在第二版的譯作裡進行了重要的修訂與勘誤，讓明室更加明亮了。此時不重讀《明室》，更待何時？ \nAfter nearly thirty years (1997-2024)\, a new traditional Chinese translation of Roland Barthes’ Camera Lucida has been released this spring! Fans of Barthes and photography theory are eagerly anticipating this edition\, many holding onto their old copies of Camera Lucida while rushing to obtain the new one. Teacher Hsu Chi-Ling has made significant revisions and corrections in this second edition\, making the Camera Lucida even brighter. If ever there was a time to reread Camera Lucida\, it is now! \n報名 To apply：https://www.accupass.com/eflow/ticket/2407211533261502963796?utm_source=EventPage&utm_medium=AdCard&utm_campaign=accu_AdCard_2407230335331819045964
URL:https://events.mcu.edu.tw/event/%e3%80%8a%e5%8f%a4%e5%85%b8%e6%99%82%e4%bb%a3%e7%9a%84%e7%98%8b%e7%8b%82%e5%8f%b2-a-history-of-madness-in-the-classical-age%e3%80%8bx%e3%80%8a%e6%98%8e%e5%ae%a4-camera-lucida%e3%80%8b-%ef%bd%9c/
LOCATION:思享森林咖啡共享空間\, 大安區羅斯福路三段245號2樓之1\, 台北市\, Taiwan
CATEGORIES:ACCUPASS,書蟲時代
ATTACH;FMTTYPE=image/png:https://events.mcu.edu.tw/wp-content/uploads/2024/08/5.png
END:VEVENT
BEGIN:VEVENT
DTSTART;TZID=Asia/Taipei:20240812T080000
DTEND;TZID=Asia/Taipei:20240823T170000
DTSTAMP:20260420T211722
CREATED:20240501T063302Z
LAST-MODIFIED:20240501T063302Z
UID:10000206-1723449600-1724432400@events.mcu.edu.tw
SUMMARY:「2024花蓮短片創作獎」徵件活動 "2024 Hualien Film Awards" Submission Event
DESCRIPTION:花蓮縣為培育在地影視人才，鼓勵多元短片影像創作形式、主題、影像美學之創新與新媒體應用，並廣邀社會大眾針對具有花蓮元素的故事進行影音創作，特辦理「2024花蓮短片創作獎」，公開徵選適合新媒體（網路、新媒體平台等）傳播與映演之15分鐘內短片作品。\n活動總獎金高達100萬！！ \n“2024 Hualien Film Awards” aims to cultivate local talents in film and television by encouraging innovative forms\, themes\, and aesthetics of short film creation\, as well as the application of new media. The event invites the public to create audiovisual works focusing on stories with elements of Hualien. Short films suitable for dissemination and screening on new media platforms (such as the internet and new media platforms) within 15 minutes are sought. \nThe total prize money for the event is up to NT$1M!! \n報名時間 Registration Period：2024/5/1-2024/8/23\n報名網址 Registration Link：https://forms.gle/CqceLN7L1J1cZRTY6 \n相關參考資料 Related Reference Materials： \n2024花蓮短片創作獎簡章 Guidelines \n2024花蓮短片創作獎海報 Poster
URL:https://events.mcu.edu.tw/event/%e3%80%8c2024%e8%8a%b1%e8%93%ae%e7%9f%ad%e7%89%87%e5%89%b5%e4%bd%9c%e7%8d%8e%e3%80%8d%e5%be%b5%e4%bb%b6%e6%b4%bb%e5%8b%95-2024-hualien-film-awards-submission-event/
LOCATION:線上 Online
CATEGORIES:新媒體暨傳播管理學系
ATTACH;FMTTYPE=image/jpeg:https://events.mcu.edu.tw/wp-content/uploads/2024/05/2024花蓮短片創作獎海報_page-0001-scaled-1.jpg
END:VEVENT
BEGIN:VEVENT
DTSTART;TZID=Asia/Taipei:20240816T190000
DTEND;TZID=Asia/Taipei:20240818T170000
DTSTAMP:20260420T211722
CREATED:20240730T010933Z
LAST-MODIFIED:20240730T010933Z
UID:10000377-1723834800-1724000400@events.mcu.edu.tw
SUMMARY:《獨自跳舞 Solo Dance》第一屆舞蹈創作平台演出 1st Dance Creation Platform Performance
DESCRIPTION:第一屆《獨自跳舞 Solo Dance》舞蹈創作平台概念是一個從自我的實驗開始，展開一場與自己私密對話的創作時光，試圖藉此探尋生命的方向。四位創作者暨表演者將透過環境去尋找不一樣的觀點，引領觀眾遊走穿梭於寶藏巖國際藝術村，享受一場饒富風味的視覺饗宴。 \nThe 1st “Solo Dance” Dance Creation Platform is conceived as a journey beginning with personal experimentation\, leading to an intimate dialogue with oneself\, and ultimately exploring the direction of life. Four creators and performers will seek unique perspectives through their environments\, guiding the audience on a flavorful visual feast through Treasure Hill Artist Village. \n「獨自在孤獨裡擁抱過去」 \n“Embracing the Past Alone in Solitude” \n「獨自」是一種私密儀式與對話的途徑 \n檢視內外在的平衡 交織肢體的狀態 \n彙整出屬於自我獨特的觀點 \n身體、外界、無設限的任何空間  \n與你（妳）與萬物進行對談 \n“Solo” is a means of intimate ritual and dialogue\, \nExamining the balance of internal and external states\, \nWeaving together the condition of the body\, \nConsolidating unique viewpoints of the self\, \nBody\, world\, unrestricted space\, \nConversing with you and everything. \n \n賴翠霜舞創劇場成立12年以來一直在尋找不同的契機為表演藝術盡一份心力，在今年籌劃了陪伴年輕人創作的想法：如何讓喜歡創作的新鮮人被看見？創作平台因而誕生。 \n第一屆舞蹈創作平台概念是一個從自我的實驗開始，展開一場與自己私密對話的創作時光，透過環境去尋找不一樣的觀點和視覺饗宴，讓年輕人大膽的實驗與尋找自己在創作這條路上的答案。 \nLais Creative Dance Theater has been dedicated to supporting performing arts for 12 years. This year\, they have planned a platform to accompany young creators: how can new talents be seen? Thus\, the creation platform was born. This platform encourages young people to boldly experiment and search for their answers on the path of creation through personal exploration and seeking new perspectives and visual feasts. \n報名 To apply：https://www.accupass.com/eflow/ticket/2406180405448214725510?utm_source=EventPage&utm_medium=AdCard&utm_campaign=accu_AdCard_2407160917047906729600 \n活動內容 Event Content \n四位創作者暨表演者陳群翰、陳璽尹、郭研華、蕭景馨在藝術總監賴翠霜及創作顧問齊藤伸一的陪同下，依據第一屆舞蹈創作平台的主題：我獨自在 (_各自的主題_）跳舞，以研究、探討、紊亂或是挖掘作為敘述方向，嘗試用多種可能性和概念在有趣的空間裡尋找創作。 \nCreators and performers Chen Qun-han\, Chen Xi-yin\, Kuo Yen-hua\, and Xiao Xing-xin\, along with Artistic Director Tsui-shuang Lai and Creation Consultant Shinichi Saito\, will explore the theme: Dancing Alone in (individual themes). They will research\, explore\, disrupt\, or excavate\, using various possibilities and concepts in interesting spaces to find their creation. \n陳群翰 Chen Qun-han｜我獨自在共同體的想像中跳舞 Dancing Alone in the Imagination of a Community \n這個作品想對於自身文化的運行狀態、人對文化的辨認方式，以及纏捲其中的歸屬感議題進行探問：順著文化的河流回望，河流漸漸分岔成不同的支流。雖然支流在不同階段匯進大河之中，大河的組成是不斷變動的，我們卻仍然將這些成份不同的階段，納進同一個大河的名字。一條河或一個文化，在變動中，我們如何指稱眼前的事物？ \n記憶、情感、身體樣態，在時間中逐漸在我的體內累積、混合、變形。我想把發生在我身上的混合狀態跳出來，給予他們形狀，看看他們會怎樣被重新想像。我好奇的是命名與指認的政治性：我們如何想像一個名字的內容？我們如何認為眼前的樣態足以匹配這個名字？我們如何冠上名字而忽略混雜其中的他者？ \nThis work explores the operation of one’s own culture\, how people identify with it\, and the sense of belonging intertwined within it. As we follow the cultural river\, it splits into different streams at various stages\, yet we name them all as one river. How do we name the constantly changing elements of culture? This piece dances out the mixed states within me\, giving them shape and exploring the politics of naming and recognition. \n陳璽尹 Chen Xi-yin｜我獨自在練愛腦跳舞 Dancing Alone in the Practice of Love \n「愛是什麼？」迷失於愛中，正獨自尋找著練習愛的源頭，曾經以唇尖觸碰的那張紙也著火了，燃燒的濃煙，指引著我找到藏於內部身處燻黑的靈魂。真的找不到出口？還是嫌麻煩？只想沈浸在赤紅而旺盛的一簇火焰中，來吧！燃燒吧！連同悲傷一起愛著吧！ \n本作品嘗試以「戀愛腦」為主題發想，透過紙的「燃點」去探索人如何用自己「愛」的方式去升溫「愛」，呈現人在被愛衝昏頭時的擺盪不定，跨越燃點界線的內與外，在意識與控制那剛剛好的臨界點中，用愛去尋找自我的過程。 \n（特別感謝：郭學勻、陳寘尹） \n“What is love?” Lost in love\, searching for the source of practicing love. A burning paper touched by the lips guides me to the charred soul within. This work explores the theme of “romantic brain” through the “ignition point” of paper\, presenting the process of finding oneself through love. \n郭研華 Kuo Yen-hua｜我獨自在#的#跳舞 Dancing Alone in the # of # \n作品試圖在探索中提問： \n每個人的身體都是層層堆疊的歷史，在這些歷史裡，身份、經歷都成為關鍵字，那些「字詞」不僅在身體留下痕跡，更成為一種自我的形象，被個體賦予意義。 \n於是我們學會很快的，搜查、找尋、發現、確認，用這種方式在追求方便和快速的時代中，「認識」彼此。 \n而在過程中，總會發現，那些區分好的每一格群體之間，人與人，仍是那麼的不同。 \n關鍵字之中，藏著飄移的隱形標準，保護合格者，排斥缺乏者。 \n那麼，我們在關鍵字之內的身體，能可以如何拓展、拓寬它的本意？ \n身體如何能早在「它」出現之前，建立起自己的存在，而不仰賴它？ \nThis work questions and explores: each body is a layered history where identities and experiences become keywords\, leaving traces and forming a self-image. How do we recognize each other in the age of quick searches and discoveries? How can bodies expand their meanings beyond keywords? \n蕭景馨 Xiao Xing-xin｜我獨自在”千頭萬緒的念頭”中跳舞 Dancing Alone in a Myriad of Thoughts \n資訊太多如何選擇？判斷失靈無法決定？想擺脫進退兩難卻深陷泥濘？ \n一則訊息，一種念頭；萬則訊息，萬種念頭。 \n哪個念頭對我真實？哪種念頭對我有意義？ \n  \n透過此作，表達在當代社會中我們被千頭萬緒的訊息／念頭攻擊、晃盪、暫時喪失主體位置，但又奮力向前，試圖撥雲見霧定義自我價值的求生態度－－這次你仍是原地打轉、自我蒙蔽、不斷內耗只會大喊「我好爛～」，卻不願跨出那關鍵的一步？ \n  \n你，也承受太多疑問了嗎？ \n（音樂設計：陳以諾） \nInformation overload leads to indecision. How do we choose which thoughts are real and meaningful? This work expresses the struggle of contemporary society inundated with information\, trying to define self-worth amidst confusion and indecision. \n製作團隊 Production Team \n藝術總監/統籌/創作陪同 Artistic Director/Coordinator/Creation Accompaniment｜賴翠霜 Tsui-Shuang Lai \n創作顧問 Creation Consultant｜齊藤伸一 Shinichi Saito \n創作者暨表演者 Creators and Performers｜陳群翰 Qun-Han Chen、陳璽尹 Xi-Yin Chen、郭研華 Yen-Hua Kuo、蕭景馨 Xing-Xin Xiao \n燈光設計/執行 Lighting Design/Execution｜黃申全 Shen-Chuan Huang \n主視覺攝影/平面設計 Main Visual Photography/Graphic Design｜林育全 Yu-Quan Lin \n演出動態影像紀錄 Performance Dynamic Image Recording｜林大洋 Ta-Yang Lin \n行政執行 Administration Execution｜許瑜芳 Yu-Fang Hsu \n行政協力 Administrative Assistance｜陳璽尹 Xi-Yin Chen \n製作實習/影像攝影協助 Production Intern/Video Photography Assistance｜邵彥慈 Yin-Chi Shiu \n演出團隊簡介 \n \n賴翠霜舞創劇場 Lais Creative Dance Theater \n2011年由台新藝術獎第七屆百萬首獎得主，旅德編舞家賴翠霜創立，以開發藝術的多元可能性為宗旨，致力於舞蹈藝術的普及。成立迄今，已廣納來自各領域對舞蹈表演具有高度熱忱及實力的專業人士，每年固定推出全新舞碼。並以客座名義，為國內外舞團及藝術展演單位，編創令人耳目一新的作品，並在舞蹈藝術推廣方面不遺餘力。 \n作品經常是以關懷社會議題為主軸，如家暴、環保或者是老人問題，然而產生創作方向靈感。表現的形式則是多元跨領域，經常運用影像、文字、現場聲音等手法之外，甚至大膽讓舞者有破碎的台詞，更接近劇場的敘事性。用生活化的肢體，創作更貼近人心的作品，這是賴翠霜舞創劇場努力的方向。未來希望以舞蹈劇場的形式，拉近群眾與藝術創作的距離。 \nFounded in 2011 by Tsui-shuang Lai\, a winner of the 7th Taishin Arts Award\, the theater explores the diverse possibilities of art and strives to popularize dance. It includes professionals from various fields\, producing new works annually\, and collaborates with both domestic and international art institutions. \nRecent works include the 2023 biennial production “Equal II” at the National Theater and Concert Hall\, “Dance to the Alley” in Tainan\, and various other performances and collaborations. \n近期創作與演出作品 \n2023 年度雙年製作《百態人.人平等 II》於國家兩廳院實驗劇場演出 \n2023 台南舞蹈劇場地方深耕三年計畫 II《舞到巷弄》於公親寮演出 \n2022 台南舞蹈劇場地方深耕三年計畫 I《漫漫台江》安南地區走三村演出 \n2022 《他們的故事-白晝》受邀衛武營國際舞蹈平台演出 \n2022 年度雙年製作《百態》於台灣藝術大學紙廠美術大工坊演出 \n2022 《Dream me》舞蹈影像製作，於 Accupass 媒體首映，入選香港跳格國際舞蹈影像 \n2021 年度雙年製作《倒影》於戲曲中心演出 \n2021 獲選文化部駐館計畫雙年製作《他們的故事 II》受邀台南藝術節演出 \n  \n \n賴翠霜｜賴翠霜舞創劇場藝術總監．團長 \n畢業於台灣文化大學以及德國福克旺大學。 \n曾擔任北藝大兼任現代舞教師、Colorado College客席舞蹈教師以及各大專院校短期客座教師。 \n曾於德國Folkwang Tanzstudio、蒙斯特市立城市劇院、卡塞爾國家劇院擔任主要獨舞者。 \n2011年創立賴翠霜舞創劇場。 \n  \n在2009年以《囲》這支作品拿下第七屆台新藝術獎首獎以及2022年《清醒夢》影像作品入圍跳格-香港國際舞蹈影像節。 \n  \n曾經客席創作於舞蹈空間、首都芭蕾舞團、組合語言舞團、廖末喜舞蹈劇場、Ormao Dance Copany、Colorado College、 Colget College 邀約、兩廳院委託創作、TIFA、北藝大Dance Cross國際藝術交流、巴黎音樂影像多媒體合作案、美國ACDF藝術節、米蘭國際藝術節、台南藝術節、台灣德國NRW Tanzhaus作品交流、台中歌劇院孵夢計畫、高雄衛武營國際舞蹈平台⋯⋯等等。 \n■成為【舞創種籽之友】，讓舞蹈藝術的美好觸動更多人 \n賴翠霜舞創劇場，自2011年創團以來持續開發藝術多元可能性，演出作品遍佈台北、新北市、台南、台中、高雄、花蓮、德國、美國、比利時、義大利等地，完成多項專業演出、國際交流及素人演出計畫，培育出專業舞蹈人與熱愛舞蹈的素人。我們期許能打造一個廣納各領域對舞蹈表演具高度熱忱與實力的專業表演藝術平台，與台灣國際各方優秀藝術家攜手合作，推廣舞蹈藝術普化及深耕地方，拉近群眾與舞蹈藝術的距離。這是夢想也是使命，誠摯邀請您成為【舞創種籽之友】，支持我們繼續推動舞蹈藝術普及化，讓舞蹈表演的美好能觸動更多人。您可以用任何形式支持我們走得更穩健，如進場支持舞團作品演出、成為臉書粉絲後援、按讚留言分享，若有小額贊助意願，將享有演出票卷折扣與不定期周邊商品贈送，請直接來信吿知小額捐款贊助金額，我們再將提供您匯款資訊與後續優惠內容，感謝您成為舞創種籽之友，有您的支持將是我們未來的希望。 \n未來將推出更明確方式提供支持贊助我們的會員更多的回饋與互動。 \n  \n賴翠霜舞創劇場 Lais Creative Dance Theater \nFacebook粉絲專頁｜https://www.facebook.com/laistanztheater \nInstagram粉絲專頁｜https://www.instagram.com/laiscreativedancetheater/ \nLINE｜https://lin.ee/CXwemnw \n聯絡信箱｜chen.laistanztheater@gmail.com
URL:https://events.mcu.edu.tw/event/%e3%80%8a%e7%8d%a8%e8%87%aa%e8%b7%b3%e8%88%9e-solo-dance%e3%80%8b%e7%ac%ac%e4%b8%80%e5%b1%86%e8%88%9e%e8%b9%88%e5%89%b5%e4%bd%9c%e5%b9%b3%e5%8f%b0%e6%bc%94%e5%87%ba-1st-dance-creation-platform-perform/
LOCATION:寶藏巖國際藝術村\, 中正區汀州路三段230巷14弄2號\, 台北市\, Taiwan
CATEGORIES:ACCUPASS,賴翠霜舞創劇場
ATTACH;FMTTYPE=image/png:https://events.mcu.edu.tw/wp-content/uploads/2024/07/12-1.png
END:VEVENT
END:VCALENDAR